Workbook

Sheet Deckblatt
C3: BILANZIERUNG VON SCOPE 3-EMISSIONEN
C4: Scope 3.5 Abfallaufkommen im Betrieb
C6: Version: | D6: 2.0
C7: Datum: | D7: 45995
C9: Diese Handreichung ist das Ergebnis umfangreicher gemeinsamer Arbeit der am Projekt beteiligten Betreiberunternehmen mit dem Ziel, die Klimabilanzen nach Scope 3 jeweils in den eigenen Organisationen nach einem definierten Standard erstellen und verbessern zu können. Die Ergebnisse sind skalierbar und sollen mit allen Betreiberunternehmen der deutschen Wasserwirtschaft geteilt werden. Sie sollen dazu einladen, diese Standards im eigenen Unternehmen anzuwenden. Durch ein entsprechendes Feedback an die Arbeitsgruppe trägt das zur stetigen Verbesserung und Vereinfachung in der gesamten Branche bei. Die Exceldatei berechnet Emissionen nach Scope 3.5 für das Abfallaufkommen.
C16: KURZANLEITUNG
C18: NUTZUNG DER BERECHNUNGSTABELLE (Bilanz Abwasser & Trinkwasser)
C19: von Arbeitsgruppe vorgegeben: | J19: von Benutzer*innen auszufüllen:
C20: Spalte A bis D | D20: Abfallarten: Die typischen Abfallarten, die bei Unternehmen der Wasserwirtschaft anfallen, wurden in die Tabelle übernommen. Die Angaben Abfallschlüsselnummer, Abfalleigenschaft (gefährlich, nicht gefährlich) und Bezeichnung sind vorgegeben. | J20: Spalte E | K20: Entsorger: Beauftragtes Entsorgungsunternehmen/Abfallbehandlungsanlage zur Ermittlung des Transportwegs
J22: Spalte F | K22: Verwertung/Beseitigung: Auswahl zwischen Verwertung oder Beseitigung zur Zuweisung des Emissionsfaktors (ggf. Unterschied zw. Verwertung und Beseitigung)
C24: Spalte N | D24: EF Transport [kg CO2e/tkm]: Spezifischer Faktor zur Berechnung der Emissionen durch den Transport des Abfalls.
J25: Spalte G | K25: Bemerkungen: Bei Bedarf ausfüllen, z. B. Transport mit eigenen Fahrzeugen
C26: Spalte O | D26: Quelle EF: Herkunft des Emissionsfaktors (Studie etc.) | J26: Spalte H | K26: Jahresabfallmenge: Mengenangabe in Tonne (t), wenn andere Mengeneinheiten vorliegen, müssen diese umgerechnet werden. Empfohlen wird hierzu die Seite:
C27: Spalte Q | D27: EF Behandlung (CO2e/t): Spezifischer Wert zur Berechnung der Emissionen für das angewendete Abfallbehandlungsverfahren
K28: Abfallarten gemäß dem Europäischen Abfallverzeichnis (AVV - Abfallverzeichnis-Verordnung), Umrechnungsfaktoren (bayern.de)
C29: Spalte R | D29: Quelle EF: Herkunft des Emissionsfaktors (Studie etc.)
C30: berechnete Werte: | J30: Spalte J | K30: Anzahl Transporte: gibt an, wie viele Transporte unter der jeweligen AVV-Nummer stattgefunden haben
C31: Spalte K | D31: Menge pro Transport (t): Berechnet über die Gesamtmenge und die Anzahl der Fahrten, die Menge, die pro Strecke transportiert wurde
J32: Spalte L | K32: Transportweg zur Entsorgungsanlage (km): Strecke von der Abfallstelle zur Abfallbehandlungsanlage; Hin- und Rückweg
C33: Spalte P | D33: Emissionen Transport (t CO2 e/a): Berechnung aus der Menge pro Transport des Abfalls, dem Transportweg zur Entsorgungsanlage, dem Emissionsfaktor des Transports und der Anzahl an Transporten
J34: Spalte M | K34: Transportmittel: Auswahl eines Transportmittels zur Zuweisung des Emissionsfaktors für den Transport
C36: Spalte S | D36: Emissionen Behandlung (t CO2 e/a): Berechnung aus der Jahresmenge des Abfalls und dem EF der Behandlung
C38: Spalte T | D38: Emission gesamt (t CO2 e/a): Berechnung der gesamten Emissionen der Abfallentsorgung
C41: BITTE BEACHTEN
C42: Zur Kenntnisnahme | H42: Zu bearbeiten | M42: Nicht zu bearbeiten!
C44: Arbeitsmappen mit blauer Markierung enthalten Hinweise, die lediglich zur Kenntnisnahme dienen und keiner weiteren Bearbeitung bedürfen. | H44: Gelb markierte Arbeitsmappen sind aktiv zu bearbeiten. | M44: Arbeitsmappen in Grau beinhalten alle Listen, die in den gelb eingefärbten Arbeitsmappen als Dropdown-Optionen verwendet werden. Diese sind nicht zur Bearbeitung vorgesehen!
C50: INHALTE DER EXCEL
C51: Bilanz Abwasser | D51: THG-Bilanzierung sortiert nach Abfallschlüsselnummer für Abwasser (Klärschlammberechnung ganz unten)
C52: Bilanz Trinkwasser | D52: THG-Bilanzierung sortiert nach Abfallschlüsselnummer für Trinkwasser
C53: Emissionsfaktoren | D53: Übersicht zu verwendender Emissionfaktoren für die Bilanzierung von Scope 3.5
C54: KrWG Anlage 1-2 | D54: Übersicht Beseitigungs- und Verwertungsverfahren nach Anlage 1 und Anlage 2 KrWG
C56: Farbcodes innerhalb der Tabellen
C57: Eingabe | D57: Eingabe erforderlich
C58: Zwischenergebnis | D58: Teil-Emissionen je Abfallschlüsselnummer
C59: Endergebnis | D59: Gesamt-Emissionen je Abfallschlüsselnummer (Transport und Behandlung/Verwertung)
C60: nicht anpassen | D60: keine Eingabe vornehmen
C62: HAFTUNGSAUSSCHLUSS/NUTZUNG DER ZUR VERFÜGUNGGESTELLTEN UNTERLAGEN
C63: Diese Excel-Datei ist ein Teilergebnis der AG Scope 3. Er stellt eine Fachmeinung dar und dient der allgemeinen Information und nicht der Beratung in konkreten Fällen. Die Mitglieder der Arbeitsgruppe sind bemüht, für die Richtigkeit und Aktualität aller in der Excel-Datei enthaltenen Informationen und Daten zu sorgen. Für die Korrektheit, Vollständigkeit, Aktualität oder Qualität der bereitgestellten Informationen und Daten wird jedoch keine Gewähr übernommen. Die Haftung für den Inhalt der abrufbaren Informationen wird ausgeschlossen, soweit es sich nicht um vorsätzliche oder grob fahrlässige Falschinformation handelt. Copyright: Alle Inhalte diese Excel-Datei, insbesondere Texte, Fotografien und Grafiken sind urheberrechtlich geschützt. Die Anwendung ist den Unternehmen und Organisationen der deutschen Wasserwirtschaft für den Eigenbedarf gestattet. Die Vervielfältigung, Bearbeitung, Verbreitung im Rahmen einer gewerblichen Nutzung bedürfen der schriftlichen Zustimmung.
C70: Download-Link:
C71: https://www.hansewasser.de/unternehmen/scope-3-leitfaden
C73: MITGLIEDER DER PROJEKTGRUPPE

Sheet Bilanz Abwasser
A2: 3.5 Berechnung THG-Emissionen aus Abfallentsorgung
A4: Abfallschlüssel-nummer | B4: Gefährlicher Abfall | C4: Gefährlicher Abfall (Text) | D4: Abfallbezeichnung | E4: Entsorger | F4: Verwertung/ Beseitigung | G4: Bemerkung | H4: Menge (t/a) | I4: Menge Trocken-rückstand (t/a) | J4: Anzahl Transporte | K4: Menge pro Transport (t) | L4: Transportweg zur Entsorgungsanlage Hin und Rückweg (km) | M4: Transportmittel | N4: Emissionsfaktor Transport (kg CO2 eq/tkm) | O4: Quelle Emissionsfaktor Transport | P4: Emissionen Transport (t CO2 eq/a) | Q4: Emissionsfaktor Behandlung (t CO2 eq/t) | R4: Quelle Emissionsfaktor Behandlung | S4: Emissionen Behandlung (t CO2 eq/a) | T4: Emissionen sonstige Abfallentsorgung gesamt (t CO2 eq/a)
A5: 020103 | B5: =IF(MID(A5,7,1)="*","*","") | C5: =IF(B5="*","gefährlich","nicht gefährlich") -> nicht gefährlich | D5: 020103/ Abfälle aus pflanzlichem Gewebe | E5: Musterbeispiel | F5: Verwertung | H5: 10 | J5: 2 | K5: =Tabelle27[[#This Row],[Menge (t/a)]]/Tabelle27[[#This Row],[Anzahl Transporte]] -> 5 | L5: 9 | M5: LKW, EURO5, 7,5-16t | N5: =IFERROR(VLOOKUP(Tabelle27[[#This Row],[Transportmittel]],Emissionsfaktoren!$N$2:$P$11,3,FALSE),"") -> 0.2407 | O5: https://www.hansewasser.de/service/downloads/2024-05_emissionsfaktoren_spezifisch.xlsx | P5: =IFERROR((Tabelle27[[#This Row],[Menge pro Transport (t)]]*Tabelle27[[#This Row],[Transportweg zur Entsorgungsanlage Hin und Rückweg (km)]]*Tabelle27[[#This Row],[Emissionsfaktor Transport (kg CO2 eq/tkm)]]/1000)*Tabelle27[[#This Row],[Anzahl Transporte]],"") -> 0.021663 | Q5: =IF(VLOOKUP(Tabelle27[[#This Row],[Abfallschlüssel-nummer]],Emissionsfaktoren!$A$2:$K$67,MATCH(Tabelle27[[#This Row],[Verwertung/ Beseitigung]],Emissionsfaktoren!$A$1:$K$1,0)+1,FALSE)=0,"",VLOOKUP(Tabelle27[[#This Row],[Abfallschlüssel-nummer]],Emissionsfaktoren!$A$2:$K$67,MATCH(Tabelle27[[#This Row],[Verwertung/ Beseitigung]],Emissionsfaktoren!$A$1:$K$1,0)+1,FALSE)) -> 0.147 | R5: =IF(VLOOKUP(Tabelle27[[#This Row],[Abfallschlüssel-nummer]],Emissionsfaktoren!$A$2:$K$67,MATCH(Tabelle27[[#This Row],[Verwertung/ Beseitigung]],Emissionsfaktoren!$A$1:$K$1,0)+2,FALSE)=0,"",VLOOKUP(Tabelle27[[#This Row],[Abfallschlüssel-nummer]],Emissionsfaktoren!$A$2:$K$67,MATCH(Tabelle27[[#This Row],[Verwertung/ Beseitigung]],Emissionsfaktoren!$A$1:$K$1,0)+2,FALSE)) -> https://www.hansewasser.de/service/downloads/2024-05_emissionsfaktoren_spezifisch.xlsx | S5: =IFERROR(Tabelle27[[#This Row],[Menge (t/a)]]*Tabelle27[[#This Row],[Emissionsfaktor Behandlung (t CO2 eq/t)]],"") -> 1.47 | T5: =IF(Tabelle27[[#This Row],[Emissionen Behandlung (t CO2 eq/a)]]="",0,Tabelle27[[#This Row],[Emissionen Behandlung (t CO2 eq/a)]])+IF(Tabelle27[[#This Row],[Emissionen Transport (t CO2 eq/a)]]="",0,Tabelle27[[#This Row],[Emissionen Transport (t CO2 eq/a)]]) -> 1.491663
A6: 020110 | B6: =IF(MID(A6,7,1)="*","*","") | C6: =IF(B6="*","gefährlich","nicht gefährlich") -> nicht gefährlich | D6: 020110/ Metallabfälle | K6: =IFERROR(Tabelle27[[#This Row],[Menge (t/a)]]/Tabelle27[[#This Row],[Anzahl Transporte]],"") | N6: =IFERROR(VLOOKUP(Tabelle27[[#This Row],[Transportmittel]],Emissionsfaktoren!$N$2:$P$11,3,FALSE),"") | O6: https://www.hansewasser.de/service/downloads/2024-05_emissionsfaktoren_spezifisch.xlsx | P6: =IFERROR((Tabelle27[[#This Row],[Menge pro Transport (t)]]*Tabelle27[[#This Row],[Transportweg zur Entsorgungsanlage Hin und Rückweg (km)]]*Tabelle27[[#This Row],[Emissionsfaktor Transport (kg CO2 eq/tkm)]]/1000)*Tabelle27[[#This Row],[Anzahl Transporte]],"") | Q6: =IF(VLOOKUP(Tabelle27[[#This Row],[Abfallschlüssel-nummer]],Emissionsfaktoren!$A$2:$K$67,MATCH(Tabelle27[[#This Row],[Verwertung/ Beseitigung]],Emissionsfaktoren!$A$1:$K$1,0)+1,FALSE)=0,"",VLOOKUP(Tabelle27[[#This Row],[Abfallschlüssel-nummer]],Emissionsfaktoren!$A$2:$K$67,MATCH(Tabelle27[[#This Row],[Verwertung/ Beseitigung]],Emissionsfaktoren!$A$1:$K$1,0)+1,FALSE)) -> #N/A | R6: =IF(VLOOKUP(Tabelle27[[#This Row],[Abfallschlüssel-nummer]],Emissionsfaktoren!$A$2:$K$67,MATCH(Tabelle27[[#This Row],[Verwertung/ Beseitigung]],Emissionsfaktoren!$A$1:$K$1,0)+2,FALSE)=0,"",VLOOKUP(Tabelle27[[#This Row],[Abfallschlüssel-nummer]],Emissionsfaktoren!$A$2:$K$67,MATCH(Tabelle27[[#This Row],[Verwertung/ Beseitigung]],Emissionsfaktoren!$A$1:$K$1,0)+2,FALSE)) -> #N/A | S6: =IFERROR(Tabelle27[[#This Row],[Menge (t/a)]]*Tabelle27[[#This Row],[Emissionsfaktor Behandlung (t CO2 eq/t)]],"") | T6: =IF(Tabelle27[[#This Row],[Emissionen Behandlung (t CO2 eq/a)]]="",0,Tabelle27[[#This Row],[Emissionen Behandlung (t CO2 eq/a)]])+IF(Tabelle27[[#This Row],[Emissionen Transport (t CO2 eq/a)]]="",0,Tabelle27[[#This Row],[Emissionen Transport (t CO2 eq/a)]]) -> 0
A7: 020204 | B7: =IF(MID(A7,7,1)="*","*","") | C7: =IF(B7="*","gefährlich","nicht gefährlich") -> nicht gefährlich | D7: 020204/ Schlämme aus der betriebseigenen Abwasserbehandlung | K7: =IFERROR(Tabelle27[[#This Row],[Menge (t/a)]]/Tabelle27[[#This Row],[Anzahl Transporte]],"") | N7: =IFERROR(VLOOKUP(Tabelle27[[#This Row],[Transportmittel]],Emissionsfaktoren!$N$2:$P$11,3,FALSE),"") | O7: https://www.hansewasser.de/service/downloads/2024-05_emissionsfaktoren_spezifisch.xlsx | P7: =IFERROR((Tabelle27[[#This Row],[Menge pro Transport (t)]]*Tabelle27[[#This Row],[Transportweg zur Entsorgungsanlage Hin und Rückweg (km)]]*Tabelle27[[#This Row],[Emissionsfaktor Transport (kg CO2 eq/tkm)]]/1000)*Tabelle27[[#This Row],[Anzahl Transporte]],"") | Q7: =IF(VLOOKUP(Tabelle27[[#This Row],[Abfallschlüssel-nummer]],Emissionsfaktoren!$A$2:$K$67,MATCH(Tabelle27[[#This Row],[Verwertung/ Beseitigung]],Emissionsfaktoren!$A$1:$K$1,0)+1,FALSE)=0,"",VLOOKUP(Tabelle27[[#This Row],[Abfallschlüssel-nummer]],Emissionsfaktoren!$A$2:$K$67,MATCH(Tabelle27[[#This Row],[Verwertung/ Beseitigung]],Emissionsfaktoren!$A$1:$K$1,0)+1,FALSE)) -> #N/A | R7: =IF(VLOOKUP(Tabelle27[[#This Row],[Abfallschlüssel-nummer]],Emissionsfaktoren!$A$2:$K$67,MATCH(Tabelle27[[#This Row],[Verwertung/ Beseitigung]],Emissionsfaktoren!$A$1:$K$1,0)+2,FALSE)=0,"",VLOOKUP(Tabelle27[[#This Row],[Abfallschlüssel-nummer]],Emissionsfaktoren!$A$2:$K$67,MATCH(Tabelle27[[#This Row],[Verwertung/ Beseitigung]],Emissionsfaktoren!$A$1:$K$1,0)+2,FALSE)) -> #N/A | S7: =IFERROR(Tabelle27[[#This Row],[Menge (t/a)]]*Tabelle27[[#This Row],[Emissionsfaktor Behandlung (t CO2 eq/t)]],"") | T7: =IF(Tabelle27[[#This Row],[Emissionen Behandlung (t CO2 eq/a)]]="",0,Tabelle27[[#This Row],[Emissionen Behandlung (t CO2 eq/a)]])+IF(Tabelle27[[#This Row],[Emissionen Transport (t CO2 eq/a)]]="",0,Tabelle27[[#This Row],[Emissionen Transport (t CO2 eq/a)]]) -> 0
A8: 060106* | B8: =IF(MID(A8,7,1)="*","*","") -> * | C8: =IF(B8="*","gefährlich","nicht gefährlich") -> gefährlich | D8: 060106*/ andere Säuren | K8: =IFERROR(Tabelle27[[#This Row],[Menge (t/a)]]/Tabelle27[[#This Row],[Anzahl Transporte]],"") | N8: =IFERROR(VLOOKUP(Tabelle27[[#This Row],[Transportmittel]],Emissionsfaktoren!$N$2:$P$11,3,FALSE),"") | O8: https://www.hansewasser.de/service/downloads/2024-05_emissionsfaktoren_spezifisch.xlsx | P8: =IFERROR((Tabelle27[[#This Row],[Menge pro Transport (t)]]*Tabelle27[[#This Row],[Transportweg zur Entsorgungsanlage Hin und Rückweg (km)]]*Tabelle27[[#This Row],[Emissionsfaktor Transport (kg CO2 eq/tkm)]]/1000)*Tabelle27[[#This Row],[Anzahl Transporte]],"") | Q8: =IF(VLOOKUP(Tabelle27[[#This Row],[Abfallschlüssel-nummer]],Emissionsfaktoren!$A$2:$K$67,MATCH(Tabelle27[[#This Row],[Verwertung/ Beseitigung]],Emissionsfaktoren!$A$1:$K$1,0)+1,FALSE)=0,"",VLOOKUP(Tabelle27[[#This Row],[Abfallschlüssel-nummer]],Emissionsfaktoren!$A$2:$K$67,MATCH(Tabelle27[[#This Row],[Verwertung/ Beseitigung]],Emissionsfaktoren!$A$1:$K$1,0)+1,FALSE)) -> #N/A | R8: =IF(VLOOKUP(Tabelle27[[#This Row],[Abfallschlüssel-nummer]],Emissionsfaktoren!$A$2:$K$67,MATCH(Tabelle27[[#This Row],[Verwertung/ Beseitigung]],Emissionsfaktoren!$A$1:$K$1,0)+2,FALSE)=0,"",VLOOKUP(Tabelle27[[#This Row],[Abfallschlüssel-nummer]],Emissionsfaktoren!$A$2:$K$67,MATCH(Tabelle27[[#This Row],[Verwertung/ Beseitigung]],Emissionsfaktoren!$A$1:$K$1,0)+2,FALSE)) -> #N/A | S8: =IFERROR(Tabelle27[[#This Row],[Menge (t/a)]]*Tabelle27[[#This Row],[Emissionsfaktor Behandlung (t CO2 eq/t)]],"") | T8: =IF(Tabelle27[[#This Row],[Emissionen Behandlung (t CO2 eq/a)]]="",0,Tabelle27[[#This Row],[Emissionen Behandlung (t CO2 eq/a)]])+IF(Tabelle27[[#This Row],[Emissionen Transport (t CO2 eq/a)]]="",0,Tabelle27[[#This Row],[Emissionen Transport (t CO2 eq/a)]]) -> 0
A9: 060404* | B9: =IF(MID(A9,7,1)="*","*","") -> * | C9: =IF(B9="*","gefährlich","nicht gefährlich") -> gefährlich | D9: 060404*/ quecksilberhaltige Abfälle | K9: =IFERROR(Tabelle27[[#This Row],[Menge (t/a)]]/Tabelle27[[#This Row],[Anzahl Transporte]],"") | N9: =IFERROR(VLOOKUP(Tabelle27[[#This Row],[Transportmittel]],Emissionsfaktoren!$N$2:$P$11,3,FALSE),"") | O9: https://www.hansewasser.de/service/downloads/2024-05_emissionsfaktoren_spezifisch.xlsx | P9: =IFERROR((Tabelle27[[#This Row],[Menge pro Transport (t)]]*Tabelle27[[#This Row],[Transportweg zur Entsorgungsanlage Hin und Rückweg (km)]]*Tabelle27[[#This Row],[Emissionsfaktor Transport (kg CO2 eq/tkm)]]/1000)*Tabelle27[[#This Row],[Anzahl Transporte]],"") | Q9: =IF(VLOOKUP(Tabelle27[[#This Row],[Abfallschlüssel-nummer]],Emissionsfaktoren!$A$2:$K$67,MATCH(Tabelle27[[#This Row],[Verwertung/ Beseitigung]],Emissionsfaktoren!$A$1:$K$1,0)+1,FALSE)=0,"",VLOOKUP(Tabelle27[[#This Row],[Abfallschlüssel-nummer]],Emissionsfaktoren!$A$2:$K$67,MATCH(Tabelle27[[#This Row],[Verwertung/ Beseitigung]],Emissionsfaktoren!$A$1:$K$1,0)+1,FALSE)) -> #N/A | R9: =IF(VLOOKUP(Tabelle27[[#This Row],[Abfallschlüssel-nummer]],Emissionsfaktoren!$A$2:$K$67,MATCH(Tabelle27[[#This Row],[Verwertung/ Beseitigung]],Emissionsfaktoren!$A$1:$K$1,0)+2,FALSE)=0,"",VLOOKUP(Tabelle27[[#This Row],[Abfallschlüssel-nummer]],Emissionsfaktoren!$A$2:$K$67,MATCH(Tabelle27[[#This Row],[Verwertung/ Beseitigung]],Emissionsfaktoren!$A$1:$K$1,0)+2,FALSE)) -> #N/A | S9: =IFERROR(Tabelle27[[#This Row],[Menge (t/a)]]*Tabelle27[[#This Row],[Emissionsfaktor Behandlung (t CO2 eq/t)]],"") | T9: =IF(Tabelle27[[#This Row],[Emissionen Behandlung (t CO2 eq/a)]]="",0,Tabelle27[[#This Row],[Emissionen Behandlung (t CO2 eq/a)]])+IF(Tabelle27[[#This Row],[Emissionen Transport (t CO2 eq/a)]]="",0,Tabelle27[[#This Row],[Emissionen Transport (t CO2 eq/a)]]) -> 0
A10: 080111* | B10: =IF(MID(A10,7,1)="*","*","") -> * | C10: =IF(B10="*","gefährlich","nicht gefährlich") -> gefährlich | D10: 080111*/ Farb- und Lackabfälle, die organische Lösemittel oder andere gefährliche Stoffe enthalten | K10: =IFERROR(Tabelle27[[#This Row],[Menge (t/a)]]/Tabelle27[[#This Row],[Anzahl Transporte]],"") | N10: =IFERROR(VLOOKUP(Tabelle27[[#This Row],[Transportmittel]],Emissionsfaktoren!$N$2:$P$11,3,FALSE),"") | O10: https://www.hansewasser.de/service/downloads/2024-05_emissionsfaktoren_spezifisch.xlsx | P10: =IFERROR((Tabelle27[[#This Row],[Menge pro Transport (t)]]*Tabelle27[[#This Row],[Transportweg zur Entsorgungsanlage Hin und Rückweg (km)]]*Tabelle27[[#This Row],[Emissionsfaktor Transport (kg CO2 eq/tkm)]]/1000)*Tabelle27[[#This Row],[Anzahl Transporte]],"") | Q10: =IF(VLOOKUP(Tabelle27[[#This Row],[Abfallschlüssel-nummer]],Emissionsfaktoren!$A$2:$K$67,MATCH(Tabelle27[[#This Row],[Verwertung/ Beseitigung]],Emissionsfaktoren!$A$1:$K$1,0)+1,FALSE)=0,"",VLOOKUP(Tabelle27[[#This Row],[Abfallschlüssel-nummer]],Emissionsfaktoren!$A$2:$K$67,MATCH(Tabelle27[[#This Row],[Verwertung/ Beseitigung]],Emissionsfaktoren!$A$1:$K$1,0)+1,FALSE)) -> #N/A | R10: =IF(VLOOKUP(Tabelle27[[#This Row],[Abfallschlüssel-nummer]],Emissionsfaktoren!$A$2:$K$67,MATCH(Tabelle27[[#This Row],[Verwertung/ Beseitigung]],Emissionsfaktoren!$A$1:$K$1,0)+2,FALSE)=0,"",VLOOKUP(Tabelle27[[#This Row],[Abfallschlüssel-nummer]],Emissionsfaktoren!$A$2:$K$67,MATCH(Tabelle27[[#This Row],[Verwertung/ Beseitigung]],Emissionsfaktoren!$A$1:$K$1,0)+2,FALSE)) -> #N/A | S10: =IFERROR(Tabelle27[[#This Row],[Menge (t/a)]]*Tabelle27[[#This Row],[Emissionsfaktor Behandlung (t CO2 eq/t)]],"") | T10: =IF(Tabelle27[[#This Row],[Emissionen Behandlung (t CO2 eq/a)]]="",0,Tabelle27[[#This Row],[Emissionen Behandlung (t CO2 eq/a)]])+IF(Tabelle27[[#This Row],[Emissionen Transport (t CO2 eq/a)]]="",0,Tabelle27[[#This Row],[Emissionen Transport (t CO2 eq/a)]]) -> 0
A11: 080117* | B11: =IF(MID(A11,7,1)="*","*","") -> * | C11: =IF(B11="*","gefährlich","nicht gefährlich") -> gefährlich | D11: 080117*/ Abfälle aus der Farb- oder Lackentfernung, die organische Lösemittel oder andere gefährliche Stoffe enthalten | K11: =IFERROR(Tabelle27[[#This Row],[Menge (t/a)]]/Tabelle27[[#This Row],[Anzahl Transporte]],"") | N11: =IFERROR(VLOOKUP(Tabelle27[[#This Row],[Transportmittel]],Emissionsfaktoren!$N$2:$P$11,3,FALSE),"") | O11: https://www.hansewasser.de/service/downloads/2024-05_emissionsfaktoren_spezifisch.xlsx | P11: =IFERROR((Tabelle27[[#This Row],[Menge pro Transport (t)]]*Tabelle27[[#This Row],[Transportweg zur Entsorgungsanlage Hin und Rückweg (km)]]*Tabelle27[[#This Row],[Emissionsfaktor Transport (kg CO2 eq/tkm)]]/1000)*Tabelle27[[#This Row],[Anzahl Transporte]],"") | Q11: =IF(VLOOKUP(Tabelle27[[#This Row],[Abfallschlüssel-nummer]],Emissionsfaktoren!$A$2:$K$67,MATCH(Tabelle27[[#This Row],[Verwertung/ Beseitigung]],Emissionsfaktoren!$A$1:$K$1,0)+1,FALSE)=0,"",VLOOKUP(Tabelle27[[#This Row],[Abfallschlüssel-nummer]],Emissionsfaktoren!$A$2:$K$67,MATCH(Tabelle27[[#This Row],[Verwertung/ Beseitigung]],Emissionsfaktoren!$A$1:$K$1,0)+1,FALSE)) -> #N/A | R11: =IF(VLOOKUP(Tabelle27[[#This Row],[Abfallschlüssel-nummer]],Emissionsfaktoren!$A$2:$K$67,MATCH(Tabelle27[[#This Row],[Verwertung/ Beseitigung]],Emissionsfaktoren!$A$1:$K$1,0)+2,FALSE)=0,"",VLOOKUP(Tabelle27[[#This Row],[Abfallschlüssel-nummer]],Emissionsfaktoren!$A$2:$K$67,MATCH(Tabelle27[[#This Row],[Verwertung/ Beseitigung]],Emissionsfaktoren!$A$1:$K$1,0)+2,FALSE)) -> #N/A | S11: =IFERROR(Tabelle27[[#This Row],[Menge (t/a)]]*Tabelle27[[#This Row],[Emissionsfaktor Behandlung (t CO2 eq/t)]],"") | T11: =IF(Tabelle27[[#This Row],[Emissionen Behandlung (t CO2 eq/a)]]="",0,Tabelle27[[#This Row],[Emissionen Behandlung (t CO2 eq/a)]])+IF(Tabelle27[[#This Row],[Emissionen Transport (t CO2 eq/a)]]="",0,Tabelle27[[#This Row],[Emissionen Transport (t CO2 eq/a)]]) -> 0
A12: 101112 | B12: =IF(MID(A12,7,1)="*","*","") | C12: =IF(B12="*","gefährlich","nicht gefährlich") -> nicht gefährlich | D12: 101112/ Glasabfall mit Ausnahme desjenigen, der unter 10 11 11 fällt | K12: =IFERROR(Tabelle27[[#This Row],[Menge (t/a)]]/Tabelle27[[#This Row],[Anzahl Transporte]],"") | N12: =IFERROR(VLOOKUP(Tabelle27[[#This Row],[Transportmittel]],Emissionsfaktoren!$N$2:$P$11,3,FALSE),"") | O12: https://www.hansewasser.de/service/downloads/2024-05_emissionsfaktoren_spezifisch.xlsx | P12: =IFERROR((Tabelle27[[#This Row],[Menge pro Transport (t)]]*Tabelle27[[#This Row],[Transportweg zur Entsorgungsanlage Hin und Rückweg (km)]]*Tabelle27[[#This Row],[Emissionsfaktor Transport (kg CO2 eq/tkm)]]/1000)*Tabelle27[[#This Row],[Anzahl Transporte]],"") | Q12: =IF(VLOOKUP(Tabelle27[[#This Row],[Abfallschlüssel-nummer]],Emissionsfaktoren!$A$2:$K$67,MATCH(Tabelle27[[#This Row],[Verwertung/ Beseitigung]],Emissionsfaktoren!$A$1:$K$1,0)+1,FALSE)=0,"",VLOOKUP(Tabelle27[[#This Row],[Abfallschlüssel-nummer]],Emissionsfaktoren!$A$2:$K$67,MATCH(Tabelle27[[#This Row],[Verwertung/ Beseitigung]],Emissionsfaktoren!$A$1:$K$1,0)+1,FALSE)) -> #N/A | R12: =IF(VLOOKUP(Tabelle27[[#This Row],[Abfallschlüssel-nummer]],Emissionsfaktoren!$A$2:$K$67,MATCH(Tabelle27[[#This Row],[Verwertung/ Beseitigung]],Emissionsfaktoren!$A$1:$K$1,0)+2,FALSE)=0,"",VLOOKUP(Tabelle27[[#This Row],[Abfallschlüssel-nummer]],Emissionsfaktoren!$A$2:$K$67,MATCH(Tabelle27[[#This Row],[Verwertung/ Beseitigung]],Emissionsfaktoren!$A$1:$K$1,0)+2,FALSE)) -> #N/A | S12: =IFERROR(Tabelle27[[#This Row],[Menge (t/a)]]*Tabelle27[[#This Row],[Emissionsfaktor Behandlung (t CO2 eq/t)]],"") | T12: =IF(Tabelle27[[#This Row],[Emissionen Behandlung (t CO2 eq/a)]]="",0,Tabelle27[[#This Row],[Emissionen Behandlung (t CO2 eq/a)]])+IF(Tabelle27[[#This Row],[Emissionen Transport (t CO2 eq/a)]]="",0,Tabelle27[[#This Row],[Emissionen Transport (t CO2 eq/a)]]) -> 0
A13: 110198* | B13: =IF(MID(A13,7,1)="*","*","") -> * | C13: =IF(B13="*","gefährlich","nicht gefährlich") -> gefährlich | D13: 110198*/ andere Abfälle, die gefährliche Stoffe enthalten | K13: =IFERROR(Tabelle27[[#This Row],[Menge (t/a)]]/Tabelle27[[#This Row],[Anzahl Transporte]],"") | N13: =IFERROR(VLOOKUP(Tabelle27[[#This Row],[Transportmittel]],Emissionsfaktoren!$N$2:$P$11,3,FALSE),"") | O13: https://www.hansewasser.de/service/downloads/2024-05_emissionsfaktoren_spezifisch.xlsx | P13: =IFERROR((Tabelle27[[#This Row],[Menge pro Transport (t)]]*Tabelle27[[#This Row],[Transportweg zur Entsorgungsanlage Hin und Rückweg (km)]]*Tabelle27[[#This Row],[Emissionsfaktor Transport (kg CO2 eq/tkm)]]/1000)*Tabelle27[[#This Row],[Anzahl Transporte]],"") | Q13: =IF(VLOOKUP(Tabelle27[[#This Row],[Abfallschlüssel-nummer]],Emissionsfaktoren!$A$2:$K$67,MATCH(Tabelle27[[#This Row],[Verwertung/ Beseitigung]],Emissionsfaktoren!$A$1:$K$1,0)+1,FALSE)=0,"",VLOOKUP(Tabelle27[[#This Row],[Abfallschlüssel-nummer]],Emissionsfaktoren!$A$2:$K$67,MATCH(Tabelle27[[#This Row],[Verwertung/ Beseitigung]],Emissionsfaktoren!$A$1:$K$1,0)+1,FALSE)) -> #N/A | R13: =IF(VLOOKUP(Tabelle27[[#This Row],[Abfallschlüssel-nummer]],Emissionsfaktoren!$A$2:$K$67,MATCH(Tabelle27[[#This Row],[Verwertung/ Beseitigung]],Emissionsfaktoren!$A$1:$K$1,0)+2,FALSE)=0,"",VLOOKUP(Tabelle27[[#This Row],[Abfallschlüssel-nummer]],Emissionsfaktoren!$A$2:$K$67,MATCH(Tabelle27[[#This Row],[Verwertung/ Beseitigung]],Emissionsfaktoren!$A$1:$K$1,0)+2,FALSE)) -> #N/A | S13: =IFERROR(Tabelle27[[#This Row],[Menge (t/a)]]*Tabelle27[[#This Row],[Emissionsfaktor Behandlung (t CO2 eq/t)]],"") | T13: =IF(Tabelle27[[#This Row],[Emissionen Behandlung (t CO2 eq/a)]]="",0,Tabelle27[[#This Row],[Emissionen Behandlung (t CO2 eq/a)]])+IF(Tabelle27[[#This Row],[Emissionen Transport (t CO2 eq/a)]]="",0,Tabelle27[[#This Row],[Emissionen Transport (t CO2 eq/a)]]) -> 0
A14: 120105 | B14: =IF(MID(A14,7,1)="*","*","") | C14: =IF(B14="*","gefährlich","nicht gefährlich") -> nicht gefährlich | D14: 120105/ Kunststoffspäne und Drehspäne | K14: =IFERROR(Tabelle27[[#This Row],[Menge (t/a)]]/Tabelle27[[#This Row],[Anzahl Transporte]],"") | N14: =IFERROR(VLOOKUP(Tabelle27[[#This Row],[Transportmittel]],Emissionsfaktoren!$N$2:$P$11,3,FALSE),"") | O14: https://www.hansewasser.de/service/downloads/2024-05_emissionsfaktoren_spezifisch.xlsx | P14: =IFERROR((Tabelle27[[#This Row],[Menge pro Transport (t)]]*Tabelle27[[#This Row],[Transportweg zur Entsorgungsanlage Hin und Rückweg (km)]]*Tabelle27[[#This Row],[Emissionsfaktor Transport (kg CO2 eq/tkm)]]/1000)*Tabelle27[[#This Row],[Anzahl Transporte]],"") | Q14: =IF(VLOOKUP(Tabelle27[[#This Row],[Abfallschlüssel-nummer]],Emissionsfaktoren!$A$2:$K$67,MATCH(Tabelle27[[#This Row],[Verwertung/ Beseitigung]],Emissionsfaktoren!$A$1:$K$1,0)+1,FALSE)=0,"",VLOOKUP(Tabelle27[[#This Row],[Abfallschlüssel-nummer]],Emissionsfaktoren!$A$2:$K$67,MATCH(Tabelle27[[#This Row],[Verwertung/ Beseitigung]],Emissionsfaktoren!$A$1:$K$1,0)+1,FALSE)) -> #N/A | R14: =IF(VLOOKUP(Tabelle27[[#This Row],[Abfallschlüssel-nummer]],Emissionsfaktoren!$A$2:$K$67,MATCH(Tabelle27[[#This Row],[Verwertung/ Beseitigung]],Emissionsfaktoren!$A$1:$K$1,0)+2,FALSE)=0,"",VLOOKUP(Tabelle27[[#This Row],[Abfallschlüssel-nummer]],Emissionsfaktoren!$A$2:$K$67,MATCH(Tabelle27[[#This Row],[Verwertung/ Beseitigung]],Emissionsfaktoren!$A$1:$K$1,0)+2,FALSE)) -> #N/A | S14: =IFERROR(Tabelle27[[#This Row],[Menge (t/a)]]*Tabelle27[[#This Row],[Emissionsfaktor Behandlung (t CO2 eq/t)]],"") | T14: =IF(Tabelle27[[#This Row],[Emissionen Behandlung (t CO2 eq/a)]]="",0,Tabelle27[[#This Row],[Emissionen Behandlung (t CO2 eq/a)]])+IF(Tabelle27[[#This Row],[Emissionen Transport (t CO2 eq/a)]]="",0,Tabelle27[[#This Row],[Emissionen Transport (t CO2 eq/a)]]) -> 0
A15: 120109* | B15: =IF(MID(A15,7,1)="*","*","") -> * | C15: =IF(B15="*","gefährlich","nicht gefährlich") -> gefährlich | D15: 120109*/ halogenfreie Bearbeitungsemulsionen und -lösungen | K15: =IFERROR(Tabelle27[[#This Row],[Menge (t/a)]]/Tabelle27[[#This Row],[Anzahl Transporte]],"") | N15: =IFERROR(VLOOKUP(Tabelle27[[#This Row],[Transportmittel]],Emissionsfaktoren!$N$2:$P$11,3,FALSE),"") | O15: https://www.hansewasser.de/service/downloads/2024-05_emissionsfaktoren_spezifisch.xlsx | P15: =IFERROR((Tabelle27[[#This Row],[Menge pro Transport (t)]]*Tabelle27[[#This Row],[Transportweg zur Entsorgungsanlage Hin und Rückweg (km)]]*Tabelle27[[#This Row],[Emissionsfaktor Transport (kg CO2 eq/tkm)]]/1000)*Tabelle27[[#This Row],[Anzahl Transporte]],"") | Q15: =IF(VLOOKUP(Tabelle27[[#This Row],[Abfallschlüssel-nummer]],Emissionsfaktoren!$A$2:$K$67,MATCH(Tabelle27[[#This Row],[Verwertung/ Beseitigung]],Emissionsfaktoren!$A$1:$K$1,0)+1,FALSE)=0,"",VLOOKUP(Tabelle27[[#This Row],[Abfallschlüssel-nummer]],Emissionsfaktoren!$A$2:$K$67,MATCH(Tabelle27[[#This Row],[Verwertung/ Beseitigung]],Emissionsfaktoren!$A$1:$K$1,0)+1,FALSE)) -> #N/A | R15: =IF(VLOOKUP(Tabelle27[[#This Row],[Abfallschlüssel-nummer]],Emissionsfaktoren!$A$2:$K$67,MATCH(Tabelle27[[#This Row],[Verwertung/ Beseitigung]],Emissionsfaktoren!$A$1:$K$1,0)+2,FALSE)=0,"",VLOOKUP(Tabelle27[[#This Row],[Abfallschlüssel-nummer]],Emissionsfaktoren!$A$2:$K$67,MATCH(Tabelle27[[#This Row],[Verwertung/ Beseitigung]],Emissionsfaktoren!$A$1:$K$1,0)+2,FALSE)) -> #N/A | S15: =IFERROR(Tabelle27[[#This Row],[Menge (t/a)]]*Tabelle27[[#This Row],[Emissionsfaktor Behandlung (t CO2 eq/t)]],"") | T15: =IF(Tabelle27[[#This Row],[Emissionen Behandlung (t CO2 eq/a)]]="",0,Tabelle27[[#This Row],[Emissionen Behandlung (t CO2 eq/a)]])+IF(Tabelle27[[#This Row],[Emissionen Transport (t CO2 eq/a)]]="",0,Tabelle27[[#This Row],[Emissionen Transport (t CO2 eq/a)]]) -> 0
A16: 120112* | B16: =IF(MID(A16,7,1)="*","*","") -> * | C16: =IF(B16="*","gefährlich","nicht gefährlich") -> gefährlich | D16: 120112*/ Gebrauchte Wachse und Fette | K16: =IFERROR(Tabelle27[[#This Row],[Menge (t/a)]]/Tabelle27[[#This Row],[Anzahl Transporte]],"") | N16: =IFERROR(VLOOKUP(Tabelle27[[#This Row],[Transportmittel]],Emissionsfaktoren!$N$2:$P$11,3,FALSE),"") | O16: https://www.hansewasser.de/service/downloads/2024-05_emissionsfaktoren_spezifisch.xlsx | P16: =IFERROR((Tabelle27[[#This Row],[Menge pro Transport (t)]]*Tabelle27[[#This Row],[Transportweg zur Entsorgungsanlage Hin und Rückweg (km)]]*Tabelle27[[#This Row],[Emissionsfaktor Transport (kg CO2 eq/tkm)]]/1000)*Tabelle27[[#This Row],[Anzahl Transporte]],"") | Q16: =IF(VLOOKUP(Tabelle27[[#This Row],[Abfallschlüssel-nummer]],Emissionsfaktoren!$A$2:$K$67,MATCH(Tabelle27[[#This Row],[Verwertung/ Beseitigung]],Emissionsfaktoren!$A$1:$K$1,0)+1,FALSE)=0,"",VLOOKUP(Tabelle27[[#This Row],[Abfallschlüssel-nummer]],Emissionsfaktoren!$A$2:$K$67,MATCH(Tabelle27[[#This Row],[Verwertung/ Beseitigung]],Emissionsfaktoren!$A$1:$K$1,0)+1,FALSE)) -> #N/A | R16: =IF(VLOOKUP(Tabelle27[[#This Row],[Abfallschlüssel-nummer]],Emissionsfaktoren!$A$2:$K$67,MATCH(Tabelle27[[#This Row],[Verwertung/ Beseitigung]],Emissionsfaktoren!$A$1:$K$1,0)+2,FALSE)=0,"",VLOOKUP(Tabelle27[[#This Row],[Abfallschlüssel-nummer]],Emissionsfaktoren!$A$2:$K$67,MATCH(Tabelle27[[#This Row],[Verwertung/ Beseitigung]],Emissionsfaktoren!$A$1:$K$1,0)+2,FALSE)) -> #N/A | S16: =IFERROR(Tabelle27[[#This Row],[Menge (t/a)]]*Tabelle27[[#This Row],[Emissionsfaktor Behandlung (t CO2 eq/t)]],"") | T16: =IF(Tabelle27[[#This Row],[Emissionen Behandlung (t CO2 eq/a)]]="",0,Tabelle27[[#This Row],[Emissionen Behandlung (t CO2 eq/a)]])+IF(Tabelle27[[#This Row],[Emissionen Transport (t CO2 eq/a)]]="",0,Tabelle27[[#This Row],[Emissionen Transport (t CO2 eq/a)]]) -> 0
A17: 130205* | B17: * | C17: =IF(B17="*","gefährlich","nicht gefährlich") -> gefährlich | D17: 130205*/ nichtchlorierte Maschinen-, Getriebe- und Schmieröle auf Mineralölbasis | K17: =IFERROR(Tabelle27[[#This Row],[Menge (t/a)]]/Tabelle27[[#This Row],[Anzahl Transporte]],"") | N17: =IFERROR(VLOOKUP(Tabelle27[[#This Row],[Transportmittel]],Emissionsfaktoren!$N$2:$P$11,3,FALSE),"") | O17: https://www.hansewasser.de/service/downloads/2024-05_emissionsfaktoren_spezifisch.xlsx | P17: =IFERROR((Tabelle27[[#This Row],[Menge pro Transport (t)]]*Tabelle27[[#This Row],[Transportweg zur Entsorgungsanlage Hin und Rückweg (km)]]*Tabelle27[[#This Row],[Emissionsfaktor Transport (kg CO2 eq/tkm)]]/1000)*Tabelle27[[#This Row],[Anzahl Transporte]],"") | Q17: =IF(VLOOKUP(Tabelle27[[#This Row],[Abfallschlüssel-nummer]],Emissionsfaktoren!$A$2:$K$67,MATCH(Tabelle27[[#This Row],[Verwertung/ Beseitigung]],Emissionsfaktoren!$A$1:$K$1,0)+1,FALSE)=0,"",VLOOKUP(Tabelle27[[#This Row],[Abfallschlüssel-nummer]],Emissionsfaktoren!$A$2:$K$67,MATCH(Tabelle27[[#This Row],[Verwertung/ Beseitigung]],Emissionsfaktoren!$A$1:$K$1,0)+1,FALSE)) -> #N/A | R17: =IF(VLOOKUP(Tabelle27[[#This Row],[Abfallschlüssel-nummer]],Emissionsfaktoren!$A$2:$K$67,MATCH(Tabelle27[[#This Row],[Verwertung/ Beseitigung]],Emissionsfaktoren!$A$1:$K$1,0)+2,FALSE)=0,"",VLOOKUP(Tabelle27[[#This Row],[Abfallschlüssel-nummer]],Emissionsfaktoren!$A$2:$K$67,MATCH(Tabelle27[[#This Row],[Verwertung/ Beseitigung]],Emissionsfaktoren!$A$1:$K$1,0)+2,FALSE)) -> #N/A | S17: =IFERROR(Tabelle27[[#This Row],[Menge (t/a)]]*Tabelle27[[#This Row],[Emissionsfaktor Behandlung (t CO2 eq/t)]],"") | T17: =IF(Tabelle27[[#This Row],[Emissionen Behandlung (t CO2 eq/a)]]="",0,Tabelle27[[#This Row],[Emissionen Behandlung (t CO2 eq/a)]])+IF(Tabelle27[[#This Row],[Emissionen Transport (t CO2 eq/a)]]="",0,Tabelle27[[#This Row],[Emissionen Transport (t CO2 eq/a)]]) -> 0
A18: 130205* | B18: =IF(MID(A18,7,1)="*","*","") -> * | C18: =IF(B18="*","gefährlich","nicht gefährlich") -> gefährlich | D18: 130205*/ nichtchlorierte Maschinen-, Getriebe- und Schmieröle auf Mineralölbasis | K18: =IFERROR(Tabelle27[[#This Row],[Menge (t/a)]]/Tabelle27[[#This Row],[Anzahl Transporte]],"") | N18: =IFERROR(VLOOKUP(Tabelle27[[#This Row],[Transportmittel]],Emissionsfaktoren!$N$2:$P$11,3,FALSE),"") | O18: https://www.hansewasser.de/service/downloads/2024-05_emissionsfaktoren_spezifisch.xlsx | P18: =IFERROR((Tabelle27[[#This Row],[Menge pro Transport (t)]]*Tabelle27[[#This Row],[Transportweg zur Entsorgungsanlage Hin und Rückweg (km)]]*Tabelle27[[#This Row],[Emissionsfaktor Transport (kg CO2 eq/tkm)]]/1000)*Tabelle27[[#This Row],[Anzahl Transporte]],"") | Q18: =IF(VLOOKUP(Tabelle27[[#This Row],[Abfallschlüssel-nummer]],Emissionsfaktoren!$A$2:$K$67,MATCH(Tabelle27[[#This Row],[Verwertung/ Beseitigung]],Emissionsfaktoren!$A$1:$K$1,0)+1,FALSE)=0,"",VLOOKUP(Tabelle27[[#This Row],[Abfallschlüssel-nummer]],Emissionsfaktoren!$A$2:$K$67,MATCH(Tabelle27[[#This Row],[Verwertung/ Beseitigung]],Emissionsfaktoren!$A$1:$K$1,0)+1,FALSE)) -> #N/A | R18: =IF(VLOOKUP(Tabelle27[[#This Row],[Abfallschlüssel-nummer]],Emissionsfaktoren!$A$2:$K$67,MATCH(Tabelle27[[#This Row],[Verwertung/ Beseitigung]],Emissionsfaktoren!$A$1:$K$1,0)+2,FALSE)=0,"",VLOOKUP(Tabelle27[[#This Row],[Abfallschlüssel-nummer]],Emissionsfaktoren!$A$2:$K$67,MATCH(Tabelle27[[#This Row],[Verwertung/ Beseitigung]],Emissionsfaktoren!$A$1:$K$1,0)+2,FALSE)) -> #N/A | S18: =IFERROR(Tabelle27[[#This Row],[Menge (t/a)]]*Tabelle27[[#This Row],[Emissionsfaktor Behandlung (t CO2 eq/t)]],"") | T18: =IF(Tabelle27[[#This Row],[Emissionen Behandlung (t CO2 eq/a)]]="",0,Tabelle27[[#This Row],[Emissionen Behandlung (t CO2 eq/a)]])+IF(Tabelle27[[#This Row],[Emissionen Transport (t CO2 eq/a)]]="",0,Tabelle27[[#This Row],[Emissionen Transport (t CO2 eq/a)]]) -> 0
A19: 130502* | B19: * | C19: =IF(B19="*","gefährlich","nicht gefährlich") -> gefährlich | D19: 130502*/Schlämme aus Öl-/Wasserabscheider | K19: =IFERROR(Tabelle27[[#This Row],[Menge (t/a)]]/Tabelle27[[#This Row],[Anzahl Transporte]],"") | N19: =IFERROR(VLOOKUP(Tabelle27[[#This Row],[Transportmittel]],Emissionsfaktoren!$N$2:$P$11,3,FALSE),"") | O19: https://www.hansewasser.de/service/downloads/2024-05_emissionsfaktoren_spezifisch.xlsx | P19: =IFERROR((Tabelle27[[#This Row],[Menge pro Transport (t)]]*Tabelle27[[#This Row],[Transportweg zur Entsorgungsanlage Hin und Rückweg (km)]]*Tabelle27[[#This Row],[Emissionsfaktor Transport (kg CO2 eq/tkm)]]/1000)*Tabelle27[[#This Row],[Anzahl Transporte]],"") | Q19: =IF(VLOOKUP(Tabelle27[[#This Row],[Abfallschlüssel-nummer]],Emissionsfaktoren!$A$2:$K$67,MATCH(Tabelle27[[#This Row],[Verwertung/ Beseitigung]],Emissionsfaktoren!$A$1:$K$1,0)+1,FALSE)=0,"",VLOOKUP(Tabelle27[[#This Row],[Abfallschlüssel-nummer]],Emissionsfaktoren!$A$2:$K$67,MATCH(Tabelle27[[#This Row],[Verwertung/ Beseitigung]],Emissionsfaktoren!$A$1:$K$1,0)+1,FALSE)) -> #N/A | R19: =IF(VLOOKUP(Tabelle27[[#This Row],[Abfallschlüssel-nummer]],Emissionsfaktoren!$A$2:$K$67,MATCH(Tabelle27[[#This Row],[Verwertung/ Beseitigung]],Emissionsfaktoren!$A$1:$K$1,0)+2,FALSE)=0,"",VLOOKUP(Tabelle27[[#This Row],[Abfallschlüssel-nummer]],Emissionsfaktoren!$A$2:$K$67,MATCH(Tabelle27[[#This Row],[Verwertung/ Beseitigung]],Emissionsfaktoren!$A$1:$K$1,0)+2,FALSE)) -> #N/A | S19: =IFERROR(Tabelle27[[#This Row],[Menge (t/a)]]*Tabelle27[[#This Row],[Emissionsfaktor Behandlung (t CO2 eq/t)]],"") | T19: =IF(Tabelle27[[#This Row],[Emissionen Behandlung (t CO2 eq/a)]]="",0,Tabelle27[[#This Row],[Emissionen Behandlung (t CO2 eq/a)]])+IF(Tabelle27[[#This Row],[Emissionen Transport (t CO2 eq/a)]]="",0,Tabelle27[[#This Row],[Emissionen Transport (t CO2 eq/a)]]) -> 0
A20: 130502* | B20: =IF(MID(A20,7,1)="*","*","") -> * | C20: =IF(B20="*","gefährlich","nicht gefährlich") -> gefährlich | D20: 130502*/Schlämme aus Öl-/Wasserabscheider | K20: =IFERROR(Tabelle27[[#This Row],[Menge (t/a)]]/Tabelle27[[#This Row],[Anzahl Transporte]],"") | N20: =IFERROR(VLOOKUP(Tabelle27[[#This Row],[Transportmittel]],Emissionsfaktoren!$N$2:$P$11,3,FALSE),"") | O20: https://www.hansewasser.de/service/downloads/2024-05_emissionsfaktoren_spezifisch.xlsx | P20: =IFERROR((Tabelle27[[#This Row],[Menge pro Transport (t)]]*Tabelle27[[#This Row],[Transportweg zur Entsorgungsanlage Hin und Rückweg (km)]]*Tabelle27[[#This Row],[Emissionsfaktor Transport (kg CO2 eq/tkm)]]/1000)*Tabelle27[[#This Row],[Anzahl Transporte]],"") | Q20: =IF(VLOOKUP(Tabelle27[[#This Row],[Abfallschlüssel-nummer]],Emissionsfaktoren!$A$2:$K$67,MATCH(Tabelle27[[#This Row],[Verwertung/ Beseitigung]],Emissionsfaktoren!$A$1:$K$1,0)+1,FALSE)=0,"",VLOOKUP(Tabelle27[[#This Row],[Abfallschlüssel-nummer]],Emissionsfaktoren!$A$2:$K$67,MATCH(Tabelle27[[#This Row],[Verwertung/ Beseitigung]],Emissionsfaktoren!$A$1:$K$1,0)+1,FALSE)) -> #N/A | R20: =IF(VLOOKUP(Tabelle27[[#This Row],[Abfallschlüssel-nummer]],Emissionsfaktoren!$A$2:$K$67,MATCH(Tabelle27[[#This Row],[Verwertung/ Beseitigung]],Emissionsfaktoren!$A$1:$K$1,0)+2,FALSE)=0,"",VLOOKUP(Tabelle27[[#This Row],[Abfallschlüssel-nummer]],Emissionsfaktoren!$A$2:$K$67,MATCH(Tabelle27[[#This Row],[Verwertung/ Beseitigung]],Emissionsfaktoren!$A$1:$K$1,0)+2,FALSE)) -> #N/A | S20: =IFERROR(Tabelle27[[#This Row],[Menge (t/a)]]*Tabelle27[[#This Row],[Emissionsfaktor Behandlung (t CO2 eq/t)]],"") | T20: =IF(Tabelle27[[#This Row],[Emissionen Behandlung (t CO2 eq/a)]]="",0,Tabelle27[[#This Row],[Emissionen Behandlung (t CO2 eq/a)]])+IF(Tabelle27[[#This Row],[Emissionen Transport (t CO2 eq/a)]]="",0,Tabelle27[[#This Row],[Emissionen Transport (t CO2 eq/a)]]) -> 0
A21: 130503* | B21: =IF(MID(A21,7,1)="*","*","") -> * | C21: =IF(B21="*","gefährlich","nicht gefährlich") -> gefährlich | D21: 130503*/ Schlämme aus Einlaufschächten | K21: =IFERROR(Tabelle27[[#This Row],[Menge (t/a)]]/Tabelle27[[#This Row],[Anzahl Transporte]],"") | N21: =IFERROR(VLOOKUP(Tabelle27[[#This Row],[Transportmittel]],Emissionsfaktoren!$N$2:$P$11,3,FALSE),"") | O21: https://www.hansewasser.de/service/downloads/2024-05_emissionsfaktoren_spezifisch.xlsx | P21: =IFERROR((Tabelle27[[#This Row],[Menge pro Transport (t)]]*Tabelle27[[#This Row],[Transportweg zur Entsorgungsanlage Hin und Rückweg (km)]]*Tabelle27[[#This Row],[Emissionsfaktor Transport (kg CO2 eq/tkm)]]/1000)*Tabelle27[[#This Row],[Anzahl Transporte]],"") | Q21: =IF(VLOOKUP(Tabelle27[[#This Row],[Abfallschlüssel-nummer]],Emissionsfaktoren!$A$2:$K$67,MATCH(Tabelle27[[#This Row],[Verwertung/ Beseitigung]],Emissionsfaktoren!$A$1:$K$1,0)+1,FALSE)=0,"",VLOOKUP(Tabelle27[[#This Row],[Abfallschlüssel-nummer]],Emissionsfaktoren!$A$2:$K$67,MATCH(Tabelle27[[#This Row],[Verwertung/ Beseitigung]],Emissionsfaktoren!$A$1:$K$1,0)+1,FALSE)) -> #N/A | R21: =IF(VLOOKUP(Tabelle27[[#This Row],[Abfallschlüssel-nummer]],Emissionsfaktoren!$A$2:$K$67,MATCH(Tabelle27[[#This Row],[Verwertung/ Beseitigung]],Emissionsfaktoren!$A$1:$K$1,0)+2,FALSE)=0,"",VLOOKUP(Tabelle27[[#This Row],[Abfallschlüssel-nummer]],Emissionsfaktoren!$A$2:$K$67,MATCH(Tabelle27[[#This Row],[Verwertung/ Beseitigung]],Emissionsfaktoren!$A$1:$K$1,0)+2,FALSE)) -> #N/A | S21: =IFERROR(Tabelle27[[#This Row],[Menge (t/a)]]*Tabelle27[[#This Row],[Emissionsfaktor Behandlung (t CO2 eq/t)]],"") | T21: =IF(Tabelle27[[#This Row],[Emissionen Behandlung (t CO2 eq/a)]]="",0,Tabelle27[[#This Row],[Emissionen Behandlung (t CO2 eq/a)]])+IF(Tabelle27[[#This Row],[Emissionen Transport (t CO2 eq/a)]]="",0,Tabelle27[[#This Row],[Emissionen Transport (t CO2 eq/a)]]) -> 0
A22: 130508* | B22: =IF(MID(A22,7,1)="*","*","") -> * | C22: =IF(B22="*","gefährlich","nicht gefährlich") -> gefährlich | D22: 130508*/ Abfallgemische aus Sandfanganlagen und Öl- und Wasserabscheider | K22: =IFERROR(Tabelle27[[#This Row],[Menge (t/a)]]/Tabelle27[[#This Row],[Anzahl Transporte]],"") | N22: =IFERROR(VLOOKUP(Tabelle27[[#This Row],[Transportmittel]],Emissionsfaktoren!$N$2:$P$11,3,FALSE),"") | O22: https://www.hansewasser.de/service/downloads/2024-05_emissionsfaktoren_spezifisch.xlsx | P22: =IFERROR((Tabelle27[[#This Row],[Menge pro Transport (t)]]*Tabelle27[[#This Row],[Transportweg zur Entsorgungsanlage Hin und Rückweg (km)]]*Tabelle27[[#This Row],[Emissionsfaktor Transport (kg CO2 eq/tkm)]]/1000)*Tabelle27[[#This Row],[Anzahl Transporte]],"") | Q22: =IF(VLOOKUP(Tabelle27[[#This Row],[Abfallschlüssel-nummer]],Emissionsfaktoren!$A$2:$K$67,MATCH(Tabelle27[[#This Row],[Verwertung/ Beseitigung]],Emissionsfaktoren!$A$1:$K$1,0)+1,FALSE)=0,"",VLOOKUP(Tabelle27[[#This Row],[Abfallschlüssel-nummer]],Emissionsfaktoren!$A$2:$K$67,MATCH(Tabelle27[[#This Row],[Verwertung/ Beseitigung]],Emissionsfaktoren!$A$1:$K$1,0)+1,FALSE)) -> #N/A | R22: =IF(VLOOKUP(Tabelle27[[#This Row],[Abfallschlüssel-nummer]],Emissionsfaktoren!$A$2:$K$67,MATCH(Tabelle27[[#This Row],[Verwertung/ Beseitigung]],Emissionsfaktoren!$A$1:$K$1,0)+2,FALSE)=0,"",VLOOKUP(Tabelle27[[#This Row],[Abfallschlüssel-nummer]],Emissionsfaktoren!$A$2:$K$67,MATCH(Tabelle27[[#This Row],[Verwertung/ Beseitigung]],Emissionsfaktoren!$A$1:$K$1,0)+2,FALSE)) -> #N/A | S22: =IFERROR(Tabelle27[[#This Row],[Menge (t/a)]]*Tabelle27[[#This Row],[Emissionsfaktor Behandlung (t CO2 eq/t)]],"") | T22: =IF(Tabelle27[[#This Row],[Emissionen Behandlung (t CO2 eq/a)]]="",0,Tabelle27[[#This Row],[Emissionen Behandlung (t CO2 eq/a)]])+IF(Tabelle27[[#This Row],[Emissionen Transport (t CO2 eq/a)]]="",0,Tabelle27[[#This Row],[Emissionen Transport (t CO2 eq/a)]]) -> 0
A23: 130802* | B23: =IF(MID(A23,7,1)="*","*","") -> * | C23: =IF(B23="*","gefährlich","nicht gefährlich") -> gefährlich | D23: 130802*/ andere Emulsionen | K23: =IFERROR(Tabelle27[[#This Row],[Menge (t/a)]]/Tabelle27[[#This Row],[Anzahl Transporte]],"") | N23: =IFERROR(VLOOKUP(Tabelle27[[#This Row],[Transportmittel]],Emissionsfaktoren!$N$2:$P$11,3,FALSE),"") | O23: https://www.hansewasser.de/service/downloads/2024-05_emissionsfaktoren_spezifisch.xlsx | P23: =IFERROR((Tabelle27[[#This Row],[Menge pro Transport (t)]]*Tabelle27[[#This Row],[Transportweg zur Entsorgungsanlage Hin und Rückweg (km)]]*Tabelle27[[#This Row],[Emissionsfaktor Transport (kg CO2 eq/tkm)]]/1000)*Tabelle27[[#This Row],[Anzahl Transporte]],"") | Q23: =IF(VLOOKUP(Tabelle27[[#This Row],[Abfallschlüssel-nummer]],Emissionsfaktoren!$A$2:$K$67,MATCH(Tabelle27[[#This Row],[Verwertung/ Beseitigung]],Emissionsfaktoren!$A$1:$K$1,0)+1,FALSE)=0,"",VLOOKUP(Tabelle27[[#This Row],[Abfallschlüssel-nummer]],Emissionsfaktoren!$A$2:$K$67,MATCH(Tabelle27[[#This Row],[Verwertung/ Beseitigung]],Emissionsfaktoren!$A$1:$K$1,0)+1,FALSE)) -> #N/A | R23: =IF(VLOOKUP(Tabelle27[[#This Row],[Abfallschlüssel-nummer]],Emissionsfaktoren!$A$2:$K$67,MATCH(Tabelle27[[#This Row],[Verwertung/ Beseitigung]],Emissionsfaktoren!$A$1:$K$1,0)+2,FALSE)=0,"",VLOOKUP(Tabelle27[[#This Row],[Abfallschlüssel-nummer]],Emissionsfaktoren!$A$2:$K$67,MATCH(Tabelle27[[#This Row],[Verwertung/ Beseitigung]],Emissionsfaktoren!$A$1:$K$1,0)+2,FALSE)) -> #N/A | S23: =IFERROR(Tabelle27[[#This Row],[Menge (t/a)]]*Tabelle27[[#This Row],[Emissionsfaktor Behandlung (t CO2 eq/t)]],"") | T23: =IF(Tabelle27[[#This Row],[Emissionen Behandlung (t CO2 eq/a)]]="",0,Tabelle27[[#This Row],[Emissionen Behandlung (t CO2 eq/a)]])+IF(Tabelle27[[#This Row],[Emissionen Transport (t CO2 eq/a)]]="",0,Tabelle27[[#This Row],[Emissionen Transport (t CO2 eq/a)]]) -> 0
A24: 150101 | B24: =IF(MID(A24,7,1)="*","*","") | C24: =IF(B24="*","gefährlich","nicht gefährlich") -> nicht gefährlich | D24: 150101/ Verpackungen aus Papier und Pappe | K24: =IFERROR(Tabelle27[[#This Row],[Menge (t/a)]]/Tabelle27[[#This Row],[Anzahl Transporte]],"") | N24: =IFERROR(VLOOKUP(Tabelle27[[#This Row],[Transportmittel]],Emissionsfaktoren!$N$2:$P$11,3,FALSE),"") | O24: https://www.hansewasser.de/service/downloads/2024-05_emissionsfaktoren_spezifisch.xlsx | P24: =IFERROR((Tabelle27[[#This Row],[Menge pro Transport (t)]]*Tabelle27[[#This Row],[Transportweg zur Entsorgungsanlage Hin und Rückweg (km)]]*Tabelle27[[#This Row],[Emissionsfaktor Transport (kg CO2 eq/tkm)]]/1000)*Tabelle27[[#This Row],[Anzahl Transporte]],"") | Q24: =IF(VLOOKUP(Tabelle27[[#This Row],[Abfallschlüssel-nummer]],Emissionsfaktoren!$A$2:$K$67,MATCH(Tabelle27[[#This Row],[Verwertung/ Beseitigung]],Emissionsfaktoren!$A$1:$K$1,0)+1,FALSE)=0,"",VLOOKUP(Tabelle27[[#This Row],[Abfallschlüssel-nummer]],Emissionsfaktoren!$A$2:$K$67,MATCH(Tabelle27[[#This Row],[Verwertung/ Beseitigung]],Emissionsfaktoren!$A$1:$K$1,0)+1,FALSE)) -> #N/A | R24: =IF(VLOOKUP(Tabelle27[[#This Row],[Abfallschlüssel-nummer]],Emissionsfaktoren!$A$2:$K$67,MATCH(Tabelle27[[#This Row],[Verwertung/ Beseitigung]],Emissionsfaktoren!$A$1:$K$1,0)+2,FALSE)=0,"",VLOOKUP(Tabelle27[[#This Row],[Abfallschlüssel-nummer]],Emissionsfaktoren!$A$2:$K$67,MATCH(Tabelle27[[#This Row],[Verwertung/ Beseitigung]],Emissionsfaktoren!$A$1:$K$1,0)+2,FALSE)) -> #N/A | S24: =IFERROR(Tabelle27[[#This Row],[Menge (t/a)]]*Tabelle27[[#This Row],[Emissionsfaktor Behandlung (t CO2 eq/t)]],"") | T24: =IF(Tabelle27[[#This Row],[Emissionen Behandlung (t CO2 eq/a)]]="",0,Tabelle27[[#This Row],[Emissionen Behandlung (t CO2 eq/a)]])+IF(Tabelle27[[#This Row],[Emissionen Transport (t CO2 eq/a)]]="",0,Tabelle27[[#This Row],[Emissionen Transport (t CO2 eq/a)]]) -> 0
A25: 150102 | B25: =IF(MID(A25,7,1)="*","*","") | C25: =IF(B25="*","gefährlich","nicht gefährlich") -> nicht gefährlich | D25: 150102/ Verpackungen aus Kunststoff | K25: =IFERROR(Tabelle27[[#This Row],[Menge (t/a)]]/Tabelle27[[#This Row],[Anzahl Transporte]],"") | N25: =IFERROR(VLOOKUP(Tabelle27[[#This Row],[Transportmittel]],Emissionsfaktoren!$N$2:$P$11,3,FALSE),"") | O25: https://www.hansewasser.de/service/downloads/2024-05_emissionsfaktoren_spezifisch.xlsx | P25: =IFERROR((Tabelle27[[#This Row],[Menge pro Transport (t)]]*Tabelle27[[#This Row],[Transportweg zur Entsorgungsanlage Hin und Rückweg (km)]]*Tabelle27[[#This Row],[Emissionsfaktor Transport (kg CO2 eq/tkm)]]/1000)*Tabelle27[[#This Row],[Anzahl Transporte]],"") | Q25: =IF(VLOOKUP(Tabelle27[[#This Row],[Abfallschlüssel-nummer]],Emissionsfaktoren!$A$2:$K$67,MATCH(Tabelle27[[#This Row],[Verwertung/ Beseitigung]],Emissionsfaktoren!$A$1:$K$1,0)+1,FALSE)=0,"",VLOOKUP(Tabelle27[[#This Row],[Abfallschlüssel-nummer]],Emissionsfaktoren!$A$2:$K$67,MATCH(Tabelle27[[#This Row],[Verwertung/ Beseitigung]],Emissionsfaktoren!$A$1:$K$1,0)+1,FALSE)) -> #N/A | R25: =IF(VLOOKUP(Tabelle27[[#This Row],[Abfallschlüssel-nummer]],Emissionsfaktoren!$A$2:$K$67,MATCH(Tabelle27[[#This Row],[Verwertung/ Beseitigung]],Emissionsfaktoren!$A$1:$K$1,0)+2,FALSE)=0,"",VLOOKUP(Tabelle27[[#This Row],[Abfallschlüssel-nummer]],Emissionsfaktoren!$A$2:$K$67,MATCH(Tabelle27[[#This Row],[Verwertung/ Beseitigung]],Emissionsfaktoren!$A$1:$K$1,0)+2,FALSE)) -> #N/A | S25: =IFERROR(Tabelle27[[#This Row],[Menge (t/a)]]*Tabelle27[[#This Row],[Emissionsfaktor Behandlung (t CO2 eq/t)]],"") | T25: =IF(Tabelle27[[#This Row],[Emissionen Behandlung (t CO2 eq/a)]]="",0,Tabelle27[[#This Row],[Emissionen Behandlung (t CO2 eq/a)]])+IF(Tabelle27[[#This Row],[Emissionen Transport (t CO2 eq/a)]]="",0,Tabelle27[[#This Row],[Emissionen Transport (t CO2 eq/a)]]) -> 0
A26: 150106 | B26: =IF(MID(A26,7,1)="*","*","") | C26: =IF(B26="*","gefährlich","nicht gefährlich") -> nicht gefährlich | D26: 150106/ gemischte Verpackungen | K26: =IFERROR(Tabelle27[[#This Row],[Menge (t/a)]]/Tabelle27[[#This Row],[Anzahl Transporte]],"") | N26: =IFERROR(VLOOKUP(Tabelle27[[#This Row],[Transportmittel]],Emissionsfaktoren!$N$2:$P$11,3,FALSE),"") | O26: https://www.hansewasser.de/service/downloads/2024-05_emissionsfaktoren_spezifisch.xlsx | P26: =IFERROR((Tabelle27[[#This Row],[Menge pro Transport (t)]]*Tabelle27[[#This Row],[Transportweg zur Entsorgungsanlage Hin und Rückweg (km)]]*Tabelle27[[#This Row],[Emissionsfaktor Transport (kg CO2 eq/tkm)]]/1000)*Tabelle27[[#This Row],[Anzahl Transporte]],"") | Q26: =IF(VLOOKUP(Tabelle27[[#This Row],[Abfallschlüssel-nummer]],Emissionsfaktoren!$A$2:$K$67,MATCH(Tabelle27[[#This Row],[Verwertung/ Beseitigung]],Emissionsfaktoren!$A$1:$K$1,0)+1,FALSE)=0,"",VLOOKUP(Tabelle27[[#This Row],[Abfallschlüssel-nummer]],Emissionsfaktoren!$A$2:$K$67,MATCH(Tabelle27[[#This Row],[Verwertung/ Beseitigung]],Emissionsfaktoren!$A$1:$K$1,0)+1,FALSE)) -> #N/A | R26: =IF(VLOOKUP(Tabelle27[[#This Row],[Abfallschlüssel-nummer]],Emissionsfaktoren!$A$2:$K$67,MATCH(Tabelle27[[#This Row],[Verwertung/ Beseitigung]],Emissionsfaktoren!$A$1:$K$1,0)+2,FALSE)=0,"",VLOOKUP(Tabelle27[[#This Row],[Abfallschlüssel-nummer]],Emissionsfaktoren!$A$2:$K$67,MATCH(Tabelle27[[#This Row],[Verwertung/ Beseitigung]],Emissionsfaktoren!$A$1:$K$1,0)+2,FALSE)) -> #N/A | S26: =IFERROR(Tabelle27[[#This Row],[Menge (t/a)]]*Tabelle27[[#This Row],[Emissionsfaktor Behandlung (t CO2 eq/t)]],"") | T26: =IF(Tabelle27[[#This Row],[Emissionen Behandlung (t CO2 eq/a)]]="",0,Tabelle27[[#This Row],[Emissionen Behandlung (t CO2 eq/a)]])+IF(Tabelle27[[#This Row],[Emissionen Transport (t CO2 eq/a)]]="",0,Tabelle27[[#This Row],[Emissionen Transport (t CO2 eq/a)]]) -> 0
A27: 150110* | B27: =IF(MID(A27,7,1)="*","*","") -> * | C27: =IF(B27="*","gefährlich","nicht gefährlich") -> gefährlich | D27: 150110*/ Verpackungen, die Rückstände gefährlicher Stoffe enthalten oder durch gefährliche Stoffe verunreinigt sind | K27: =IFERROR(Tabelle27[[#This Row],[Menge (t/a)]]/Tabelle27[[#This Row],[Anzahl Transporte]],"") | N27: =IFERROR(VLOOKUP(Tabelle27[[#This Row],[Transportmittel]],Emissionsfaktoren!$N$2:$P$11,3,FALSE),"") | O27: https://www.hansewasser.de/service/downloads/2024-05_emissionsfaktoren_spezifisch.xlsx | P27: =IFERROR((Tabelle27[[#This Row],[Menge pro Transport (t)]]*Tabelle27[[#This Row],[Transportweg zur Entsorgungsanlage Hin und Rückweg (km)]]*Tabelle27[[#This Row],[Emissionsfaktor Transport (kg CO2 eq/tkm)]]/1000)*Tabelle27[[#This Row],[Anzahl Transporte]],"") | Q27: =IF(VLOOKUP(Tabelle27[[#This Row],[Abfallschlüssel-nummer]],Emissionsfaktoren!$A$2:$K$67,MATCH(Tabelle27[[#This Row],[Verwertung/ Beseitigung]],Emissionsfaktoren!$A$1:$K$1,0)+1,FALSE)=0,"",VLOOKUP(Tabelle27[[#This Row],[Abfallschlüssel-nummer]],Emissionsfaktoren!$A$2:$K$67,MATCH(Tabelle27[[#This Row],[Verwertung/ Beseitigung]],Emissionsfaktoren!$A$1:$K$1,0)+1,FALSE)) -> #N/A | R27: =IF(VLOOKUP(Tabelle27[[#This Row],[Abfallschlüssel-nummer]],Emissionsfaktoren!$A$2:$K$67,MATCH(Tabelle27[[#This Row],[Verwertung/ Beseitigung]],Emissionsfaktoren!$A$1:$K$1,0)+2,FALSE)=0,"",VLOOKUP(Tabelle27[[#This Row],[Abfallschlüssel-nummer]],Emissionsfaktoren!$A$2:$K$67,MATCH(Tabelle27[[#This Row],[Verwertung/ Beseitigung]],Emissionsfaktoren!$A$1:$K$1,0)+2,FALSE)) -> #N/A | S27: =IFERROR(Tabelle27[[#This Row],[Menge (t/a)]]*Tabelle27[[#This Row],[Emissionsfaktor Behandlung (t CO2 eq/t)]],"") | T27: =IF(Tabelle27[[#This Row],[Emissionen Behandlung (t CO2 eq/a)]]="",0,Tabelle27[[#This Row],[Emissionen Behandlung (t CO2 eq/a)]])+IF(Tabelle27[[#This Row],[Emissionen Transport (t CO2 eq/a)]]="",0,Tabelle27[[#This Row],[Emissionen Transport (t CO2 eq/a)]]) -> 0
A28: 150111* | B28: =IF(MID(A28,7,1)="*","*","") -> * | C28: =IF(B28="*","gefährlich","nicht gefährlich") -> gefährlich | D28: 150111*/ Verpackungen aus Metall, die eine gefährliche feste poröse Matrix (z. B. Asbest) enthalten, einschliesslich geleerter Druckbehältnisse | K28: =IFERROR(Tabelle27[[#This Row],[Menge (t/a)]]/Tabelle27[[#This Row],[Anzahl Transporte]],"") | N28: =IFERROR(VLOOKUP(Tabelle27[[#This Row],[Transportmittel]],Emissionsfaktoren!$N$2:$P$11,3,FALSE),"") | O28: https://www.hansewasser.de/service/downloads/2024-05_emissionsfaktoren_spezifisch.xlsx | P28: =IFERROR((Tabelle27[[#This Row],[Menge pro Transport (t)]]*Tabelle27[[#This Row],[Transportweg zur Entsorgungsanlage Hin und Rückweg (km)]]*Tabelle27[[#This Row],[Emissionsfaktor Transport (kg CO2 eq/tkm)]]/1000)*Tabelle27[[#This Row],[Anzahl Transporte]],"") | Q28: =IF(VLOOKUP(Tabelle27[[#This Row],[Abfallschlüssel-nummer]],Emissionsfaktoren!$A$2:$K$67,MATCH(Tabelle27[[#This Row],[Verwertung/ Beseitigung]],Emissionsfaktoren!$A$1:$K$1,0)+1,FALSE)=0,"",VLOOKUP(Tabelle27[[#This Row],[Abfallschlüssel-nummer]],Emissionsfaktoren!$A$2:$K$67,MATCH(Tabelle27[[#This Row],[Verwertung/ Beseitigung]],Emissionsfaktoren!$A$1:$K$1,0)+1,FALSE)) -> #N/A | R28: =IF(VLOOKUP(Tabelle27[[#This Row],[Abfallschlüssel-nummer]],Emissionsfaktoren!$A$2:$K$67,MATCH(Tabelle27[[#This Row],[Verwertung/ Beseitigung]],Emissionsfaktoren!$A$1:$K$1,0)+2,FALSE)=0,"",VLOOKUP(Tabelle27[[#This Row],[Abfallschlüssel-nummer]],Emissionsfaktoren!$A$2:$K$67,MATCH(Tabelle27[[#This Row],[Verwertung/ Beseitigung]],Emissionsfaktoren!$A$1:$K$1,0)+2,FALSE)) -> #N/A | S28: =IFERROR(Tabelle27[[#This Row],[Menge (t/a)]]*Tabelle27[[#This Row],[Emissionsfaktor Behandlung (t CO2 eq/t)]],"") | T28: =IF(Tabelle27[[#This Row],[Emissionen Behandlung (t CO2 eq/a)]]="",0,Tabelle27[[#This Row],[Emissionen Behandlung (t CO2 eq/a)]])+IF(Tabelle27[[#This Row],[Emissionen Transport (t CO2 eq/a)]]="",0,Tabelle27[[#This Row],[Emissionen Transport (t CO2 eq/a)]]) -> 0
A29: 150202* | B29: =IF(MID(A29,7,1)="*","*","") -> * | C29: =IF(B29="*","gefährlich","nicht gefährlich") -> gefährlich | D29: 150202*/ Aufsaug- und Filtermaterialien (einschliesslich Ölfilter a. n. g.), Wischtücher und Schutzkleidung, die durch gefährliche Stoffe verunreinigt sind | K29: =IFERROR(Tabelle27[[#This Row],[Menge (t/a)]]/Tabelle27[[#This Row],[Anzahl Transporte]],"") | N29: =IFERROR(VLOOKUP(Tabelle27[[#This Row],[Transportmittel]],Emissionsfaktoren!$N$2:$P$11,3,FALSE),"") | O29: https://www.hansewasser.de/service/downloads/2024-05_emissionsfaktoren_spezifisch.xlsx | P29: =IFERROR((Tabelle27[[#This Row],[Menge pro Transport (t)]]*Tabelle27[[#This Row],[Transportweg zur Entsorgungsanlage Hin und Rückweg (km)]]*Tabelle27[[#This Row],[Emissionsfaktor Transport (kg CO2 eq/tkm)]]/1000)*Tabelle27[[#This Row],[Anzahl Transporte]],"") | Q29: =IF(VLOOKUP(Tabelle27[[#This Row],[Abfallschlüssel-nummer]],Emissionsfaktoren!$A$2:$K$67,MATCH(Tabelle27[[#This Row],[Verwertung/ Beseitigung]],Emissionsfaktoren!$A$1:$K$1,0)+1,FALSE)=0,"",VLOOKUP(Tabelle27[[#This Row],[Abfallschlüssel-nummer]],Emissionsfaktoren!$A$2:$K$67,MATCH(Tabelle27[[#This Row],[Verwertung/ Beseitigung]],Emissionsfaktoren!$A$1:$K$1,0)+1,FALSE)) -> #N/A | R29: =IF(VLOOKUP(Tabelle27[[#This Row],[Abfallschlüssel-nummer]],Emissionsfaktoren!$A$2:$K$67,MATCH(Tabelle27[[#This Row],[Verwertung/ Beseitigung]],Emissionsfaktoren!$A$1:$K$1,0)+2,FALSE)=0,"",VLOOKUP(Tabelle27[[#This Row],[Abfallschlüssel-nummer]],Emissionsfaktoren!$A$2:$K$67,MATCH(Tabelle27[[#This Row],[Verwertung/ Beseitigung]],Emissionsfaktoren!$A$1:$K$1,0)+2,FALSE)) -> #N/A | S29: =IFERROR(Tabelle27[[#This Row],[Menge (t/a)]]*Tabelle27[[#This Row],[Emissionsfaktor Behandlung (t CO2 eq/t)]],"") | T29: =IF(Tabelle27[[#This Row],[Emissionen Behandlung (t CO2 eq/a)]]="",0,Tabelle27[[#This Row],[Emissionen Behandlung (t CO2 eq/a)]])+IF(Tabelle27[[#This Row],[Emissionen Transport (t CO2 eq/a)]]="",0,Tabelle27[[#This Row],[Emissionen Transport (t CO2 eq/a)]]) -> 0
A30: 150203 | B30: =IF(MID(A30,7,1)="*","*","") | C30: =IF(B30="*","gefährlich","nicht gefährlich") -> nicht gefährlich | D30: 150203/ Aufsaug- und Filtermaterialien, Wischtücher und Schutzkleidung mit Ausnahme derjenigen, die unter 15 02 02 fallen | K30: =IFERROR(Tabelle27[[#This Row],[Menge (t/a)]]/Tabelle27[[#This Row],[Anzahl Transporte]],"") | N30: =IFERROR(VLOOKUP(Tabelle27[[#This Row],[Transportmittel]],Emissionsfaktoren!$N$2:$P$11,3,FALSE),"") | O30: https://www.hansewasser.de/service/downloads/2024-05_emissionsfaktoren_spezifisch.xlsx | P30: =IFERROR((Tabelle27[[#This Row],[Menge pro Transport (t)]]*Tabelle27[[#This Row],[Transportweg zur Entsorgungsanlage Hin und Rückweg (km)]]*Tabelle27[[#This Row],[Emissionsfaktor Transport (kg CO2 eq/tkm)]]/1000)*Tabelle27[[#This Row],[Anzahl Transporte]],"") | Q30: =IF(VLOOKUP(Tabelle27[[#This Row],[Abfallschlüssel-nummer]],Emissionsfaktoren!$A$2:$K$67,MATCH(Tabelle27[[#This Row],[Verwertung/ Beseitigung]],Emissionsfaktoren!$A$1:$K$1,0)+1,FALSE)=0,"",VLOOKUP(Tabelle27[[#This Row],[Abfallschlüssel-nummer]],Emissionsfaktoren!$A$2:$K$67,MATCH(Tabelle27[[#This Row],[Verwertung/ Beseitigung]],Emissionsfaktoren!$A$1:$K$1,0)+1,FALSE)) -> #N/A | R30: =IF(VLOOKUP(Tabelle27[[#This Row],[Abfallschlüssel-nummer]],Emissionsfaktoren!$A$2:$K$67,MATCH(Tabelle27[[#This Row],[Verwertung/ Beseitigung]],Emissionsfaktoren!$A$1:$K$1,0)+2,FALSE)=0,"",VLOOKUP(Tabelle27[[#This Row],[Abfallschlüssel-nummer]],Emissionsfaktoren!$A$2:$K$67,MATCH(Tabelle27[[#This Row],[Verwertung/ Beseitigung]],Emissionsfaktoren!$A$1:$K$1,0)+2,FALSE)) -> #N/A | S30: =IFERROR(Tabelle27[[#This Row],[Menge (t/a)]]*Tabelle27[[#This Row],[Emissionsfaktor Behandlung (t CO2 eq/t)]],"") | T30: =IF(Tabelle27[[#This Row],[Emissionen Behandlung (t CO2 eq/a)]]="",0,Tabelle27[[#This Row],[Emissionen Behandlung (t CO2 eq/a)]])+IF(Tabelle27[[#This Row],[Emissionen Transport (t CO2 eq/a)]]="",0,Tabelle27[[#This Row],[Emissionen Transport (t CO2 eq/a)]]) -> 0
A31: 160103 | B31: =IF(MID(A31,7,1)="*","*","") | C31: =IF(B31="*","gefährlich","nicht gefährlich") -> nicht gefährlich | D31: 160103/ Altreifen | K31: =IFERROR(Tabelle27[[#This Row],[Menge (t/a)]]/Tabelle27[[#This Row],[Anzahl Transporte]],"") | N31: =IFERROR(VLOOKUP(Tabelle27[[#This Row],[Transportmittel]],Emissionsfaktoren!$N$2:$P$11,3,FALSE),"") | O31: https://www.hansewasser.de/service/downloads/2024-05_emissionsfaktoren_spezifisch.xlsx | P31: =IFERROR((Tabelle27[[#This Row],[Menge pro Transport (t)]]*Tabelle27[[#This Row],[Transportweg zur Entsorgungsanlage Hin und Rückweg (km)]]*Tabelle27[[#This Row],[Emissionsfaktor Transport (kg CO2 eq/tkm)]]/1000)*Tabelle27[[#This Row],[Anzahl Transporte]],"") | Q31: =IF(VLOOKUP(Tabelle27[[#This Row],[Abfallschlüssel-nummer]],Emissionsfaktoren!$A$2:$K$67,MATCH(Tabelle27[[#This Row],[Verwertung/ Beseitigung]],Emissionsfaktoren!$A$1:$K$1,0)+1,FALSE)=0,"",VLOOKUP(Tabelle27[[#This Row],[Abfallschlüssel-nummer]],Emissionsfaktoren!$A$2:$K$67,MATCH(Tabelle27[[#This Row],[Verwertung/ Beseitigung]],Emissionsfaktoren!$A$1:$K$1,0)+1,FALSE)) -> #N/A | R31: =IF(VLOOKUP(Tabelle27[[#This Row],[Abfallschlüssel-nummer]],Emissionsfaktoren!$A$2:$K$67,MATCH(Tabelle27[[#This Row],[Verwertung/ Beseitigung]],Emissionsfaktoren!$A$1:$K$1,0)+2,FALSE)=0,"",VLOOKUP(Tabelle27[[#This Row],[Abfallschlüssel-nummer]],Emissionsfaktoren!$A$2:$K$67,MATCH(Tabelle27[[#This Row],[Verwertung/ Beseitigung]],Emissionsfaktoren!$A$1:$K$1,0)+2,FALSE)) -> #N/A | S31: =IFERROR(Tabelle27[[#This Row],[Menge (t/a)]]*Tabelle27[[#This Row],[Emissionsfaktor Behandlung (t CO2 eq/t)]],"") | T31: =IF(Tabelle27[[#This Row],[Emissionen Behandlung (t CO2 eq/a)]]="",0,Tabelle27[[#This Row],[Emissionen Behandlung (t CO2 eq/a)]])+IF(Tabelle27[[#This Row],[Emissionen Transport (t CO2 eq/a)]]="",0,Tabelle27[[#This Row],[Emissionen Transport (t CO2 eq/a)]]) -> 0
A32: 160119 | B32: =IF(MID(A32,7,1)="*","*","") | C32: =IF(B32="*","gefährlich","nicht gefährlich") -> nicht gefährlich | D32: 160119/ Kunststoffe | K32: =IFERROR(Tabelle27[[#This Row],[Menge (t/a)]]/Tabelle27[[#This Row],[Anzahl Transporte]],"") | N32: =IFERROR(VLOOKUP(Tabelle27[[#This Row],[Transportmittel]],Emissionsfaktoren!$N$2:$P$11,3,FALSE),"") | O32: https://www.hansewasser.de/service/downloads/2024-05_emissionsfaktoren_spezifisch.xlsx | P32: =IFERROR((Tabelle27[[#This Row],[Menge pro Transport (t)]]*Tabelle27[[#This Row],[Transportweg zur Entsorgungsanlage Hin und Rückweg (km)]]*Tabelle27[[#This Row],[Emissionsfaktor Transport (kg CO2 eq/tkm)]]/1000)*Tabelle27[[#This Row],[Anzahl Transporte]],"") | Q32: =IF(VLOOKUP(Tabelle27[[#This Row],[Abfallschlüssel-nummer]],Emissionsfaktoren!$A$2:$K$67,MATCH(Tabelle27[[#This Row],[Verwertung/ Beseitigung]],Emissionsfaktoren!$A$1:$K$1,0)+1,FALSE)=0,"",VLOOKUP(Tabelle27[[#This Row],[Abfallschlüssel-nummer]],Emissionsfaktoren!$A$2:$K$67,MATCH(Tabelle27[[#This Row],[Verwertung/ Beseitigung]],Emissionsfaktoren!$A$1:$K$1,0)+1,FALSE)) -> #N/A | R32: =IF(VLOOKUP(Tabelle27[[#This Row],[Abfallschlüssel-nummer]],Emissionsfaktoren!$A$2:$K$67,MATCH(Tabelle27[[#This Row],[Verwertung/ Beseitigung]],Emissionsfaktoren!$A$1:$K$1,0)+2,FALSE)=0,"",VLOOKUP(Tabelle27[[#This Row],[Abfallschlüssel-nummer]],Emissionsfaktoren!$A$2:$K$67,MATCH(Tabelle27[[#This Row],[Verwertung/ Beseitigung]],Emissionsfaktoren!$A$1:$K$1,0)+2,FALSE)) -> #N/A | S32: =IFERROR(Tabelle27[[#This Row],[Menge (t/a)]]*Tabelle27[[#This Row],[Emissionsfaktor Behandlung (t CO2 eq/t)]],"") | T32: =IF(Tabelle27[[#This Row],[Emissionen Behandlung (t CO2 eq/a)]]="",0,Tabelle27[[#This Row],[Emissionen Behandlung (t CO2 eq/a)]])+IF(Tabelle27[[#This Row],[Emissionen Transport (t CO2 eq/a)]]="",0,Tabelle27[[#This Row],[Emissionen Transport (t CO2 eq/a)]]) -> 0
A33: 160120 | B33: =IF(MID(A33,7,1)="*","*","") | C33: =IF(B33="*","gefährlich","nicht gefährlich") -> nicht gefährlich | D33: 160120/ Glas | K33: =IFERROR(Tabelle27[[#This Row],[Menge (t/a)]]/Tabelle27[[#This Row],[Anzahl Transporte]],"") | N33: =IFERROR(VLOOKUP(Tabelle27[[#This Row],[Transportmittel]],Emissionsfaktoren!$N$2:$P$11,3,FALSE),"") | O33: https://www.hansewasser.de/service/downloads/2024-05_emissionsfaktoren_spezifisch.xlsx | P33: =IFERROR((Tabelle27[[#This Row],[Menge pro Transport (t)]]*Tabelle27[[#This Row],[Transportweg zur Entsorgungsanlage Hin und Rückweg (km)]]*Tabelle27[[#This Row],[Emissionsfaktor Transport (kg CO2 eq/tkm)]]/1000)*Tabelle27[[#This Row],[Anzahl Transporte]],"") | Q33: =IF(VLOOKUP(Tabelle27[[#This Row],[Abfallschlüssel-nummer]],Emissionsfaktoren!$A$2:$K$67,MATCH(Tabelle27[[#This Row],[Verwertung/ Beseitigung]],Emissionsfaktoren!$A$1:$K$1,0)+1,FALSE)=0,"",VLOOKUP(Tabelle27[[#This Row],[Abfallschlüssel-nummer]],Emissionsfaktoren!$A$2:$K$67,MATCH(Tabelle27[[#This Row],[Verwertung/ Beseitigung]],Emissionsfaktoren!$A$1:$K$1,0)+1,FALSE)) -> #N/A | R33: =IF(VLOOKUP(Tabelle27[[#This Row],[Abfallschlüssel-nummer]],Emissionsfaktoren!$A$2:$K$67,MATCH(Tabelle27[[#This Row],[Verwertung/ Beseitigung]],Emissionsfaktoren!$A$1:$K$1,0)+2,FALSE)=0,"",VLOOKUP(Tabelle27[[#This Row],[Abfallschlüssel-nummer]],Emissionsfaktoren!$A$2:$K$67,MATCH(Tabelle27[[#This Row],[Verwertung/ Beseitigung]],Emissionsfaktoren!$A$1:$K$1,0)+2,FALSE)) -> #N/A | S33: =IFERROR(Tabelle27[[#This Row],[Menge (t/a)]]*Tabelle27[[#This Row],[Emissionsfaktor Behandlung (t CO2 eq/t)]],"") | T33: =IF(Tabelle27[[#This Row],[Emissionen Behandlung (t CO2 eq/a)]]="",0,Tabelle27[[#This Row],[Emissionen Behandlung (t CO2 eq/a)]])+IF(Tabelle27[[#This Row],[Emissionen Transport (t CO2 eq/a)]]="",0,Tabelle27[[#This Row],[Emissionen Transport (t CO2 eq/a)]]) -> 0
A34: 160210* | B34: =IF(MID(A34,7,1)="*","*","") -> * | C34: =IF(B34="*","gefährlich","nicht gefährlich") -> gefährlich | D34: 160210*/ gebrauchte Geräte, die PCB enthalten oder damit verunreinigt sind, mit Ausnahme derjenigen, die unter 16 02 09 fallen | K34: =IFERROR(Tabelle27[[#This Row],[Menge (t/a)]]/Tabelle27[[#This Row],[Anzahl Transporte]],"") | N34: =IFERROR(VLOOKUP(Tabelle27[[#This Row],[Transportmittel]],Emissionsfaktoren!$N$2:$P$11,3,FALSE),"") | O34: https://www.hansewasser.de/service/downloads/2024-05_emissionsfaktoren_spezifisch.xlsx | P34: =IFERROR((Tabelle27[[#This Row],[Menge pro Transport (t)]]*Tabelle27[[#This Row],[Transportweg zur Entsorgungsanlage Hin und Rückweg (km)]]*Tabelle27[[#This Row],[Emissionsfaktor Transport (kg CO2 eq/tkm)]]/1000)*Tabelle27[[#This Row],[Anzahl Transporte]],"") | Q34: =IF(VLOOKUP(Tabelle27[[#This Row],[Abfallschlüssel-nummer]],Emissionsfaktoren!$A$2:$K$67,MATCH(Tabelle27[[#This Row],[Verwertung/ Beseitigung]],Emissionsfaktoren!$A$1:$K$1,0)+1,FALSE)=0,"",VLOOKUP(Tabelle27[[#This Row],[Abfallschlüssel-nummer]],Emissionsfaktoren!$A$2:$K$67,MATCH(Tabelle27[[#This Row],[Verwertung/ Beseitigung]],Emissionsfaktoren!$A$1:$K$1,0)+1,FALSE)) -> #N/A | R34: =IF(VLOOKUP(Tabelle27[[#This Row],[Abfallschlüssel-nummer]],Emissionsfaktoren!$A$2:$K$67,MATCH(Tabelle27[[#This Row],[Verwertung/ Beseitigung]],Emissionsfaktoren!$A$1:$K$1,0)+2,FALSE)=0,"",VLOOKUP(Tabelle27[[#This Row],[Abfallschlüssel-nummer]],Emissionsfaktoren!$A$2:$K$67,MATCH(Tabelle27[[#This Row],[Verwertung/ Beseitigung]],Emissionsfaktoren!$A$1:$K$1,0)+2,FALSE)) -> #N/A | S34: =IFERROR(Tabelle27[[#This Row],[Menge (t/a)]]*Tabelle27[[#This Row],[Emissionsfaktor Behandlung (t CO2 eq/t)]],"") | T34: =IF(Tabelle27[[#This Row],[Emissionen Behandlung (t CO2 eq/a)]]="",0,Tabelle27[[#This Row],[Emissionen Behandlung (t CO2 eq/a)]])+IF(Tabelle27[[#This Row],[Emissionen Transport (t CO2 eq/a)]]="",0,Tabelle27[[#This Row],[Emissionen Transport (t CO2 eq/a)]]) -> 0
A35: 160211* | B35: =IF(MID(A35,7,1)="*","*","") -> * | C35: =IF(B35="*","gefährlich","nicht gefährlich") -> gefährlich | D35: 160211*/gebrauchte Geräte, die teil- und vollhalogenierte Fluorchlorkohlenwasserstoffe enthalten | K35: =IFERROR(Tabelle27[[#This Row],[Menge (t/a)]]/Tabelle27[[#This Row],[Anzahl Transporte]],"") | N35: =IFERROR(VLOOKUP(Tabelle27[[#This Row],[Transportmittel]],Emissionsfaktoren!$N$2:$P$11,3,FALSE),"") | O35: https://www.hansewasser.de/service/downloads/2024-05_emissionsfaktoren_spezifisch.xlsx | P35: =IFERROR((Tabelle27[[#This Row],[Menge pro Transport (t)]]*Tabelle27[[#This Row],[Transportweg zur Entsorgungsanlage Hin und Rückweg (km)]]*Tabelle27[[#This Row],[Emissionsfaktor Transport (kg CO2 eq/tkm)]]/1000)*Tabelle27[[#This Row],[Anzahl Transporte]],"") | Q35: =IF(VLOOKUP(Tabelle27[[#This Row],[Abfallschlüssel-nummer]],Emissionsfaktoren!$A$2:$K$67,MATCH(Tabelle27[[#This Row],[Verwertung/ Beseitigung]],Emissionsfaktoren!$A$1:$K$1,0)+1,FALSE)=0,"",VLOOKUP(Tabelle27[[#This Row],[Abfallschlüssel-nummer]],Emissionsfaktoren!$A$2:$K$67,MATCH(Tabelle27[[#This Row],[Verwertung/ Beseitigung]],Emissionsfaktoren!$A$1:$K$1,0)+1,FALSE)) -> #N/A | R35: =IF(VLOOKUP(Tabelle27[[#This Row],[Abfallschlüssel-nummer]],Emissionsfaktoren!$A$2:$K$67,MATCH(Tabelle27[[#This Row],[Verwertung/ Beseitigung]],Emissionsfaktoren!$A$1:$K$1,0)+2,FALSE)=0,"",VLOOKUP(Tabelle27[[#This Row],[Abfallschlüssel-nummer]],Emissionsfaktoren!$A$2:$K$67,MATCH(Tabelle27[[#This Row],[Verwertung/ Beseitigung]],Emissionsfaktoren!$A$1:$K$1,0)+2,FALSE)) -> #N/A | S35: =IFERROR(Tabelle27[[#This Row],[Menge (t/a)]]*Tabelle27[[#This Row],[Emissionsfaktor Behandlung (t CO2 eq/t)]],"") | T35: =IF(Tabelle27[[#This Row],[Emissionen Behandlung (t CO2 eq/a)]]="",0,Tabelle27[[#This Row],[Emissionen Behandlung (t CO2 eq/a)]])+IF(Tabelle27[[#This Row],[Emissionen Transport (t CO2 eq/a)]]="",0,Tabelle27[[#This Row],[Emissionen Transport (t CO2 eq/a)]]) -> 0
A36: 160213* | B36: =IF(MID(A36,7,1)="*","*","") -> * | C36: =IF(B36="*","gefährlich","nicht gefährlich") -> gefährlich | D36: 160213*/gefährliche Bestandteile enthaltende gebrauchte Geräte mit Ausnahme derjenigen, die unter 16 02 09 bis 16 02 12 fallen | K36: =IFERROR(Tabelle27[[#This Row],[Menge (t/a)]]/Tabelle27[[#This Row],[Anzahl Transporte]],"") | N36: =IFERROR(VLOOKUP(Tabelle27[[#This Row],[Transportmittel]],Emissionsfaktoren!$N$2:$P$11,3,FALSE),"") | O36: https://www.hansewasser.de/service/downloads/2024-05_emissionsfaktoren_spezifisch.xlsx | P36: =IFERROR((Tabelle27[[#This Row],[Menge pro Transport (t)]]*Tabelle27[[#This Row],[Transportweg zur Entsorgungsanlage Hin und Rückweg (km)]]*Tabelle27[[#This Row],[Emissionsfaktor Transport (kg CO2 eq/tkm)]]/1000)*Tabelle27[[#This Row],[Anzahl Transporte]],"") | Q36: =IF(VLOOKUP(Tabelle27[[#This Row],[Abfallschlüssel-nummer]],Emissionsfaktoren!$A$2:$K$67,MATCH(Tabelle27[[#This Row],[Verwertung/ Beseitigung]],Emissionsfaktoren!$A$1:$K$1,0)+1,FALSE)=0,"",VLOOKUP(Tabelle27[[#This Row],[Abfallschlüssel-nummer]],Emissionsfaktoren!$A$2:$K$67,MATCH(Tabelle27[[#This Row],[Verwertung/ Beseitigung]],Emissionsfaktoren!$A$1:$K$1,0)+1,FALSE)) -> #N/A | R36: =IF(VLOOKUP(Tabelle27[[#This Row],[Abfallschlüssel-nummer]],Emissionsfaktoren!$A$2:$K$67,MATCH(Tabelle27[[#This Row],[Verwertung/ Beseitigung]],Emissionsfaktoren!$A$1:$K$1,0)+2,FALSE)=0,"",VLOOKUP(Tabelle27[[#This Row],[Abfallschlüssel-nummer]],Emissionsfaktoren!$A$2:$K$67,MATCH(Tabelle27[[#This Row],[Verwertung/ Beseitigung]],Emissionsfaktoren!$A$1:$K$1,0)+2,FALSE)) -> #N/A | S36: =IFERROR(Tabelle27[[#This Row],[Menge (t/a)]]*Tabelle27[[#This Row],[Emissionsfaktor Behandlung (t CO2 eq/t)]],"") | T36: =IF(Tabelle27[[#This Row],[Emissionen Behandlung (t CO2 eq/a)]]="",0,Tabelle27[[#This Row],[Emissionen Behandlung (t CO2 eq/a)]])+IF(Tabelle27[[#This Row],[Emissionen Transport (t CO2 eq/a)]]="",0,Tabelle27[[#This Row],[Emissionen Transport (t CO2 eq/a)]]) -> 0
A37: 160214 | B37: =IF(MID(A37,7,1)="*","*","") | C37: =IF(B37="*","gefährlich","nicht gefährlich") -> nicht gefährlich | D37: 160214/ gebrauchte Geräte mit Ausnahme derjenigen, die unter 16 02 09 bis 16 02 13 fallen | K37: =IFERROR(Tabelle27[[#This Row],[Menge (t/a)]]/Tabelle27[[#This Row],[Anzahl Transporte]],"") | N37: =IFERROR(VLOOKUP(Tabelle27[[#This Row],[Transportmittel]],Emissionsfaktoren!$N$2:$P$11,3,FALSE),"") | O37: https://www.hansewasser.de/service/downloads/2024-05_emissionsfaktoren_spezifisch.xlsx | P37: =IFERROR((Tabelle27[[#This Row],[Menge pro Transport (t)]]*Tabelle27[[#This Row],[Transportweg zur Entsorgungsanlage Hin und Rückweg (km)]]*Tabelle27[[#This Row],[Emissionsfaktor Transport (kg CO2 eq/tkm)]]/1000)*Tabelle27[[#This Row],[Anzahl Transporte]],"") | Q37: =IF(VLOOKUP(Tabelle27[[#This Row],[Abfallschlüssel-nummer]],Emissionsfaktoren!$A$2:$K$67,MATCH(Tabelle27[[#This Row],[Verwertung/ Beseitigung]],Emissionsfaktoren!$A$1:$K$1,0)+1,FALSE)=0,"",VLOOKUP(Tabelle27[[#This Row],[Abfallschlüssel-nummer]],Emissionsfaktoren!$A$2:$K$67,MATCH(Tabelle27[[#This Row],[Verwertung/ Beseitigung]],Emissionsfaktoren!$A$1:$K$1,0)+1,FALSE)) -> #N/A | R37: =IF(VLOOKUP(Tabelle27[[#This Row],[Abfallschlüssel-nummer]],Emissionsfaktoren!$A$2:$K$67,MATCH(Tabelle27[[#This Row],[Verwertung/ Beseitigung]],Emissionsfaktoren!$A$1:$K$1,0)+2,FALSE)=0,"",VLOOKUP(Tabelle27[[#This Row],[Abfallschlüssel-nummer]],Emissionsfaktoren!$A$2:$K$67,MATCH(Tabelle27[[#This Row],[Verwertung/ Beseitigung]],Emissionsfaktoren!$A$1:$K$1,0)+2,FALSE)) -> #N/A | S37: =IFERROR(Tabelle27[[#This Row],[Menge (t/a)]]*Tabelle27[[#This Row],[Emissionsfaktor Behandlung (t CO2 eq/t)]],"") | T37: =IF(Tabelle27[[#This Row],[Emissionen Behandlung (t CO2 eq/a)]]="",0,Tabelle27[[#This Row],[Emissionen Behandlung (t CO2 eq/a)]])+IF(Tabelle27[[#This Row],[Emissionen Transport (t CO2 eq/a)]]="",0,Tabelle27[[#This Row],[Emissionen Transport (t CO2 eq/a)]]) -> 0
A38: 160506* | B38: =IF(MID(A38,7,1)="*","*","") -> * | C38: =IF(B38="*","gefährlich","nicht gefährlich") -> gefährlich | D38: 160506*/ Laborchemikalien, die aus gefährlichen Stoffen bestehen oder solche enthalten, einschliesslich Gemische von Laborchemikalien | K38: =IFERROR(Tabelle27[[#This Row],[Menge (t/a)]]/Tabelle27[[#This Row],[Anzahl Transporte]],"") | N38: =IFERROR(VLOOKUP(Tabelle27[[#This Row],[Transportmittel]],Emissionsfaktoren!$N$2:$P$11,3,FALSE),"") | O38: https://www.hansewasser.de/service/downloads/2024-05_emissionsfaktoren_spezifisch.xlsx | P38: =IFERROR((Tabelle27[[#This Row],[Menge pro Transport (t)]]*Tabelle27[[#This Row],[Transportweg zur Entsorgungsanlage Hin und Rückweg (km)]]*Tabelle27[[#This Row],[Emissionsfaktor Transport (kg CO2 eq/tkm)]]/1000)*Tabelle27[[#This Row],[Anzahl Transporte]],"") | Q38: =IF(VLOOKUP(Tabelle27[[#This Row],[Abfallschlüssel-nummer]],Emissionsfaktoren!$A$2:$K$67,MATCH(Tabelle27[[#This Row],[Verwertung/ Beseitigung]],Emissionsfaktoren!$A$1:$K$1,0)+1,FALSE)=0,"",VLOOKUP(Tabelle27[[#This Row],[Abfallschlüssel-nummer]],Emissionsfaktoren!$A$2:$K$67,MATCH(Tabelle27[[#This Row],[Verwertung/ Beseitigung]],Emissionsfaktoren!$A$1:$K$1,0)+1,FALSE)) -> #N/A | R38: =IF(VLOOKUP(Tabelle27[[#This Row],[Abfallschlüssel-nummer]],Emissionsfaktoren!$A$2:$K$67,MATCH(Tabelle27[[#This Row],[Verwertung/ Beseitigung]],Emissionsfaktoren!$A$1:$K$1,0)+2,FALSE)=0,"",VLOOKUP(Tabelle27[[#This Row],[Abfallschlüssel-nummer]],Emissionsfaktoren!$A$2:$K$67,MATCH(Tabelle27[[#This Row],[Verwertung/ Beseitigung]],Emissionsfaktoren!$A$1:$K$1,0)+2,FALSE)) -> #N/A | S38: =IFERROR(Tabelle27[[#This Row],[Menge (t/a)]]*Tabelle27[[#This Row],[Emissionsfaktor Behandlung (t CO2 eq/t)]],"") | T38: =IF(Tabelle27[[#This Row],[Emissionen Behandlung (t CO2 eq/a)]]="",0,Tabelle27[[#This Row],[Emissionen Behandlung (t CO2 eq/a)]])+IF(Tabelle27[[#This Row],[Emissionen Transport (t CO2 eq/a)]]="",0,Tabelle27[[#This Row],[Emissionen Transport (t CO2 eq/a)]]) -> 0
A39: 160601* | B39: =IF(MID(A39,7,1)="*","*","") -> * | C39: =IF(B39="*","gefährlich","nicht gefährlich") -> gefährlich | D39: 160601*/ Bleibatterien | K39: =IFERROR(Tabelle27[[#This Row],[Menge (t/a)]]/Tabelle27[[#This Row],[Anzahl Transporte]],"") | N39: =IFERROR(VLOOKUP(Tabelle27[[#This Row],[Transportmittel]],Emissionsfaktoren!$N$2:$P$11,3,FALSE),"") | O39: https://www.hansewasser.de/service/downloads/2024-05_emissionsfaktoren_spezifisch.xlsx | P39: =IFERROR((Tabelle27[[#This Row],[Menge pro Transport (t)]]*Tabelle27[[#This Row],[Transportweg zur Entsorgungsanlage Hin und Rückweg (km)]]*Tabelle27[[#This Row],[Emissionsfaktor Transport (kg CO2 eq/tkm)]]/1000)*Tabelle27[[#This Row],[Anzahl Transporte]],"") | Q39: =IF(VLOOKUP(Tabelle27[[#This Row],[Abfallschlüssel-nummer]],Emissionsfaktoren!$A$2:$K$67,MATCH(Tabelle27[[#This Row],[Verwertung/ Beseitigung]],Emissionsfaktoren!$A$1:$K$1,0)+1,FALSE)=0,"",VLOOKUP(Tabelle27[[#This Row],[Abfallschlüssel-nummer]],Emissionsfaktoren!$A$2:$K$67,MATCH(Tabelle27[[#This Row],[Verwertung/ Beseitigung]],Emissionsfaktoren!$A$1:$K$1,0)+1,FALSE)) -> #N/A | R39: =IF(VLOOKUP(Tabelle27[[#This Row],[Abfallschlüssel-nummer]],Emissionsfaktoren!$A$2:$K$67,MATCH(Tabelle27[[#This Row],[Verwertung/ Beseitigung]],Emissionsfaktoren!$A$1:$K$1,0)+2,FALSE)=0,"",VLOOKUP(Tabelle27[[#This Row],[Abfallschlüssel-nummer]],Emissionsfaktoren!$A$2:$K$67,MATCH(Tabelle27[[#This Row],[Verwertung/ Beseitigung]],Emissionsfaktoren!$A$1:$K$1,0)+2,FALSE)) -> #N/A | S39: =IFERROR(Tabelle27[[#This Row],[Menge (t/a)]]*Tabelle27[[#This Row],[Emissionsfaktor Behandlung (t CO2 eq/t)]],"") | T39: =IF(Tabelle27[[#This Row],[Emissionen Behandlung (t CO2 eq/a)]]="",0,Tabelle27[[#This Row],[Emissionen Behandlung (t CO2 eq/a)]])+IF(Tabelle27[[#This Row],[Emissionen Transport (t CO2 eq/a)]]="",0,Tabelle27[[#This Row],[Emissionen Transport (t CO2 eq/a)]]) -> 0
A40: 160602* | B40: =IF(MID(A40,7,1)="*","*","") -> * | C40: =IF(B40="*","gefährlich","nicht gefährlich") -> gefährlich | D40: 160602*/ Ni-Cd-Batterien | K40: =IFERROR(Tabelle27[[#This Row],[Menge (t/a)]]/Tabelle27[[#This Row],[Anzahl Transporte]],"") | N40: =IFERROR(VLOOKUP(Tabelle27[[#This Row],[Transportmittel]],Emissionsfaktoren!$N$2:$P$11,3,FALSE),"") | O40: https://www.hansewasser.de/service/downloads/2024-05_emissionsfaktoren_spezifisch.xlsx | P40: =IFERROR((Tabelle27[[#This Row],[Menge pro Transport (t)]]*Tabelle27[[#This Row],[Transportweg zur Entsorgungsanlage Hin und Rückweg (km)]]*Tabelle27[[#This Row],[Emissionsfaktor Transport (kg CO2 eq/tkm)]]/1000)*Tabelle27[[#This Row],[Anzahl Transporte]],"") | Q40: =IF(VLOOKUP(Tabelle27[[#This Row],[Abfallschlüssel-nummer]],Emissionsfaktoren!$A$2:$K$67,MATCH(Tabelle27[[#This Row],[Verwertung/ Beseitigung]],Emissionsfaktoren!$A$1:$K$1,0)+1,FALSE)=0,"",VLOOKUP(Tabelle27[[#This Row],[Abfallschlüssel-nummer]],Emissionsfaktoren!$A$2:$K$67,MATCH(Tabelle27[[#This Row],[Verwertung/ Beseitigung]],Emissionsfaktoren!$A$1:$K$1,0)+1,FALSE)) -> #N/A | R40: =IF(VLOOKUP(Tabelle27[[#This Row],[Abfallschlüssel-nummer]],Emissionsfaktoren!$A$2:$K$67,MATCH(Tabelle27[[#This Row],[Verwertung/ Beseitigung]],Emissionsfaktoren!$A$1:$K$1,0)+2,FALSE)=0,"",VLOOKUP(Tabelle27[[#This Row],[Abfallschlüssel-nummer]],Emissionsfaktoren!$A$2:$K$67,MATCH(Tabelle27[[#This Row],[Verwertung/ Beseitigung]],Emissionsfaktoren!$A$1:$K$1,0)+2,FALSE)) -> #N/A | S40: =IFERROR(Tabelle27[[#This Row],[Menge (t/a)]]*Tabelle27[[#This Row],[Emissionsfaktor Behandlung (t CO2 eq/t)]],"") | T40: =IF(Tabelle27[[#This Row],[Emissionen Behandlung (t CO2 eq/a)]]="",0,Tabelle27[[#This Row],[Emissionen Behandlung (t CO2 eq/a)]])+IF(Tabelle27[[#This Row],[Emissionen Transport (t CO2 eq/a)]]="",0,Tabelle27[[#This Row],[Emissionen Transport (t CO2 eq/a)]]) -> 0
A41: 160605 | B41: =IF(MID(A41,7,1)="*","*","") | C41: =IF(B41="*","gefährlich","nicht gefährlich") -> nicht gefährlich | D41: 160605/ andere Batterien und Akkumulatoren | K41: =IFERROR(Tabelle27[[#This Row],[Menge (t/a)]]/Tabelle27[[#This Row],[Anzahl Transporte]],"") | N41: =IFERROR(VLOOKUP(Tabelle27[[#This Row],[Transportmittel]],Emissionsfaktoren!$N$2:$P$11,3,FALSE),"") | O41: https://www.hansewasser.de/service/downloads/2024-05_emissionsfaktoren_spezifisch.xlsx | P41: =IFERROR((Tabelle27[[#This Row],[Menge pro Transport (t)]]*Tabelle27[[#This Row],[Transportweg zur Entsorgungsanlage Hin und Rückweg (km)]]*Tabelle27[[#This Row],[Emissionsfaktor Transport (kg CO2 eq/tkm)]]/1000)*Tabelle27[[#This Row],[Anzahl Transporte]],"") | Q41: =IF(VLOOKUP(Tabelle27[[#This Row],[Abfallschlüssel-nummer]],Emissionsfaktoren!$A$2:$K$67,MATCH(Tabelle27[[#This Row],[Verwertung/ Beseitigung]],Emissionsfaktoren!$A$1:$K$1,0)+1,FALSE)=0,"",VLOOKUP(Tabelle27[[#This Row],[Abfallschlüssel-nummer]],Emissionsfaktoren!$A$2:$K$67,MATCH(Tabelle27[[#This Row],[Verwertung/ Beseitigung]],Emissionsfaktoren!$A$1:$K$1,0)+1,FALSE)) -> #N/A | R41: =IF(VLOOKUP(Tabelle27[[#This Row],[Abfallschlüssel-nummer]],Emissionsfaktoren!$A$2:$K$67,MATCH(Tabelle27[[#This Row],[Verwertung/ Beseitigung]],Emissionsfaktoren!$A$1:$K$1,0)+2,FALSE)=0,"",VLOOKUP(Tabelle27[[#This Row],[Abfallschlüssel-nummer]],Emissionsfaktoren!$A$2:$K$67,MATCH(Tabelle27[[#This Row],[Verwertung/ Beseitigung]],Emissionsfaktoren!$A$1:$K$1,0)+2,FALSE)) -> #N/A | S41: =IFERROR(Tabelle27[[#This Row],[Menge (t/a)]]*Tabelle27[[#This Row],[Emissionsfaktor Behandlung (t CO2 eq/t)]],"") | T41: =IF(Tabelle27[[#This Row],[Emissionen Behandlung (t CO2 eq/a)]]="",0,Tabelle27[[#This Row],[Emissionen Behandlung (t CO2 eq/a)]])+IF(Tabelle27[[#This Row],[Emissionen Transport (t CO2 eq/a)]]="",0,Tabelle27[[#This Row],[Emissionen Transport (t CO2 eq/a)]]) -> 0
A42: 160708* | B42: =IF(MID(A42,7,1)="*","*","") -> * | C42: =IF(B42="*","gefährlich","nicht gefährlich") -> gefährlich | D42: 160708*/ ölhaltige Abfälle | K42: =IFERROR(Tabelle27[[#This Row],[Menge (t/a)]]/Tabelle27[[#This Row],[Anzahl Transporte]],"") | N42: =IFERROR(VLOOKUP(Tabelle27[[#This Row],[Transportmittel]],Emissionsfaktoren!$N$2:$P$11,3,FALSE),"") | O42: https://www.hansewasser.de/service/downloads/2024-05_emissionsfaktoren_spezifisch.xlsx | P42: =IFERROR((Tabelle27[[#This Row],[Menge pro Transport (t)]]*Tabelle27[[#This Row],[Transportweg zur Entsorgungsanlage Hin und Rückweg (km)]]*Tabelle27[[#This Row],[Emissionsfaktor Transport (kg CO2 eq/tkm)]]/1000)*Tabelle27[[#This Row],[Anzahl Transporte]],"") | Q42: =IF(VLOOKUP(Tabelle27[[#This Row],[Abfallschlüssel-nummer]],Emissionsfaktoren!$A$2:$K$67,MATCH(Tabelle27[[#This Row],[Verwertung/ Beseitigung]],Emissionsfaktoren!$A$1:$K$1,0)+1,FALSE)=0,"",VLOOKUP(Tabelle27[[#This Row],[Abfallschlüssel-nummer]],Emissionsfaktoren!$A$2:$K$67,MATCH(Tabelle27[[#This Row],[Verwertung/ Beseitigung]],Emissionsfaktoren!$A$1:$K$1,0)+1,FALSE)) -> #N/A | R42: =IF(VLOOKUP(Tabelle27[[#This Row],[Abfallschlüssel-nummer]],Emissionsfaktoren!$A$2:$K$67,MATCH(Tabelle27[[#This Row],[Verwertung/ Beseitigung]],Emissionsfaktoren!$A$1:$K$1,0)+2,FALSE)=0,"",VLOOKUP(Tabelle27[[#This Row],[Abfallschlüssel-nummer]],Emissionsfaktoren!$A$2:$K$67,MATCH(Tabelle27[[#This Row],[Verwertung/ Beseitigung]],Emissionsfaktoren!$A$1:$K$1,0)+2,FALSE)) -> #N/A | S42: =IFERROR(Tabelle27[[#This Row],[Menge (t/a)]]*Tabelle27[[#This Row],[Emissionsfaktor Behandlung (t CO2 eq/t)]],"") | T42: =IF(Tabelle27[[#This Row],[Emissionen Behandlung (t CO2 eq/a)]]="",0,Tabelle27[[#This Row],[Emissionen Behandlung (t CO2 eq/a)]])+IF(Tabelle27[[#This Row],[Emissionen Transport (t CO2 eq/a)]]="",0,Tabelle27[[#This Row],[Emissionen Transport (t CO2 eq/a)]]) -> 0
A43: 170101 | B43: =IF(MID(A43,7,1)="*","*","") | C43: =IF(B43="*","gefährlich","nicht gefährlich") -> nicht gefährlich | D43: 170101/ Beton | K43: =IFERROR(Tabelle27[[#This Row],[Menge (t/a)]]/Tabelle27[[#This Row],[Anzahl Transporte]],"") | N43: =IFERROR(VLOOKUP(Tabelle27[[#This Row],[Transportmittel]],Emissionsfaktoren!$N$2:$P$11,3,FALSE),"") | O43: https://www.hansewasser.de/service/downloads/2024-05_emissionsfaktoren_spezifisch.xlsx | P43: =IFERROR((Tabelle27[[#This Row],[Menge pro Transport (t)]]*Tabelle27[[#This Row],[Transportweg zur Entsorgungsanlage Hin und Rückweg (km)]]*Tabelle27[[#This Row],[Emissionsfaktor Transport (kg CO2 eq/tkm)]]/1000)*Tabelle27[[#This Row],[Anzahl Transporte]],"") | Q43: =IF(VLOOKUP(Tabelle27[[#This Row],[Abfallschlüssel-nummer]],Emissionsfaktoren!$A$2:$K$67,MATCH(Tabelle27[[#This Row],[Verwertung/ Beseitigung]],Emissionsfaktoren!$A$1:$K$1,0)+1,FALSE)=0,"",VLOOKUP(Tabelle27[[#This Row],[Abfallschlüssel-nummer]],Emissionsfaktoren!$A$2:$K$67,MATCH(Tabelle27[[#This Row],[Verwertung/ Beseitigung]],Emissionsfaktoren!$A$1:$K$1,0)+1,FALSE)) -> #N/A | R43: =IF(VLOOKUP(Tabelle27[[#This Row],[Abfallschlüssel-nummer]],Emissionsfaktoren!$A$2:$K$67,MATCH(Tabelle27[[#This Row],[Verwertung/ Beseitigung]],Emissionsfaktoren!$A$1:$K$1,0)+2,FALSE)=0,"",VLOOKUP(Tabelle27[[#This Row],[Abfallschlüssel-nummer]],Emissionsfaktoren!$A$2:$K$67,MATCH(Tabelle27[[#This Row],[Verwertung/ Beseitigung]],Emissionsfaktoren!$A$1:$K$1,0)+2,FALSE)) -> #N/A | S43: =IFERROR(Tabelle27[[#This Row],[Menge (t/a)]]*Tabelle27[[#This Row],[Emissionsfaktor Behandlung (t CO2 eq/t)]],"") | T43: =IF(Tabelle27[[#This Row],[Emissionen Behandlung (t CO2 eq/a)]]="",0,Tabelle27[[#This Row],[Emissionen Behandlung (t CO2 eq/a)]])+IF(Tabelle27[[#This Row],[Emissionen Transport (t CO2 eq/a)]]="",0,Tabelle27[[#This Row],[Emissionen Transport (t CO2 eq/a)]]) -> 0
A44: 170106* | B44: =IF(MID(A44,7,1)="*","*","") -> * | C44: =IF(B44="*","gefährlich","nicht gefährlich") -> gefährlich | D44: 170106*/ Gemische aus oder getrennte Fraktionen von Beton, Ziegeln, Fliesen und Keramik, die gefährliche Stoffe enthalten | K44: =IFERROR(Tabelle27[[#This Row],[Menge (t/a)]]/Tabelle27[[#This Row],[Anzahl Transporte]],"") | N44: =IFERROR(VLOOKUP(Tabelle27[[#This Row],[Transportmittel]],Emissionsfaktoren!$N$2:$P$11,3,FALSE),"") | O44: https://www.hansewasser.de/service/downloads/2024-05_emissionsfaktoren_spezifisch.xlsx | P44: =IFERROR((Tabelle27[[#This Row],[Menge pro Transport (t)]]*Tabelle27[[#This Row],[Transportweg zur Entsorgungsanlage Hin und Rückweg (km)]]*Tabelle27[[#This Row],[Emissionsfaktor Transport (kg CO2 eq/tkm)]]/1000)*Tabelle27[[#This Row],[Anzahl Transporte]],"") | Q44: =IF(VLOOKUP(Tabelle27[[#This Row],[Abfallschlüssel-nummer]],Emissionsfaktoren!$A$2:$K$67,MATCH(Tabelle27[[#This Row],[Verwertung/ Beseitigung]],Emissionsfaktoren!$A$1:$K$1,0)+1,FALSE)=0,"",VLOOKUP(Tabelle27[[#This Row],[Abfallschlüssel-nummer]],Emissionsfaktoren!$A$2:$K$67,MATCH(Tabelle27[[#This Row],[Verwertung/ Beseitigung]],Emissionsfaktoren!$A$1:$K$1,0)+1,FALSE)) -> #N/A | R44: =IF(VLOOKUP(Tabelle27[[#This Row],[Abfallschlüssel-nummer]],Emissionsfaktoren!$A$2:$K$67,MATCH(Tabelle27[[#This Row],[Verwertung/ Beseitigung]],Emissionsfaktoren!$A$1:$K$1,0)+2,FALSE)=0,"",VLOOKUP(Tabelle27[[#This Row],[Abfallschlüssel-nummer]],Emissionsfaktoren!$A$2:$K$67,MATCH(Tabelle27[[#This Row],[Verwertung/ Beseitigung]],Emissionsfaktoren!$A$1:$K$1,0)+2,FALSE)) -> #N/A | S44: =IFERROR(Tabelle27[[#This Row],[Menge (t/a)]]*Tabelle27[[#This Row],[Emissionsfaktor Behandlung (t CO2 eq/t)]],"") | T44: =IF(Tabelle27[[#This Row],[Emissionen Behandlung (t CO2 eq/a)]]="",0,Tabelle27[[#This Row],[Emissionen Behandlung (t CO2 eq/a)]])+IF(Tabelle27[[#This Row],[Emissionen Transport (t CO2 eq/a)]]="",0,Tabelle27[[#This Row],[Emissionen Transport (t CO2 eq/a)]]) -> 0
A45: 170107 | B45: =IF(MID(A45,7,1)="*","*","") | C45: =IF(B45="*","gefährlich","nicht gefährlich") -> nicht gefährlich | D45: 170107/ Gemische aus Beton, Ziegeln, Fliesen und Keramik mit Ausnahme derjenigen, die unter 17 01 06 fallen(Bauschutt) | K45: =IFERROR(Tabelle27[[#This Row],[Menge (t/a)]]/Tabelle27[[#This Row],[Anzahl Transporte]],"") | N45: =IFERROR(VLOOKUP(Tabelle27[[#This Row],[Transportmittel]],Emissionsfaktoren!$N$2:$P$11,3,FALSE),"") | O45: https://www.hansewasser.de/service/downloads/2024-05_emissionsfaktoren_spezifisch.xlsx | P45: =IFERROR((Tabelle27[[#This Row],[Menge pro Transport (t)]]*Tabelle27[[#This Row],[Transportweg zur Entsorgungsanlage Hin und Rückweg (km)]]*Tabelle27[[#This Row],[Emissionsfaktor Transport (kg CO2 eq/tkm)]]/1000)*Tabelle27[[#This Row],[Anzahl Transporte]],"") | Q45: =IF(VLOOKUP(Tabelle27[[#This Row],[Abfallschlüssel-nummer]],Emissionsfaktoren!$A$2:$K$67,MATCH(Tabelle27[[#This Row],[Verwertung/ Beseitigung]],Emissionsfaktoren!$A$1:$K$1,0)+1,FALSE)=0,"",VLOOKUP(Tabelle27[[#This Row],[Abfallschlüssel-nummer]],Emissionsfaktoren!$A$2:$K$67,MATCH(Tabelle27[[#This Row],[Verwertung/ Beseitigung]],Emissionsfaktoren!$A$1:$K$1,0)+1,FALSE)) -> #N/A | R45: =IF(VLOOKUP(Tabelle27[[#This Row],[Abfallschlüssel-nummer]],Emissionsfaktoren!$A$2:$K$67,MATCH(Tabelle27[[#This Row],[Verwertung/ Beseitigung]],Emissionsfaktoren!$A$1:$K$1,0)+2,FALSE)=0,"",VLOOKUP(Tabelle27[[#This Row],[Abfallschlüssel-nummer]],Emissionsfaktoren!$A$2:$K$67,MATCH(Tabelle27[[#This Row],[Verwertung/ Beseitigung]],Emissionsfaktoren!$A$1:$K$1,0)+2,FALSE)) -> #N/A | S45: =IFERROR(Tabelle27[[#This Row],[Menge (t/a)]]*Tabelle27[[#This Row],[Emissionsfaktor Behandlung (t CO2 eq/t)]],"") | T45: =IF(Tabelle27[[#This Row],[Emissionen Behandlung (t CO2 eq/a)]]="",0,Tabelle27[[#This Row],[Emissionen Behandlung (t CO2 eq/a)]])+IF(Tabelle27[[#This Row],[Emissionen Transport (t CO2 eq/a)]]="",0,Tabelle27[[#This Row],[Emissionen Transport (t CO2 eq/a)]]) -> 0
A46: 170201 | B46: =IF(MID(A46,7,1)="*","*","") | C46: =IF(B46="*","gefährlich","nicht gefährlich") -> nicht gefährlich | D46: 170201/ Holz | K46: =IFERROR(Tabelle27[[#This Row],[Menge (t/a)]]/Tabelle27[[#This Row],[Anzahl Transporte]],"") | N46: =IFERROR(VLOOKUP(Tabelle27[[#This Row],[Transportmittel]],Emissionsfaktoren!$N$2:$P$11,3,FALSE),"") | O46: https://www.hansewasser.de/service/downloads/2024-05_emissionsfaktoren_spezifisch.xlsx | P46: =IFERROR((Tabelle27[[#This Row],[Menge pro Transport (t)]]*Tabelle27[[#This Row],[Transportweg zur Entsorgungsanlage Hin und Rückweg (km)]]*Tabelle27[[#This Row],[Emissionsfaktor Transport (kg CO2 eq/tkm)]]/1000)*Tabelle27[[#This Row],[Anzahl Transporte]],"") | Q46: =IF(VLOOKUP(Tabelle27[[#This Row],[Abfallschlüssel-nummer]],Emissionsfaktoren!$A$2:$K$67,MATCH(Tabelle27[[#This Row],[Verwertung/ Beseitigung]],Emissionsfaktoren!$A$1:$K$1,0)+1,FALSE)=0,"",VLOOKUP(Tabelle27[[#This Row],[Abfallschlüssel-nummer]],Emissionsfaktoren!$A$2:$K$67,MATCH(Tabelle27[[#This Row],[Verwertung/ Beseitigung]],Emissionsfaktoren!$A$1:$K$1,0)+1,FALSE)) -> #N/A | R46: =IF(VLOOKUP(Tabelle27[[#This Row],[Abfallschlüssel-nummer]],Emissionsfaktoren!$A$2:$K$67,MATCH(Tabelle27[[#This Row],[Verwertung/ Beseitigung]],Emissionsfaktoren!$A$1:$K$1,0)+2,FALSE)=0,"",VLOOKUP(Tabelle27[[#This Row],[Abfallschlüssel-nummer]],Emissionsfaktoren!$A$2:$K$67,MATCH(Tabelle27[[#This Row],[Verwertung/ Beseitigung]],Emissionsfaktoren!$A$1:$K$1,0)+2,FALSE)) -> #N/A | S46: =IFERROR(Tabelle27[[#This Row],[Menge (t/a)]]*Tabelle27[[#This Row],[Emissionsfaktor Behandlung (t CO2 eq/t)]],"") | T46: =IF(Tabelle27[[#This Row],[Emissionen Behandlung (t CO2 eq/a)]]="",0,Tabelle27[[#This Row],[Emissionen Behandlung (t CO2 eq/a)]])+IF(Tabelle27[[#This Row],[Emissionen Transport (t CO2 eq/a)]]="",0,Tabelle27[[#This Row],[Emissionen Transport (t CO2 eq/a)]]) -> 0
A47: 170203 | B47: =IF(MID(A47,7,1)="*","*","") | C47: =IF(B47="*","gefährlich","nicht gefährlich") -> nicht gefährlich | D47: 170203/ Kunststoff | K47: =IFERROR(Tabelle27[[#This Row],[Menge (t/a)]]/Tabelle27[[#This Row],[Anzahl Transporte]],"") | N47: =IFERROR(VLOOKUP(Tabelle27[[#This Row],[Transportmittel]],Emissionsfaktoren!$N$2:$P$11,3,FALSE),"") | O47: https://www.hansewasser.de/service/downloads/2024-05_emissionsfaktoren_spezifisch.xlsx | P47: =IFERROR((Tabelle27[[#This Row],[Menge pro Transport (t)]]*Tabelle27[[#This Row],[Transportweg zur Entsorgungsanlage Hin und Rückweg (km)]]*Tabelle27[[#This Row],[Emissionsfaktor Transport (kg CO2 eq/tkm)]]/1000)*Tabelle27[[#This Row],[Anzahl Transporte]],"") | Q47: =IF(VLOOKUP(Tabelle27[[#This Row],[Abfallschlüssel-nummer]],Emissionsfaktoren!$A$2:$K$67,MATCH(Tabelle27[[#This Row],[Verwertung/ Beseitigung]],Emissionsfaktoren!$A$1:$K$1,0)+1,FALSE)=0,"",VLOOKUP(Tabelle27[[#This Row],[Abfallschlüssel-nummer]],Emissionsfaktoren!$A$2:$K$67,MATCH(Tabelle27[[#This Row],[Verwertung/ Beseitigung]],Emissionsfaktoren!$A$1:$K$1,0)+1,FALSE)) -> #N/A | R47: =IF(VLOOKUP(Tabelle27[[#This Row],[Abfallschlüssel-nummer]],Emissionsfaktoren!$A$2:$K$67,MATCH(Tabelle27[[#This Row],[Verwertung/ Beseitigung]],Emissionsfaktoren!$A$1:$K$1,0)+2,FALSE)=0,"",VLOOKUP(Tabelle27[[#This Row],[Abfallschlüssel-nummer]],Emissionsfaktoren!$A$2:$K$67,MATCH(Tabelle27[[#This Row],[Verwertung/ Beseitigung]],Emissionsfaktoren!$A$1:$K$1,0)+2,FALSE)) -> #N/A | S47: =IFERROR(Tabelle27[[#This Row],[Menge (t/a)]]*Tabelle27[[#This Row],[Emissionsfaktor Behandlung (t CO2 eq/t)]],"") | T47: =IF(Tabelle27[[#This Row],[Emissionen Behandlung (t CO2 eq/a)]]="",0,Tabelle27[[#This Row],[Emissionen Behandlung (t CO2 eq/a)]])+IF(Tabelle27[[#This Row],[Emissionen Transport (t CO2 eq/a)]]="",0,Tabelle27[[#This Row],[Emissionen Transport (t CO2 eq/a)]]) -> 0
A48: 170204* | B48: =IF(MID(A48,7,1)="*","*","") -> * | C48: =IF(B48="*","gefährlich","nicht gefährlich") -> gefährlich | D48: 170204*/Glas, Kunststoff und Holz, die gefährliche Stoffe enthalten oder durch gefährliche Stoffe verunreinigt sind | K48: =IFERROR(Tabelle27[[#This Row],[Menge (t/a)]]/Tabelle27[[#This Row],[Anzahl Transporte]],"") | N48: =IFERROR(VLOOKUP(Tabelle27[[#This Row],[Transportmittel]],Emissionsfaktoren!$N$2:$P$11,3,FALSE),"") | O48: https://www.hansewasser.de/service/downloads/2024-05_emissionsfaktoren_spezifisch.xlsx | P48: =IFERROR((Tabelle27[[#This Row],[Menge pro Transport (t)]]*Tabelle27[[#This Row],[Transportweg zur Entsorgungsanlage Hin und Rückweg (km)]]*Tabelle27[[#This Row],[Emissionsfaktor Transport (kg CO2 eq/tkm)]]/1000)*Tabelle27[[#This Row],[Anzahl Transporte]],"") | Q48: =IF(VLOOKUP(Tabelle27[[#This Row],[Abfallschlüssel-nummer]],Emissionsfaktoren!$A$2:$K$67,MATCH(Tabelle27[[#This Row],[Verwertung/ Beseitigung]],Emissionsfaktoren!$A$1:$K$1,0)+1,FALSE)=0,"",VLOOKUP(Tabelle27[[#This Row],[Abfallschlüssel-nummer]],Emissionsfaktoren!$A$2:$K$67,MATCH(Tabelle27[[#This Row],[Verwertung/ Beseitigung]],Emissionsfaktoren!$A$1:$K$1,0)+1,FALSE)) -> #N/A | R48: =IF(VLOOKUP(Tabelle27[[#This Row],[Abfallschlüssel-nummer]],Emissionsfaktoren!$A$2:$K$67,MATCH(Tabelle27[[#This Row],[Verwertung/ Beseitigung]],Emissionsfaktoren!$A$1:$K$1,0)+2,FALSE)=0,"",VLOOKUP(Tabelle27[[#This Row],[Abfallschlüssel-nummer]],Emissionsfaktoren!$A$2:$K$67,MATCH(Tabelle27[[#This Row],[Verwertung/ Beseitigung]],Emissionsfaktoren!$A$1:$K$1,0)+2,FALSE)) -> #N/A | S48: =IFERROR(Tabelle27[[#This Row],[Menge (t/a)]]*Tabelle27[[#This Row],[Emissionsfaktor Behandlung (t CO2 eq/t)]],"") | T48: =IF(Tabelle27[[#This Row],[Emissionen Behandlung (t CO2 eq/a)]]="",0,Tabelle27[[#This Row],[Emissionen Behandlung (t CO2 eq/a)]])+IF(Tabelle27[[#This Row],[Emissionen Transport (t CO2 eq/a)]]="",0,Tabelle27[[#This Row],[Emissionen Transport (t CO2 eq/a)]]) -> 0
A49: 170303* | B49: =IF(MID(A49,7,1)="*","*","") -> * | C49: =IF(B49="*","gefährlich","nicht gefährlich") -> gefährlich | D49: 170303*/ Kohlenteer und teerhaltige Produkte | K49: =IFERROR(Tabelle27[[#This Row],[Menge (t/a)]]/Tabelle27[[#This Row],[Anzahl Transporte]],"") | N49: =IFERROR(VLOOKUP(Tabelle27[[#This Row],[Transportmittel]],Emissionsfaktoren!$N$2:$P$11,3,FALSE),"") | O49: https://www.hansewasser.de/service/downloads/2024-05_emissionsfaktoren_spezifisch.xlsx | P49: =IFERROR((Tabelle27[[#This Row],[Menge pro Transport (t)]]*Tabelle27[[#This Row],[Transportweg zur Entsorgungsanlage Hin und Rückweg (km)]]*Tabelle27[[#This Row],[Emissionsfaktor Transport (kg CO2 eq/tkm)]]/1000)*Tabelle27[[#This Row],[Anzahl Transporte]],"") | Q49: =IF(VLOOKUP(Tabelle27[[#This Row],[Abfallschlüssel-nummer]],Emissionsfaktoren!$A$2:$K$67,MATCH(Tabelle27[[#This Row],[Verwertung/ Beseitigung]],Emissionsfaktoren!$A$1:$K$1,0)+1,FALSE)=0,"",VLOOKUP(Tabelle27[[#This Row],[Abfallschlüssel-nummer]],Emissionsfaktoren!$A$2:$K$67,MATCH(Tabelle27[[#This Row],[Verwertung/ Beseitigung]],Emissionsfaktoren!$A$1:$K$1,0)+1,FALSE)) -> #N/A | R49: =IF(VLOOKUP(Tabelle27[[#This Row],[Abfallschlüssel-nummer]],Emissionsfaktoren!$A$2:$K$67,MATCH(Tabelle27[[#This Row],[Verwertung/ Beseitigung]],Emissionsfaktoren!$A$1:$K$1,0)+2,FALSE)=0,"",VLOOKUP(Tabelle27[[#This Row],[Abfallschlüssel-nummer]],Emissionsfaktoren!$A$2:$K$67,MATCH(Tabelle27[[#This Row],[Verwertung/ Beseitigung]],Emissionsfaktoren!$A$1:$K$1,0)+2,FALSE)) -> #N/A | S49: =IFERROR(Tabelle27[[#This Row],[Menge (t/a)]]*Tabelle27[[#This Row],[Emissionsfaktor Behandlung (t CO2 eq/t)]],"") | T49: =IF(Tabelle27[[#This Row],[Emissionen Behandlung (t CO2 eq/a)]]="",0,Tabelle27[[#This Row],[Emissionen Behandlung (t CO2 eq/a)]])+IF(Tabelle27[[#This Row],[Emissionen Transport (t CO2 eq/a)]]="",0,Tabelle27[[#This Row],[Emissionen Transport (t CO2 eq/a)]]) -> 0
A50: 170405 | B50: =IF(MID(A50,7,1)="*","*","") | C50: =IF(B50="*","gefährlich","nicht gefährlich") -> nicht gefährlich | D50: 170405/ Eisen und Stahl | K50: =IFERROR(Tabelle27[[#This Row],[Menge (t/a)]]/Tabelle27[[#This Row],[Anzahl Transporte]],"") | N50: =IFERROR(VLOOKUP(Tabelle27[[#This Row],[Transportmittel]],Emissionsfaktoren!$N$2:$P$11,3,FALSE),"") | O50: https://www.hansewasser.de/service/downloads/2024-05_emissionsfaktoren_spezifisch.xlsx | P50: =IFERROR((Tabelle27[[#This Row],[Menge pro Transport (t)]]*Tabelle27[[#This Row],[Transportweg zur Entsorgungsanlage Hin und Rückweg (km)]]*Tabelle27[[#This Row],[Emissionsfaktor Transport (kg CO2 eq/tkm)]]/1000)*Tabelle27[[#This Row],[Anzahl Transporte]],"") | Q50: =IF(VLOOKUP(Tabelle27[[#This Row],[Abfallschlüssel-nummer]],Emissionsfaktoren!$A$2:$K$67,MATCH(Tabelle27[[#This Row],[Verwertung/ Beseitigung]],Emissionsfaktoren!$A$1:$K$1,0)+1,FALSE)=0,"",VLOOKUP(Tabelle27[[#This Row],[Abfallschlüssel-nummer]],Emissionsfaktoren!$A$2:$K$67,MATCH(Tabelle27[[#This Row],[Verwertung/ Beseitigung]],Emissionsfaktoren!$A$1:$K$1,0)+1,FALSE)) -> #N/A | R50: =IF(VLOOKUP(Tabelle27[[#This Row],[Abfallschlüssel-nummer]],Emissionsfaktoren!$A$2:$K$67,MATCH(Tabelle27[[#This Row],[Verwertung/ Beseitigung]],Emissionsfaktoren!$A$1:$K$1,0)+2,FALSE)=0,"",VLOOKUP(Tabelle27[[#This Row],[Abfallschlüssel-nummer]],Emissionsfaktoren!$A$2:$K$67,MATCH(Tabelle27[[#This Row],[Verwertung/ Beseitigung]],Emissionsfaktoren!$A$1:$K$1,0)+2,FALSE)) -> #N/A | S50: =IFERROR(Tabelle27[[#This Row],[Menge (t/a)]]*Tabelle27[[#This Row],[Emissionsfaktor Behandlung (t CO2 eq/t)]],"") | T50: =IF(Tabelle27[[#This Row],[Emissionen Behandlung (t CO2 eq/a)]]="",0,Tabelle27[[#This Row],[Emissionen Behandlung (t CO2 eq/a)]])+IF(Tabelle27[[#This Row],[Emissionen Transport (t CO2 eq/a)]]="",0,Tabelle27[[#This Row],[Emissionen Transport (t CO2 eq/a)]]) -> 0
A51: 170407 | B51: =IF(MID(A51,7,1)="*","*","") | C51: =IF(B51="*","gefährlich","nicht gefährlich") -> nicht gefährlich | D51: 170407/ gemischte Metalle | K51: =IFERROR(Tabelle27[[#This Row],[Menge (t/a)]]/Tabelle27[[#This Row],[Anzahl Transporte]],"") | N51: =IFERROR(VLOOKUP(Tabelle27[[#This Row],[Transportmittel]],Emissionsfaktoren!$N$2:$P$11,3,FALSE),"") | O51: https://www.hansewasser.de/service/downloads/2024-05_emissionsfaktoren_spezifisch.xlsx | P51: =IFERROR((Tabelle27[[#This Row],[Menge pro Transport (t)]]*Tabelle27[[#This Row],[Transportweg zur Entsorgungsanlage Hin und Rückweg (km)]]*Tabelle27[[#This Row],[Emissionsfaktor Transport (kg CO2 eq/tkm)]]/1000)*Tabelle27[[#This Row],[Anzahl Transporte]],"") | Q51: =IF(VLOOKUP(Tabelle27[[#This Row],[Abfallschlüssel-nummer]],Emissionsfaktoren!$A$2:$K$67,MATCH(Tabelle27[[#This Row],[Verwertung/ Beseitigung]],Emissionsfaktoren!$A$1:$K$1,0)+1,FALSE)=0,"",VLOOKUP(Tabelle27[[#This Row],[Abfallschlüssel-nummer]],Emissionsfaktoren!$A$2:$K$67,MATCH(Tabelle27[[#This Row],[Verwertung/ Beseitigung]],Emissionsfaktoren!$A$1:$K$1,0)+1,FALSE)) -> #N/A | R51: =IF(VLOOKUP(Tabelle27[[#This Row],[Abfallschlüssel-nummer]],Emissionsfaktoren!$A$2:$K$67,MATCH(Tabelle27[[#This Row],[Verwertung/ Beseitigung]],Emissionsfaktoren!$A$1:$K$1,0)+2,FALSE)=0,"",VLOOKUP(Tabelle27[[#This Row],[Abfallschlüssel-nummer]],Emissionsfaktoren!$A$2:$K$67,MATCH(Tabelle27[[#This Row],[Verwertung/ Beseitigung]],Emissionsfaktoren!$A$1:$K$1,0)+2,FALSE)) -> #N/A | S51: =IFERROR(Tabelle27[[#This Row],[Menge (t/a)]]*Tabelle27[[#This Row],[Emissionsfaktor Behandlung (t CO2 eq/t)]],"") | T51: =IF(Tabelle27[[#This Row],[Emissionen Behandlung (t CO2 eq/a)]]="",0,Tabelle27[[#This Row],[Emissionen Behandlung (t CO2 eq/a)]])+IF(Tabelle27[[#This Row],[Emissionen Transport (t CO2 eq/a)]]="",0,Tabelle27[[#This Row],[Emissionen Transport (t CO2 eq/a)]]) -> 0
A52: 170411 | B52: =IF(MID(A52,7,1)="*","*","") | C52: =IF(B52="*","gefährlich","nicht gefährlich") -> nicht gefährlich | D52: 170411/ Kabel mit Ausnahme derjenigen, die unter 17 04 10 fallen | K52: =IFERROR(Tabelle27[[#This Row],[Menge (t/a)]]/Tabelle27[[#This Row],[Anzahl Transporte]],"") | N52: =IFERROR(VLOOKUP(Tabelle27[[#This Row],[Transportmittel]],Emissionsfaktoren!$N$2:$P$11,3,FALSE),"") | O52: https://www.hansewasser.de/service/downloads/2024-05_emissionsfaktoren_spezifisch.xlsx | P52: =IFERROR((Tabelle27[[#This Row],[Menge pro Transport (t)]]*Tabelle27[[#This Row],[Transportweg zur Entsorgungsanlage Hin und Rückweg (km)]]*Tabelle27[[#This Row],[Emissionsfaktor Transport (kg CO2 eq/tkm)]]/1000)*Tabelle27[[#This Row],[Anzahl Transporte]],"") | Q52: =IF(VLOOKUP(Tabelle27[[#This Row],[Abfallschlüssel-nummer]],Emissionsfaktoren!$A$2:$K$67,MATCH(Tabelle27[[#This Row],[Verwertung/ Beseitigung]],Emissionsfaktoren!$A$1:$K$1,0)+1,FALSE)=0,"",VLOOKUP(Tabelle27[[#This Row],[Abfallschlüssel-nummer]],Emissionsfaktoren!$A$2:$K$67,MATCH(Tabelle27[[#This Row],[Verwertung/ Beseitigung]],Emissionsfaktoren!$A$1:$K$1,0)+1,FALSE)) -> #N/A | R52: =IF(VLOOKUP(Tabelle27[[#This Row],[Abfallschlüssel-nummer]],Emissionsfaktoren!$A$2:$K$67,MATCH(Tabelle27[[#This Row],[Verwertung/ Beseitigung]],Emissionsfaktoren!$A$1:$K$1,0)+2,FALSE)=0,"",VLOOKUP(Tabelle27[[#This Row],[Abfallschlüssel-nummer]],Emissionsfaktoren!$A$2:$K$67,MATCH(Tabelle27[[#This Row],[Verwertung/ Beseitigung]],Emissionsfaktoren!$A$1:$K$1,0)+2,FALSE)) -> #N/A | S52: =IFERROR(Tabelle27[[#This Row],[Menge (t/a)]]*Tabelle27[[#This Row],[Emissionsfaktor Behandlung (t CO2 eq/t)]],"") | T52: =IF(Tabelle27[[#This Row],[Emissionen Behandlung (t CO2 eq/a)]]="",0,Tabelle27[[#This Row],[Emissionen Behandlung (t CO2 eq/a)]])+IF(Tabelle27[[#This Row],[Emissionen Transport (t CO2 eq/a)]]="",0,Tabelle27[[#This Row],[Emissionen Transport (t CO2 eq/a)]]) -> 0
A53: 170503* | B53: =IF(MID(A53,7,1)="*","*","") -> * | C53: =IF(B53="*","gefährlich","nicht gefährlich") -> gefährlich | D53: 170503/ Boden und Steine die gefährliche Stoffe enthalten | K53: =IFERROR(Tabelle27[[#This Row],[Menge (t/a)]]/Tabelle27[[#This Row],[Anzahl Transporte]],"") | N53: =IFERROR(VLOOKUP(Tabelle27[[#This Row],[Transportmittel]],Emissionsfaktoren!$N$2:$P$11,3,FALSE),"") | O53: https://www.hansewasser.de/service/downloads/2024-05_emissionsfaktoren_spezifisch.xlsx | P53: =IFERROR((Tabelle27[[#This Row],[Menge pro Transport (t)]]*Tabelle27[[#This Row],[Transportweg zur Entsorgungsanlage Hin und Rückweg (km)]]*Tabelle27[[#This Row],[Emissionsfaktor Transport (kg CO2 eq/tkm)]]/1000)*Tabelle27[[#This Row],[Anzahl Transporte]],"") | Q53: =IF(VLOOKUP(Tabelle27[[#This Row],[Abfallschlüssel-nummer]],Emissionsfaktoren!$A$2:$K$67,MATCH(Tabelle27[[#This Row],[Verwertung/ Beseitigung]],Emissionsfaktoren!$A$1:$K$1,0)+1,FALSE)=0,"",VLOOKUP(Tabelle27[[#This Row],[Abfallschlüssel-nummer]],Emissionsfaktoren!$A$2:$K$67,MATCH(Tabelle27[[#This Row],[Verwertung/ Beseitigung]],Emissionsfaktoren!$A$1:$K$1,0)+1,FALSE)) -> #N/A | R53: =IF(VLOOKUP(Tabelle27[[#This Row],[Abfallschlüssel-nummer]],Emissionsfaktoren!$A$2:$K$67,MATCH(Tabelle27[[#This Row],[Verwertung/ Beseitigung]],Emissionsfaktoren!$A$1:$K$1,0)+2,FALSE)=0,"",VLOOKUP(Tabelle27[[#This Row],[Abfallschlüssel-nummer]],Emissionsfaktoren!$A$2:$K$67,MATCH(Tabelle27[[#This Row],[Verwertung/ Beseitigung]],Emissionsfaktoren!$A$1:$K$1,0)+2,FALSE)) -> #N/A | S53: =IFERROR(Tabelle27[[#This Row],[Menge (t/a)]]*Tabelle27[[#This Row],[Emissionsfaktor Behandlung (t CO2 eq/t)]],"") | T53: =IF(Tabelle27[[#This Row],[Emissionen Behandlung (t CO2 eq/a)]]="",0,Tabelle27[[#This Row],[Emissionen Behandlung (t CO2 eq/a)]])+IF(Tabelle27[[#This Row],[Emissionen Transport (t CO2 eq/a)]]="",0,Tabelle27[[#This Row],[Emissionen Transport (t CO2 eq/a)]]) -> 0
A54: 170504 | B54: =IF(MID(A54,7,1)="*","*","") | C54: =IF(B54="*","gefährlich","nicht gefährlich") -> nicht gefährlich | D54: 170504/ Boden und Steine mit Ausnahme derjenigen, die unter 17 05 03 fallen | K54: =IFERROR(Tabelle27[[#This Row],[Menge (t/a)]]/Tabelle27[[#This Row],[Anzahl Transporte]],"") | N54: =IFERROR(VLOOKUP(Tabelle27[[#This Row],[Transportmittel]],Emissionsfaktoren!$N$2:$P$11,3,FALSE),"") | O54: https://www.hansewasser.de/service/downloads/2024-05_emissionsfaktoren_spezifisch.xlsx | P54: =IFERROR((Tabelle27[[#This Row],[Menge pro Transport (t)]]*Tabelle27[[#This Row],[Transportweg zur Entsorgungsanlage Hin und Rückweg (km)]]*Tabelle27[[#This Row],[Emissionsfaktor Transport (kg CO2 eq/tkm)]]/1000)*Tabelle27[[#This Row],[Anzahl Transporte]],"") | Q54: =IF(VLOOKUP(Tabelle27[[#This Row],[Abfallschlüssel-nummer]],Emissionsfaktoren!$A$2:$K$67,MATCH(Tabelle27[[#This Row],[Verwertung/ Beseitigung]],Emissionsfaktoren!$A$1:$K$1,0)+1,FALSE)=0,"",VLOOKUP(Tabelle27[[#This Row],[Abfallschlüssel-nummer]],Emissionsfaktoren!$A$2:$K$67,MATCH(Tabelle27[[#This Row],[Verwertung/ Beseitigung]],Emissionsfaktoren!$A$1:$K$1,0)+1,FALSE)) -> #N/A | R54: =IF(VLOOKUP(Tabelle27[[#This Row],[Abfallschlüssel-nummer]],Emissionsfaktoren!$A$2:$K$67,MATCH(Tabelle27[[#This Row],[Verwertung/ Beseitigung]],Emissionsfaktoren!$A$1:$K$1,0)+2,FALSE)=0,"",VLOOKUP(Tabelle27[[#This Row],[Abfallschlüssel-nummer]],Emissionsfaktoren!$A$2:$K$67,MATCH(Tabelle27[[#This Row],[Verwertung/ Beseitigung]],Emissionsfaktoren!$A$1:$K$1,0)+2,FALSE)) -> #N/A | S54: =IFERROR(Tabelle27[[#This Row],[Menge (t/a)]]*Tabelle27[[#This Row],[Emissionsfaktor Behandlung (t CO2 eq/t)]],"") | T54: =IF(Tabelle27[[#This Row],[Emissionen Behandlung (t CO2 eq/a)]]="",0,Tabelle27[[#This Row],[Emissionen Behandlung (t CO2 eq/a)]])+IF(Tabelle27[[#This Row],[Emissionen Transport (t CO2 eq/a)]]="",0,Tabelle27[[#This Row],[Emissionen Transport (t CO2 eq/a)]]) -> 0
A55: 170603* | B55: =IF(MID(A55,7,1)="*","*","") -> * | C55: =IF(B55="*","gefährlich","nicht gefährlich") -> gefährlich | D55: 170603*/ anderes Dämmmaterial, das aus gefährlichen Stoffen besteht oder solche Stoffe enthält | K55: =IFERROR(Tabelle27[[#This Row],[Menge (t/a)]]/Tabelle27[[#This Row],[Anzahl Transporte]],"") | N55: =IFERROR(VLOOKUP(Tabelle27[[#This Row],[Transportmittel]],Emissionsfaktoren!$N$2:$P$11,3,FALSE),"") | O55: https://www.hansewasser.de/service/downloads/2024-05_emissionsfaktoren_spezifisch.xlsx | P55: =IFERROR((Tabelle27[[#This Row],[Menge pro Transport (t)]]*Tabelle27[[#This Row],[Transportweg zur Entsorgungsanlage Hin und Rückweg (km)]]*Tabelle27[[#This Row],[Emissionsfaktor Transport (kg CO2 eq/tkm)]]/1000)*Tabelle27[[#This Row],[Anzahl Transporte]],"") | Q55: =IF(VLOOKUP(Tabelle27[[#This Row],[Abfallschlüssel-nummer]],Emissionsfaktoren!$A$2:$K$67,MATCH(Tabelle27[[#This Row],[Verwertung/ Beseitigung]],Emissionsfaktoren!$A$1:$K$1,0)+1,FALSE)=0,"",VLOOKUP(Tabelle27[[#This Row],[Abfallschlüssel-nummer]],Emissionsfaktoren!$A$2:$K$67,MATCH(Tabelle27[[#This Row],[Verwertung/ Beseitigung]],Emissionsfaktoren!$A$1:$K$1,0)+1,FALSE)) -> #N/A | R55: =IF(VLOOKUP(Tabelle27[[#This Row],[Abfallschlüssel-nummer]],Emissionsfaktoren!$A$2:$K$67,MATCH(Tabelle27[[#This Row],[Verwertung/ Beseitigung]],Emissionsfaktoren!$A$1:$K$1,0)+2,FALSE)=0,"",VLOOKUP(Tabelle27[[#This Row],[Abfallschlüssel-nummer]],Emissionsfaktoren!$A$2:$K$67,MATCH(Tabelle27[[#This Row],[Verwertung/ Beseitigung]],Emissionsfaktoren!$A$1:$K$1,0)+2,FALSE)) -> #N/A | S55: =IFERROR(Tabelle27[[#This Row],[Menge (t/a)]]*Tabelle27[[#This Row],[Emissionsfaktor Behandlung (t CO2 eq/t)]],"") | T55: =IF(Tabelle27[[#This Row],[Emissionen Behandlung (t CO2 eq/a)]]="",0,Tabelle27[[#This Row],[Emissionen Behandlung (t CO2 eq/a)]])+IF(Tabelle27[[#This Row],[Emissionen Transport (t CO2 eq/a)]]="",0,Tabelle27[[#This Row],[Emissionen Transport (t CO2 eq/a)]]) -> 0
A56: 170605* | B56: =IF(MID(A56,7,1)="*","*","") -> * | C56: =IF(B56="*","gefährlich","nicht gefährlich") -> gefährlich | D56: 170605*/ asbesthaltige Baustoffe | K56: =IFERROR(Tabelle27[[#This Row],[Menge (t/a)]]/Tabelle27[[#This Row],[Anzahl Transporte]],"") | N56: =IFERROR(VLOOKUP(Tabelle27[[#This Row],[Transportmittel]],Emissionsfaktoren!$N$2:$P$11,3,FALSE),"") | O56: https://www.hansewasser.de/service/downloads/2024-05_emissionsfaktoren_spezifisch.xlsx | P56: =IFERROR((Tabelle27[[#This Row],[Menge pro Transport (t)]]*Tabelle27[[#This Row],[Transportweg zur Entsorgungsanlage Hin und Rückweg (km)]]*Tabelle27[[#This Row],[Emissionsfaktor Transport (kg CO2 eq/tkm)]]/1000)*Tabelle27[[#This Row],[Anzahl Transporte]],"") | Q56: =IF(VLOOKUP(Tabelle27[[#This Row],[Abfallschlüssel-nummer]],Emissionsfaktoren!$A$2:$K$67,MATCH(Tabelle27[[#This Row],[Verwertung/ Beseitigung]],Emissionsfaktoren!$A$1:$K$1,0)+1,FALSE)=0,"",VLOOKUP(Tabelle27[[#This Row],[Abfallschlüssel-nummer]],Emissionsfaktoren!$A$2:$K$67,MATCH(Tabelle27[[#This Row],[Verwertung/ Beseitigung]],Emissionsfaktoren!$A$1:$K$1,0)+1,FALSE)) -> #N/A | R56: =IF(VLOOKUP(Tabelle27[[#This Row],[Abfallschlüssel-nummer]],Emissionsfaktoren!$A$2:$K$67,MATCH(Tabelle27[[#This Row],[Verwertung/ Beseitigung]],Emissionsfaktoren!$A$1:$K$1,0)+2,FALSE)=0,"",VLOOKUP(Tabelle27[[#This Row],[Abfallschlüssel-nummer]],Emissionsfaktoren!$A$2:$K$67,MATCH(Tabelle27[[#This Row],[Verwertung/ Beseitigung]],Emissionsfaktoren!$A$1:$K$1,0)+2,FALSE)) -> #N/A | S56: =IFERROR(Tabelle27[[#This Row],[Menge (t/a)]]*Tabelle27[[#This Row],[Emissionsfaktor Behandlung (t CO2 eq/t)]],"") | T56: =IF(Tabelle27[[#This Row],[Emissionen Behandlung (t CO2 eq/a)]]="",0,Tabelle27[[#This Row],[Emissionen Behandlung (t CO2 eq/a)]])+IF(Tabelle27[[#This Row],[Emissionen Transport (t CO2 eq/a)]]="",0,Tabelle27[[#This Row],[Emissionen Transport (t CO2 eq/a)]]) -> 0
A57: 170904 | B57: =IF(MID(A57,7,1)="*","*","") | C57: =IF(B57="*","gefährlich","nicht gefährlich") -> nicht gefährlich | D57: 170904/ gemischte Bau- und Abbruchabfälle mit Ausnahme derjenigen, die unter 17 09 01, 17 09 02 und 17 09 03 fallen | K57: =IFERROR(Tabelle27[[#This Row],[Menge (t/a)]]/Tabelle27[[#This Row],[Anzahl Transporte]],"") | N57: =IFERROR(VLOOKUP(Tabelle27[[#This Row],[Transportmittel]],Emissionsfaktoren!$N$2:$P$11,3,FALSE),"") | O57: https://www.hansewasser.de/service/downloads/2024-05_emissionsfaktoren_spezifisch.xlsx | P57: =IFERROR((Tabelle27[[#This Row],[Menge pro Transport (t)]]*Tabelle27[[#This Row],[Transportweg zur Entsorgungsanlage Hin und Rückweg (km)]]*Tabelle27[[#This Row],[Emissionsfaktor Transport (kg CO2 eq/tkm)]]/1000)*Tabelle27[[#This Row],[Anzahl Transporte]],"") | Q57: =IF(VLOOKUP(Tabelle27[[#This Row],[Abfallschlüssel-nummer]],Emissionsfaktoren!$A$2:$K$67,MATCH(Tabelle27[[#This Row],[Verwertung/ Beseitigung]],Emissionsfaktoren!$A$1:$K$1,0)+1,FALSE)=0,"",VLOOKUP(Tabelle27[[#This Row],[Abfallschlüssel-nummer]],Emissionsfaktoren!$A$2:$K$67,MATCH(Tabelle27[[#This Row],[Verwertung/ Beseitigung]],Emissionsfaktoren!$A$1:$K$1,0)+1,FALSE)) -> #N/A | R57: =IF(VLOOKUP(Tabelle27[[#This Row],[Abfallschlüssel-nummer]],Emissionsfaktoren!$A$2:$K$67,MATCH(Tabelle27[[#This Row],[Verwertung/ Beseitigung]],Emissionsfaktoren!$A$1:$K$1,0)+2,FALSE)=0,"",VLOOKUP(Tabelle27[[#This Row],[Abfallschlüssel-nummer]],Emissionsfaktoren!$A$2:$K$67,MATCH(Tabelle27[[#This Row],[Verwertung/ Beseitigung]],Emissionsfaktoren!$A$1:$K$1,0)+2,FALSE)) -> #N/A | S57: =IFERROR(Tabelle27[[#This Row],[Menge (t/a)]]*Tabelle27[[#This Row],[Emissionsfaktor Behandlung (t CO2 eq/t)]],"") | T57: =IF(Tabelle27[[#This Row],[Emissionen Behandlung (t CO2 eq/a)]]="",0,Tabelle27[[#This Row],[Emissionen Behandlung (t CO2 eq/a)]])+IF(Tabelle27[[#This Row],[Emissionen Transport (t CO2 eq/a)]]="",0,Tabelle27[[#This Row],[Emissionen Transport (t CO2 eq/a)]]) -> 0
A58: 190801 | B58: =IF(MID(A58,7,1)="*","*","") | C58: =IF(B58="*","gefährlich","nicht gefährlich") -> nicht gefährlich | D58: 190801/ Sieb- und Rechenrückstände | K58: =IFERROR(Tabelle27[[#This Row],[Menge (t/a)]]/Tabelle27[[#This Row],[Anzahl Transporte]],"") | N58: =IFERROR(VLOOKUP(Tabelle27[[#This Row],[Transportmittel]],Emissionsfaktoren!$N$2:$P$11,3,FALSE),"") | O58: https://www.hansewasser.de/service/downloads/2024-05_emissionsfaktoren_spezifisch.xlsx | P58: =IFERROR((Tabelle27[[#This Row],[Menge pro Transport (t)]]*Tabelle27[[#This Row],[Transportweg zur Entsorgungsanlage Hin und Rückweg (km)]]*Tabelle27[[#This Row],[Emissionsfaktor Transport (kg CO2 eq/tkm)]]/1000)*Tabelle27[[#This Row],[Anzahl Transporte]],"") | Q58: =IF(VLOOKUP(Tabelle27[[#This Row],[Abfallschlüssel-nummer]],Emissionsfaktoren!$A$2:$K$67,MATCH(Tabelle27[[#This Row],[Verwertung/ Beseitigung]],Emissionsfaktoren!$A$1:$K$1,0)+1,FALSE)=0,"",VLOOKUP(Tabelle27[[#This Row],[Abfallschlüssel-nummer]],Emissionsfaktoren!$A$2:$K$67,MATCH(Tabelle27[[#This Row],[Verwertung/ Beseitigung]],Emissionsfaktoren!$A$1:$K$1,0)+1,FALSE)) -> #N/A | R58: =IF(VLOOKUP(Tabelle27[[#This Row],[Abfallschlüssel-nummer]],Emissionsfaktoren!$A$2:$K$67,MATCH(Tabelle27[[#This Row],[Verwertung/ Beseitigung]],Emissionsfaktoren!$A$1:$K$1,0)+2,FALSE)=0,"",VLOOKUP(Tabelle27[[#This Row],[Abfallschlüssel-nummer]],Emissionsfaktoren!$A$2:$K$67,MATCH(Tabelle27[[#This Row],[Verwertung/ Beseitigung]],Emissionsfaktoren!$A$1:$K$1,0)+2,FALSE)) -> #N/A | S58: =IFERROR(Tabelle27[[#This Row],[Menge (t/a)]]*Tabelle27[[#This Row],[Emissionsfaktor Behandlung (t CO2 eq/t)]],"") | T58: =IF(Tabelle27[[#This Row],[Emissionen Behandlung (t CO2 eq/a)]]="",0,Tabelle27[[#This Row],[Emissionen Behandlung (t CO2 eq/a)]])+IF(Tabelle27[[#This Row],[Emissionen Transport (t CO2 eq/a)]]="",0,Tabelle27[[#This Row],[Emissionen Transport (t CO2 eq/a)]]) -> 0
A59: 190802 | B59: =IF(MID(A59,7,1)="*","*","") | C59: =IF(B59="*","gefährlich","nicht gefährlich") -> nicht gefährlich | D59: 190802/ Sandfangrückstände | K59: =IFERROR(Tabelle27[[#This Row],[Menge (t/a)]]/Tabelle27[[#This Row],[Anzahl Transporte]],"") | N59: =IFERROR(VLOOKUP(Tabelle27[[#This Row],[Transportmittel]],Emissionsfaktoren!$N$2:$P$11,3,FALSE),"") | O59: https://www.hansewasser.de/service/downloads/2024-05_emissionsfaktoren_spezifisch.xlsx | P59: =IFERROR((Tabelle27[[#This Row],[Menge pro Transport (t)]]*Tabelle27[[#This Row],[Transportweg zur Entsorgungsanlage Hin und Rückweg (km)]]*Tabelle27[[#This Row],[Emissionsfaktor Transport (kg CO2 eq/tkm)]]/1000)*Tabelle27[[#This Row],[Anzahl Transporte]],"") | Q59: =IF(VLOOKUP(Tabelle27[[#This Row],[Abfallschlüssel-nummer]],Emissionsfaktoren!$A$2:$K$67,MATCH(Tabelle27[[#This Row],[Verwertung/ Beseitigung]],Emissionsfaktoren!$A$1:$K$1,0)+1,FALSE)=0,"",VLOOKUP(Tabelle27[[#This Row],[Abfallschlüssel-nummer]],Emissionsfaktoren!$A$2:$K$67,MATCH(Tabelle27[[#This Row],[Verwertung/ Beseitigung]],Emissionsfaktoren!$A$1:$K$1,0)+1,FALSE)) -> #N/A | R59: =IF(VLOOKUP(Tabelle27[[#This Row],[Abfallschlüssel-nummer]],Emissionsfaktoren!$A$2:$K$67,MATCH(Tabelle27[[#This Row],[Verwertung/ Beseitigung]],Emissionsfaktoren!$A$1:$K$1,0)+2,FALSE)=0,"",VLOOKUP(Tabelle27[[#This Row],[Abfallschlüssel-nummer]],Emissionsfaktoren!$A$2:$K$67,MATCH(Tabelle27[[#This Row],[Verwertung/ Beseitigung]],Emissionsfaktoren!$A$1:$K$1,0)+2,FALSE)) -> #N/A | S59: =IFERROR(Tabelle27[[#This Row],[Menge (t/a)]]*Tabelle27[[#This Row],[Emissionsfaktor Behandlung (t CO2 eq/t)]],"") | T59: =IF(Tabelle27[[#This Row],[Emissionen Behandlung (t CO2 eq/a)]]="",0,Tabelle27[[#This Row],[Emissionen Behandlung (t CO2 eq/a)]])+IF(Tabelle27[[#This Row],[Emissionen Transport (t CO2 eq/a)]]="",0,Tabelle27[[#This Row],[Emissionen Transport (t CO2 eq/a)]]) -> 0
A60: 200101 | B60: =IF(MID(A60,7,1)="*","*","") | C60: =IF(B60="*","gefährlich","nicht gefährlich") -> nicht gefährlich | D60: 200101/ Papier und Pappe | K60: =IFERROR(Tabelle27[[#This Row],[Menge (t/a)]]/Tabelle27[[#This Row],[Anzahl Transporte]],"") | N60: =IFERROR(VLOOKUP(Tabelle27[[#This Row],[Transportmittel]],Emissionsfaktoren!$N$2:$P$11,3,FALSE),"") | O60: https://www.hansewasser.de/service/downloads/2024-05_emissionsfaktoren_spezifisch.xlsx | P60: =IFERROR((Tabelle27[[#This Row],[Menge pro Transport (t)]]*Tabelle27[[#This Row],[Transportweg zur Entsorgungsanlage Hin und Rückweg (km)]]*Tabelle27[[#This Row],[Emissionsfaktor Transport (kg CO2 eq/tkm)]]/1000)*Tabelle27[[#This Row],[Anzahl Transporte]],"") | Q60: =IF(VLOOKUP(Tabelle27[[#This Row],[Abfallschlüssel-nummer]],Emissionsfaktoren!$A$2:$K$67,MATCH(Tabelle27[[#This Row],[Verwertung/ Beseitigung]],Emissionsfaktoren!$A$1:$K$1,0)+1,FALSE)=0,"",VLOOKUP(Tabelle27[[#This Row],[Abfallschlüssel-nummer]],Emissionsfaktoren!$A$2:$K$67,MATCH(Tabelle27[[#This Row],[Verwertung/ Beseitigung]],Emissionsfaktoren!$A$1:$K$1,0)+1,FALSE)) -> #N/A | R60: =IF(VLOOKUP(Tabelle27[[#This Row],[Abfallschlüssel-nummer]],Emissionsfaktoren!$A$2:$K$67,MATCH(Tabelle27[[#This Row],[Verwertung/ Beseitigung]],Emissionsfaktoren!$A$1:$K$1,0)+2,FALSE)=0,"",VLOOKUP(Tabelle27[[#This Row],[Abfallschlüssel-nummer]],Emissionsfaktoren!$A$2:$K$67,MATCH(Tabelle27[[#This Row],[Verwertung/ Beseitigung]],Emissionsfaktoren!$A$1:$K$1,0)+2,FALSE)) -> #N/A | S60: =IFERROR(Tabelle27[[#This Row],[Menge (t/a)]]*Tabelle27[[#This Row],[Emissionsfaktor Behandlung (t CO2 eq/t)]],"") | T60: =IF(Tabelle27[[#This Row],[Emissionen Behandlung (t CO2 eq/a)]]="",0,Tabelle27[[#This Row],[Emissionen Behandlung (t CO2 eq/a)]])+IF(Tabelle27[[#This Row],[Emissionen Transport (t CO2 eq/a)]]="",0,Tabelle27[[#This Row],[Emissionen Transport (t CO2 eq/a)]]) -> 0
A61: 200113* | B61: =IF(MID(A61,7,1)="*","*","") -> * | C61: =IF(B61="*","gefährlich","nicht gefährlich") -> gefährlich | D61: 200113*/ Lösemittel | K61: =IFERROR(Tabelle27[[#This Row],[Menge (t/a)]]/Tabelle27[[#This Row],[Anzahl Transporte]],"") | N61: =IFERROR(VLOOKUP(Tabelle27[[#This Row],[Transportmittel]],Emissionsfaktoren!$N$2:$P$11,3,FALSE),"") | O61: https://www.hansewasser.de/service/downloads/2024-05_emissionsfaktoren_spezifisch.xlsx | P61: =IFERROR((Tabelle27[[#This Row],[Menge pro Transport (t)]]*Tabelle27[[#This Row],[Transportweg zur Entsorgungsanlage Hin und Rückweg (km)]]*Tabelle27[[#This Row],[Emissionsfaktor Transport (kg CO2 eq/tkm)]]/1000)*Tabelle27[[#This Row],[Anzahl Transporte]],"") | Q61: =IF(VLOOKUP(Tabelle27[[#This Row],[Abfallschlüssel-nummer]],Emissionsfaktoren!$A$2:$K$67,MATCH(Tabelle27[[#This Row],[Verwertung/ Beseitigung]],Emissionsfaktoren!$A$1:$K$1,0)+1,FALSE)=0,"",VLOOKUP(Tabelle27[[#This Row],[Abfallschlüssel-nummer]],Emissionsfaktoren!$A$2:$K$67,MATCH(Tabelle27[[#This Row],[Verwertung/ Beseitigung]],Emissionsfaktoren!$A$1:$K$1,0)+1,FALSE)) -> #N/A | R61: =IF(VLOOKUP(Tabelle27[[#This Row],[Abfallschlüssel-nummer]],Emissionsfaktoren!$A$2:$K$67,MATCH(Tabelle27[[#This Row],[Verwertung/ Beseitigung]],Emissionsfaktoren!$A$1:$K$1,0)+2,FALSE)=0,"",VLOOKUP(Tabelle27[[#This Row],[Abfallschlüssel-nummer]],Emissionsfaktoren!$A$2:$K$67,MATCH(Tabelle27[[#This Row],[Verwertung/ Beseitigung]],Emissionsfaktoren!$A$1:$K$1,0)+2,FALSE)) -> #N/A | S61: =IFERROR(Tabelle27[[#This Row],[Menge (t/a)]]*Tabelle27[[#This Row],[Emissionsfaktor Behandlung (t CO2 eq/t)]],"") | T61: =IF(Tabelle27[[#This Row],[Emissionen Behandlung (t CO2 eq/a)]]="",0,Tabelle27[[#This Row],[Emissionen Behandlung (t CO2 eq/a)]])+IF(Tabelle27[[#This Row],[Emissionen Transport (t CO2 eq/a)]]="",0,Tabelle27[[#This Row],[Emissionen Transport (t CO2 eq/a)]]) -> 0
A62: 200115* | B62: =IF(MID(A62,7,1)="*","*","") -> * | C62: =IF(B62="*","gefährlich","nicht gefährlich") -> gefährlich | D62: 200115*/ Laugen | K62: =IFERROR(Tabelle27[[#This Row],[Menge (t/a)]]/Tabelle27[[#This Row],[Anzahl Transporte]],"") | N62: =IFERROR(VLOOKUP(Tabelle27[[#This Row],[Transportmittel]],Emissionsfaktoren!$N$2:$P$11,3,FALSE),"") | O62: https://www.hansewasser.de/service/downloads/2024-05_emissionsfaktoren_spezifisch.xlsx | P62: =IFERROR((Tabelle27[[#This Row],[Menge pro Transport (t)]]*Tabelle27[[#This Row],[Transportweg zur Entsorgungsanlage Hin und Rückweg (km)]]*Tabelle27[[#This Row],[Emissionsfaktor Transport (kg CO2 eq/tkm)]]/1000)*Tabelle27[[#This Row],[Anzahl Transporte]],"") | Q62: =IF(VLOOKUP(Tabelle27[[#This Row],[Abfallschlüssel-nummer]],Emissionsfaktoren!$A$2:$K$67,MATCH(Tabelle27[[#This Row],[Verwertung/ Beseitigung]],Emissionsfaktoren!$A$1:$K$1,0)+1,FALSE)=0,"",VLOOKUP(Tabelle27[[#This Row],[Abfallschlüssel-nummer]],Emissionsfaktoren!$A$2:$K$67,MATCH(Tabelle27[[#This Row],[Verwertung/ Beseitigung]],Emissionsfaktoren!$A$1:$K$1,0)+1,FALSE)) -> #N/A | R62: =IF(VLOOKUP(Tabelle27[[#This Row],[Abfallschlüssel-nummer]],Emissionsfaktoren!$A$2:$K$67,MATCH(Tabelle27[[#This Row],[Verwertung/ Beseitigung]],Emissionsfaktoren!$A$1:$K$1,0)+2,FALSE)=0,"",VLOOKUP(Tabelle27[[#This Row],[Abfallschlüssel-nummer]],Emissionsfaktoren!$A$2:$K$67,MATCH(Tabelle27[[#This Row],[Verwertung/ Beseitigung]],Emissionsfaktoren!$A$1:$K$1,0)+2,FALSE)) -> #N/A | S62: =IFERROR(Tabelle27[[#This Row],[Menge (t/a)]]*Tabelle27[[#This Row],[Emissionsfaktor Behandlung (t CO2 eq/t)]],"") | T62: =IF(Tabelle27[[#This Row],[Emissionen Behandlung (t CO2 eq/a)]]="",0,Tabelle27[[#This Row],[Emissionen Behandlung (t CO2 eq/a)]])+IF(Tabelle27[[#This Row],[Emissionen Transport (t CO2 eq/a)]]="",0,Tabelle27[[#This Row],[Emissionen Transport (t CO2 eq/a)]]) -> 0
A63: 200121* | B63: =IF(MID(A63,7,1)="*","*","") -> * | C63: =IF(B63="*","gefährlich","nicht gefährlich") -> gefährlich | D63: 200121*/ Leuchtstoffröhren und andere quecksilberhaltigen Abfälle | K63: =IFERROR(Tabelle27[[#This Row],[Menge (t/a)]]/Tabelle27[[#This Row],[Anzahl Transporte]],"") | N63: =IFERROR(VLOOKUP(Tabelle27[[#This Row],[Transportmittel]],Emissionsfaktoren!$N$2:$P$11,3,FALSE),"") | O63: https://www.hansewasser.de/service/downloads/2024-05_emissionsfaktoren_spezifisch.xlsx | P63: =IFERROR((Tabelle27[[#This Row],[Menge pro Transport (t)]]*Tabelle27[[#This Row],[Transportweg zur Entsorgungsanlage Hin und Rückweg (km)]]*Tabelle27[[#This Row],[Emissionsfaktor Transport (kg CO2 eq/tkm)]]/1000)*Tabelle27[[#This Row],[Anzahl Transporte]],"") | Q63: =IF(VLOOKUP(Tabelle27[[#This Row],[Abfallschlüssel-nummer]],Emissionsfaktoren!$A$2:$K$67,MATCH(Tabelle27[[#This Row],[Verwertung/ Beseitigung]],Emissionsfaktoren!$A$1:$K$1,0)+1,FALSE)=0,"",VLOOKUP(Tabelle27[[#This Row],[Abfallschlüssel-nummer]],Emissionsfaktoren!$A$2:$K$67,MATCH(Tabelle27[[#This Row],[Verwertung/ Beseitigung]],Emissionsfaktoren!$A$1:$K$1,0)+1,FALSE)) -> #N/A | R63: =IF(VLOOKUP(Tabelle27[[#This Row],[Abfallschlüssel-nummer]],Emissionsfaktoren!$A$2:$K$67,MATCH(Tabelle27[[#This Row],[Verwertung/ Beseitigung]],Emissionsfaktoren!$A$1:$K$1,0)+2,FALSE)=0,"",VLOOKUP(Tabelle27[[#This Row],[Abfallschlüssel-nummer]],Emissionsfaktoren!$A$2:$K$67,MATCH(Tabelle27[[#This Row],[Verwertung/ Beseitigung]],Emissionsfaktoren!$A$1:$K$1,0)+2,FALSE)) -> #N/A | S63: =IFERROR(Tabelle27[[#This Row],[Menge (t/a)]]*Tabelle27[[#This Row],[Emissionsfaktor Behandlung (t CO2 eq/t)]],"") | T63: =IF(Tabelle27[[#This Row],[Emissionen Behandlung (t CO2 eq/a)]]="",0,Tabelle27[[#This Row],[Emissionen Behandlung (t CO2 eq/a)]])+IF(Tabelle27[[#This Row],[Emissionen Transport (t CO2 eq/a)]]="",0,Tabelle27[[#This Row],[Emissionen Transport (t CO2 eq/a)]]) -> 0
A64: 200133* | B64: =IF(MID(A64,7,1)="*","*","") -> * | C64: =IF(B64="*","gefährlich","nicht gefährlich") -> gefährlich | D64: 200133*/ Batterien und Akkumulatoren, die unter 16 06 01, 16 06 02 oder 16 06 03 fallen, sowie gemischte Batterien und Akkumulatoren, die solche Batterien enthalten | K64: =IFERROR(Tabelle27[[#This Row],[Menge (t/a)]]/Tabelle27[[#This Row],[Anzahl Transporte]],"") | N64: =IFERROR(VLOOKUP(Tabelle27[[#This Row],[Transportmittel]],Emissionsfaktoren!$N$2:$P$11,3,FALSE),"") | O64: https://www.hansewasser.de/service/downloads/2024-05_emissionsfaktoren_spezifisch.xlsx | P64: =IFERROR((Tabelle27[[#This Row],[Menge pro Transport (t)]]*Tabelle27[[#This Row],[Transportweg zur Entsorgungsanlage Hin und Rückweg (km)]]*Tabelle27[[#This Row],[Emissionsfaktor Transport (kg CO2 eq/tkm)]]/1000)*Tabelle27[[#This Row],[Anzahl Transporte]],"") | Q64: =IF(VLOOKUP(Tabelle27[[#This Row],[Abfallschlüssel-nummer]],Emissionsfaktoren!$A$2:$K$67,MATCH(Tabelle27[[#This Row],[Verwertung/ Beseitigung]],Emissionsfaktoren!$A$1:$K$1,0)+1,FALSE)=0,"",VLOOKUP(Tabelle27[[#This Row],[Abfallschlüssel-nummer]],Emissionsfaktoren!$A$2:$K$67,MATCH(Tabelle27[[#This Row],[Verwertung/ Beseitigung]],Emissionsfaktoren!$A$1:$K$1,0)+1,FALSE)) -> #N/A | R64: =IF(VLOOKUP(Tabelle27[[#This Row],[Abfallschlüssel-nummer]],Emissionsfaktoren!$A$2:$K$67,MATCH(Tabelle27[[#This Row],[Verwertung/ Beseitigung]],Emissionsfaktoren!$A$1:$K$1,0)+2,FALSE)=0,"",VLOOKUP(Tabelle27[[#This Row],[Abfallschlüssel-nummer]],Emissionsfaktoren!$A$2:$K$67,MATCH(Tabelle27[[#This Row],[Verwertung/ Beseitigung]],Emissionsfaktoren!$A$1:$K$1,0)+2,FALSE)) -> #N/A | S64: =IFERROR(Tabelle27[[#This Row],[Menge (t/a)]]*Tabelle27[[#This Row],[Emissionsfaktor Behandlung (t CO2 eq/t)]],"") | T64: =IF(Tabelle27[[#This Row],[Emissionen Behandlung (t CO2 eq/a)]]="",0,Tabelle27[[#This Row],[Emissionen Behandlung (t CO2 eq/a)]])+IF(Tabelle27[[#This Row],[Emissionen Transport (t CO2 eq/a)]]="",0,Tabelle27[[#This Row],[Emissionen Transport (t CO2 eq/a)]]) -> 0
A65: 200201 | B65: =IF(MID(A65,7,1)="*","*","") | C65: =IF(B65="*","gefährlich","nicht gefährlich") -> nicht gefährlich | D65: 200201/ biologisch abbaubare Abfälle | K65: =IFERROR(Tabelle27[[#This Row],[Menge (t/a)]]/Tabelle27[[#This Row],[Anzahl Transporte]],"") | N65: =IFERROR(VLOOKUP(Tabelle27[[#This Row],[Transportmittel]],Emissionsfaktoren!$N$2:$P$11,3,FALSE),"") | O65: https://www.hansewasser.de/service/downloads/2024-05_emissionsfaktoren_spezifisch.xlsx | P65: =IFERROR((Tabelle27[[#This Row],[Menge pro Transport (t)]]*Tabelle27[[#This Row],[Transportweg zur Entsorgungsanlage Hin und Rückweg (km)]]*Tabelle27[[#This Row],[Emissionsfaktor Transport (kg CO2 eq/tkm)]]/1000)*Tabelle27[[#This Row],[Anzahl Transporte]],"") | Q65: =IF(VLOOKUP(Tabelle27[[#This Row],[Abfallschlüssel-nummer]],Emissionsfaktoren!$A$2:$K$67,MATCH(Tabelle27[[#This Row],[Verwertung/ Beseitigung]],Emissionsfaktoren!$A$1:$K$1,0)+1,FALSE)=0,"",VLOOKUP(Tabelle27[[#This Row],[Abfallschlüssel-nummer]],Emissionsfaktoren!$A$2:$K$67,MATCH(Tabelle27[[#This Row],[Verwertung/ Beseitigung]],Emissionsfaktoren!$A$1:$K$1,0)+1,FALSE)) -> #N/A | R65: =IF(VLOOKUP(Tabelle27[[#This Row],[Abfallschlüssel-nummer]],Emissionsfaktoren!$A$2:$K$67,MATCH(Tabelle27[[#This Row],[Verwertung/ Beseitigung]],Emissionsfaktoren!$A$1:$K$1,0)+2,FALSE)=0,"",VLOOKUP(Tabelle27[[#This Row],[Abfallschlüssel-nummer]],Emissionsfaktoren!$A$2:$K$67,MATCH(Tabelle27[[#This Row],[Verwertung/ Beseitigung]],Emissionsfaktoren!$A$1:$K$1,0)+2,FALSE)) -> #N/A | S65: =IFERROR(Tabelle27[[#This Row],[Menge (t/a)]]*Tabelle27[[#This Row],[Emissionsfaktor Behandlung (t CO2 eq/t)]],"") | T65: =IF(Tabelle27[[#This Row],[Emissionen Behandlung (t CO2 eq/a)]]="",0,Tabelle27[[#This Row],[Emissionen Behandlung (t CO2 eq/a)]])+IF(Tabelle27[[#This Row],[Emissionen Transport (t CO2 eq/a)]]="",0,Tabelle27[[#This Row],[Emissionen Transport (t CO2 eq/a)]]) -> 0
A66: 200301 | B66: =IF(MID(A66,7,1)="*","*","") | C66: =IF(B66="*","gefährlich","nicht gefährlich") -> nicht gefährlich | D66: 200301/ gemischte Siedlungsabfälle | K66: =IFERROR(Tabelle27[[#This Row],[Menge (t/a)]]/Tabelle27[[#This Row],[Anzahl Transporte]],"") | N66: =IFERROR(VLOOKUP(Tabelle27[[#This Row],[Transportmittel]],Emissionsfaktoren!$N$2:$P$11,3,FALSE),"") | O66: https://www.hansewasser.de/service/downloads/2024-05_emissionsfaktoren_spezifisch.xlsx | P66: =IFERROR((Tabelle27[[#This Row],[Menge pro Transport (t)]]*Tabelle27[[#This Row],[Transportweg zur Entsorgungsanlage Hin und Rückweg (km)]]*Tabelle27[[#This Row],[Emissionsfaktor Transport (kg CO2 eq/tkm)]]/1000)*Tabelle27[[#This Row],[Anzahl Transporte]],"") | Q66: =IF(VLOOKUP(Tabelle27[[#This Row],[Abfallschlüssel-nummer]],Emissionsfaktoren!$A$2:$K$67,MATCH(Tabelle27[[#This Row],[Verwertung/ Beseitigung]],Emissionsfaktoren!$A$1:$K$1,0)+1,FALSE)=0,"",VLOOKUP(Tabelle27[[#This Row],[Abfallschlüssel-nummer]],Emissionsfaktoren!$A$2:$K$67,MATCH(Tabelle27[[#This Row],[Verwertung/ Beseitigung]],Emissionsfaktoren!$A$1:$K$1,0)+1,FALSE)) -> #N/A | R66: =IF(VLOOKUP(Tabelle27[[#This Row],[Abfallschlüssel-nummer]],Emissionsfaktoren!$A$2:$K$67,MATCH(Tabelle27[[#This Row],[Verwertung/ Beseitigung]],Emissionsfaktoren!$A$1:$K$1,0)+2,FALSE)=0,"",VLOOKUP(Tabelle27[[#This Row],[Abfallschlüssel-nummer]],Emissionsfaktoren!$A$2:$K$67,MATCH(Tabelle27[[#This Row],[Verwertung/ Beseitigung]],Emissionsfaktoren!$A$1:$K$1,0)+2,FALSE)) -> #N/A | S66: =IFERROR(Tabelle27[[#This Row],[Menge (t/a)]]*Tabelle27[[#This Row],[Emissionsfaktor Behandlung (t CO2 eq/t)]],"") | T66: =IF(Tabelle27[[#This Row],[Emissionen Behandlung (t CO2 eq/a)]]="",0,Tabelle27[[#This Row],[Emissionen Behandlung (t CO2 eq/a)]])+IF(Tabelle27[[#This Row],[Emissionen Transport (t CO2 eq/a)]]="",0,Tabelle27[[#This Row],[Emissionen Transport (t CO2 eq/a)]]) -> 0
A67: 200303 | B67: =IF(MID(A67,7,1)="*","*","") | C67: =IF(B67="*","gefährlich","nicht gefährlich") -> nicht gefährlich | D67: 200303/ Straßenkehricht | K67: =IFERROR(Tabelle27[[#This Row],[Menge (t/a)]]/Tabelle27[[#This Row],[Anzahl Transporte]],"") | N67: =IFERROR(VLOOKUP(Tabelle27[[#This Row],[Transportmittel]],Emissionsfaktoren!$N$2:$P$11,3,FALSE),"") | O67: https://www.hansewasser.de/service/downloads/2024-05_emissionsfaktoren_spezifisch.xlsx | P67: =IFERROR((Tabelle27[[#This Row],[Menge pro Transport (t)]]*Tabelle27[[#This Row],[Transportweg zur Entsorgungsanlage Hin und Rückweg (km)]]*Tabelle27[[#This Row],[Emissionsfaktor Transport (kg CO2 eq/tkm)]]/1000)*Tabelle27[[#This Row],[Anzahl Transporte]],"") | Q67: =IF(VLOOKUP(Tabelle27[[#This Row],[Abfallschlüssel-nummer]],Emissionsfaktoren!$A$2:$K$67,MATCH(Tabelle27[[#This Row],[Verwertung/ Beseitigung]],Emissionsfaktoren!$A$1:$K$1,0)+1,FALSE)=0,"",VLOOKUP(Tabelle27[[#This Row],[Abfallschlüssel-nummer]],Emissionsfaktoren!$A$2:$K$67,MATCH(Tabelle27[[#This Row],[Verwertung/ Beseitigung]],Emissionsfaktoren!$A$1:$K$1,0)+1,FALSE)) -> #N/A | R67: =IF(VLOOKUP(Tabelle27[[#This Row],[Abfallschlüssel-nummer]],Emissionsfaktoren!$A$2:$K$67,MATCH(Tabelle27[[#This Row],[Verwertung/ Beseitigung]],Emissionsfaktoren!$A$1:$K$1,0)+2,FALSE)=0,"",VLOOKUP(Tabelle27[[#This Row],[Abfallschlüssel-nummer]],Emissionsfaktoren!$A$2:$K$67,MATCH(Tabelle27[[#This Row],[Verwertung/ Beseitigung]],Emissionsfaktoren!$A$1:$K$1,0)+2,FALSE)) -> #N/A | S67: =IFERROR(Tabelle27[[#This Row],[Menge (t/a)]]*Tabelle27[[#This Row],[Emissionsfaktor Behandlung (t CO2 eq/t)]],"") | T67: =IF(Tabelle27[[#This Row],[Emissionen Behandlung (t CO2 eq/a)]]="",0,Tabelle27[[#This Row],[Emissionen Behandlung (t CO2 eq/a)]])+IF(Tabelle27[[#This Row],[Emissionen Transport (t CO2 eq/a)]]="",0,Tabelle27[[#This Row],[Emissionen Transport (t CO2 eq/a)]]) -> 0
A68: 200304 | B68: =IF(MID(A68,7,1)="*","*","") | C68: =IF(B68="*","gefährlich","nicht gefährlich") -> nicht gefährlich | D68: 200304/ Fäkalschlamm | K68: =IFERROR(Tabelle27[[#This Row],[Menge (t/a)]]/Tabelle27[[#This Row],[Anzahl Transporte]],"") | N68: =IFERROR(VLOOKUP(Tabelle27[[#This Row],[Transportmittel]],Emissionsfaktoren!$N$2:$P$11,3,FALSE),"") | O68: https://www.hansewasser.de/service/downloads/2024-05_emissionsfaktoren_spezifisch.xlsx | P68: =IFERROR((Tabelle27[[#This Row],[Menge pro Transport (t)]]*Tabelle27[[#This Row],[Transportweg zur Entsorgungsanlage Hin und Rückweg (km)]]*Tabelle27[[#This Row],[Emissionsfaktor Transport (kg CO2 eq/tkm)]]/1000)*Tabelle27[[#This Row],[Anzahl Transporte]],"") | Q68: =IF(VLOOKUP(Tabelle27[[#This Row],[Abfallschlüssel-nummer]],Emissionsfaktoren!$A$2:$K$67,MATCH(Tabelle27[[#This Row],[Verwertung/ Beseitigung]],Emissionsfaktoren!$A$1:$K$1,0)+1,FALSE)=0,"",VLOOKUP(Tabelle27[[#This Row],[Abfallschlüssel-nummer]],Emissionsfaktoren!$A$2:$K$67,MATCH(Tabelle27[[#This Row],[Verwertung/ Beseitigung]],Emissionsfaktoren!$A$1:$K$1,0)+1,FALSE)) -> #N/A | R68: =IF(VLOOKUP(Tabelle27[[#This Row],[Abfallschlüssel-nummer]],Emissionsfaktoren!$A$2:$K$67,MATCH(Tabelle27[[#This Row],[Verwertung/ Beseitigung]],Emissionsfaktoren!$A$1:$K$1,0)+2,FALSE)=0,"",VLOOKUP(Tabelle27[[#This Row],[Abfallschlüssel-nummer]],Emissionsfaktoren!$A$2:$K$67,MATCH(Tabelle27[[#This Row],[Verwertung/ Beseitigung]],Emissionsfaktoren!$A$1:$K$1,0)+2,FALSE)) -> #N/A | S68: =IFERROR(Tabelle27[[#This Row],[Menge (t/a)]]*Tabelle27[[#This Row],[Emissionsfaktor Behandlung (t CO2 eq/t)]],"") | T68: =IF(Tabelle27[[#This Row],[Emissionen Behandlung (t CO2 eq/a)]]="",0,Tabelle27[[#This Row],[Emissionen Behandlung (t CO2 eq/a)]])+IF(Tabelle27[[#This Row],[Emissionen Transport (t CO2 eq/a)]]="",0,Tabelle27[[#This Row],[Emissionen Transport (t CO2 eq/a)]]) -> 0
A69: 200306 | B69: =IF(MID(A69,7,1)="*","*","") | C69: =IF(B69="*","gefährlich","nicht gefährlich") -> nicht gefährlich | D69: 200306/ Abfälle aus der Kanalreinigung | K69: =IFERROR(Tabelle27[[#This Row],[Menge (t/a)]]/Tabelle27[[#This Row],[Anzahl Transporte]],"") | N69: =IFERROR(VLOOKUP(Tabelle27[[#This Row],[Transportmittel]],Emissionsfaktoren!$N$2:$P$11,3,FALSE),"") | O69: https://www.hansewasser.de/service/downloads/2024-05_emissionsfaktoren_spezifisch.xlsx | P69: =IFERROR((Tabelle27[[#This Row],[Menge pro Transport (t)]]*Tabelle27[[#This Row],[Transportweg zur Entsorgungsanlage Hin und Rückweg (km)]]*Tabelle27[[#This Row],[Emissionsfaktor Transport (kg CO2 eq/tkm)]]/1000)*Tabelle27[[#This Row],[Anzahl Transporte]],"") | Q69: =IF(VLOOKUP(Tabelle27[[#This Row],[Abfallschlüssel-nummer]],Emissionsfaktoren!$A$2:$K$67,MATCH(Tabelle27[[#This Row],[Verwertung/ Beseitigung]],Emissionsfaktoren!$A$1:$K$1,0)+1,FALSE)=0,"",VLOOKUP(Tabelle27[[#This Row],[Abfallschlüssel-nummer]],Emissionsfaktoren!$A$2:$K$67,MATCH(Tabelle27[[#This Row],[Verwertung/ Beseitigung]],Emissionsfaktoren!$A$1:$K$1,0)+1,FALSE)) -> #N/A | R69: =IF(VLOOKUP(Tabelle27[[#This Row],[Abfallschlüssel-nummer]],Emissionsfaktoren!$A$2:$K$67,MATCH(Tabelle27[[#This Row],[Verwertung/ Beseitigung]],Emissionsfaktoren!$A$1:$K$1,0)+2,FALSE)=0,"",VLOOKUP(Tabelle27[[#This Row],[Abfallschlüssel-nummer]],Emissionsfaktoren!$A$2:$K$67,MATCH(Tabelle27[[#This Row],[Verwertung/ Beseitigung]],Emissionsfaktoren!$A$1:$K$1,0)+2,FALSE)) -> #N/A | S69: =IFERROR(Tabelle27[[#This Row],[Menge (t/a)]]*Tabelle27[[#This Row],[Emissionsfaktor Behandlung (t CO2 eq/t)]],"") | T69: =IF(Tabelle27[[#This Row],[Emissionen Behandlung (t CO2 eq/a)]]="",0,Tabelle27[[#This Row],[Emissionen Behandlung (t CO2 eq/a)]])+IF(Tabelle27[[#This Row],[Emissionen Transport (t CO2 eq/a)]]="",0,Tabelle27[[#This Row],[Emissionen Transport (t CO2 eq/a)]]) -> 0
A75: Abfallschlüssel-nummer | B75: Gefährlicher Abfall | C75: Gefährlicher Abfall (Text) | D75: Abfallbezeichnung | E75: Entsorger | F75: Verwertung/ Beseitigung | G75: Bemerkung | H75: Menge Original-substanz (t/a) | I75: Menge Trocken-rückstand (t/a) | J75: Anzahl Transporte | K75: Menge pro Transport (t) | L75: Transportweg zur Entsorgungsanlage (km) | M75: Transportmittel | N75: Emissionsfaktor Transport (kg CO2 eq/tkm) | O75: Quelle Emissionsfaktor Transport | P75: Emissionen Transport (t CO2 eq/a) | Q75: Emissionsfaktor Behandlung (t CO2 eq/t) | R75: Quelle Emissionsfaktor Behandlung | S75: Emissionen Behandlung (t CO2 eq/a) | T75: Emissionen Klärschlammentsorgung gesamt (t CO2 eq/a)
A76: 190805 | B76: =IF(MID(A76,7,1)="*","*","") | C76: =IF(B76="*","gefährlich","nicht gefährlich") -> nicht gefährlich | D76: 190805/ Schlämme aus der Behandlung von kommunalem Abwasser | E76: Musterbeispiel | F76: Monoverbrennung | H76: 10 | I76: 8 | J76: 2 | K76: =H76/J76 -> 5 | L76: 20 | M76: LKW, EURO6, 3,5-7,5t | N76: =_xlfn.XLOOKUP(M76,Emissionsfaktoren!$N$2:$N$11,Emissionsfaktoren!$P$2:$P$11,"",0) -> 0.5707 | O76: https://www.hansewasser.de/service/downloads/2024-05_emissionsfaktoren_spezifisch.xlsx | P76: =IFERROR((K76*L76*N76/1000)*J76,"") -> 0.11414 | Q76: =_xlfn.XLOOKUP(F76,Emissionsfaktoren!$P$15:$P$19,Emissionsfaktoren!$R$15:$R$19,"",0) -> 0.06751241 | R76: =_xlfn.XLOOKUP(F76,Emissionsfaktoren!$P$15:$P$19,Emissionsfaktoren!$S$15:$S$19,"",0) -> https://www.hansewasser.de/service/downloads/2024-05_emissionsfaktoren_spezifisch.xlsx | S76: =IFERROR(I76*Q76,"") -> 0.54009928 | T76: =IF(S76="",0,S76)+IF(P76="",0,P76) -> 0.65423928
A77: 190805 | B77: =IF(MID(A77,7,1)="*","*","") | C77: =IF(B77="*","gefährlich","nicht gefährlich") -> nicht gefährlich | D77: 190805/ Schlämme aus der Behandlung von kommunalem Abwasser | K77: =(IFERROR(H77/J77,"")) | N77: =_xlfn.XLOOKUP(M77,Emissionsfaktoren!$N$2:$N$11,Emissionsfaktoren!$P$2:$P$11,"",0) | O77: https://www.hansewasser.de/service/downloads/2024-05_emissionsfaktoren_spezifisch.xlsx | P77: =IFERROR((K77*L77*N77/1000)*J77,"") | Q77: =_xlfn.XLOOKUP(F77,Emissionsfaktoren!$P$15:$P$19,Emissionsfaktoren!$R$15:$R$19,"",0) | R77: =_xlfn.XLOOKUP(F77,Emissionsfaktoren!$P$15:$P$19,Emissionsfaktoren!$S$15:$S$19,"",0) | S77: =IFERROR(I77*Q77,"") | T77: =IF(S77="",0,S77)+IF(P77="",0,P77) -> 0
A78: 190805 | B78: =IF(MID(A78,7,1)="*","*","") | C78: =IF(B78="*","gefährlich","nicht gefährlich") -> nicht gefährlich | D78: 190805/ Schlämme aus der Behandlung von kommunalem Abwasser | K78: =(IFERROR(H78/J78,"")) | N78: =_xlfn.XLOOKUP(M78,Emissionsfaktoren!$N$2:$N$11,Emissionsfaktoren!$P$2:$P$11,"",0) | O78: https://www.hansewasser.de/service/downloads/2024-05_emissionsfaktoren_spezifisch.xlsx | P78: =IFERROR((K78*L78*N78/1000)*J78,"") | Q78: =_xlfn.XLOOKUP(F78,Emissionsfaktoren!$P$15:$P$19,Emissionsfaktoren!$R$15:$R$19,"",0) | R78: =_xlfn.XLOOKUP(F78,Emissionsfaktoren!$P$15:$P$19,Emissionsfaktoren!$S$15:$S$19,"",0) | S78: =IFERROR(I78*Q78,"") | T78: =IF(S78="",0,S78)+IF(P78="",0,P78) -> 0
A79: 190805 | B79: =IF(MID(A79,7,1)="*","*","") | C79: =IF(B79="*","gefährlich","nicht gefährlich") -> nicht gefährlich | D79: 190805/ Schlämme aus der Behandlung von kommunalem Abwasser | K79: =(IFERROR(H79/J79,"")) | N79: =_xlfn.XLOOKUP(M79,Emissionsfaktoren!$N$2:$N$11,Emissionsfaktoren!$P$2:$P$11,"",0) | O79: https://www.hansewasser.de/service/downloads/2024-05_emissionsfaktoren_spezifisch.xlsx | P79: =IFERROR((K79*L79*N79/1000)*J79,"") | Q79: =_xlfn.XLOOKUP(F79,Emissionsfaktoren!$P$15:$P$19,Emissionsfaktoren!$R$15:$R$19,"",0) | R79: =_xlfn.XLOOKUP(F79,Emissionsfaktoren!$P$15:$P$19,Emissionsfaktoren!$S$15:$S$19,"",0) | S79: =IFERROR(I79*Q79,"") | T79: =IF(S79="",0,S79)+IF(P79="",0,P79) -> 0
A80: 190805 | B80: =IF(MID(A80,7,1)="*","*","") | C80: =IF(B80="*","gefährlich","nicht gefährlich") -> nicht gefährlich | D80: 190805/ Schlämme aus der Behandlung von kommunalem Abwasser | K80: =(IFERROR(H80/J80,"")) | N80: =_xlfn.XLOOKUP(M80,Emissionsfaktoren!$N$2:$N$11,Emissionsfaktoren!$P$2:$P$11,"",0) | O80: https://www.hansewasser.de/service/downloads/2024-05_emissionsfaktoren_spezifisch.xlsx | P80: =IFERROR((K80*L80*N80/1000)*J80,"") | Q80: =_xlfn.XLOOKUP(F80,Emissionsfaktoren!$P$15:$P$19,Emissionsfaktoren!$R$15:$R$19,"",0) | R80: =_xlfn.XLOOKUP(F80,Emissionsfaktoren!$P$15:$P$19,Emissionsfaktoren!$S$15:$S$19,"",0) | S80: =IFERROR(I80*Q80,"") | T80: =IF(S80="",0,S80)+IF(P80="",0,P80) -> 0
A81: 190805 | B81: =IF(MID(A81,7,1)="*","*","") | C81: =IF(B81="*","gefährlich","nicht gefährlich") -> nicht gefährlich | D81: 190805/ Schlämme aus der Behandlung von kommunalem Abwasser | K81: =(IFERROR(H81/J81,"")) | N81: =_xlfn.XLOOKUP(M81,Emissionsfaktoren!$N$2:$N$11,Emissionsfaktoren!$P$2:$P$11,"",0) | O81: https://www.hansewasser.de/service/downloads/2024-05_emissionsfaktoren_spezifisch.xlsx | P81: =IFERROR((K81*L81*N81/1000)*J81,"") | Q81: =_xlfn.XLOOKUP(F81,Emissionsfaktoren!$P$15:$P$19,Emissionsfaktoren!$R$15:$R$19,"",0) | R81: =_xlfn.XLOOKUP(F81,Emissionsfaktoren!$P$15:$P$19,Emissionsfaktoren!$S$15:$S$19,"",0) | S81: =IFERROR(I81*Q81,"") | T81: =IF(S81="",0,S81)+IF(P81="",0,P81) -> 0

Sheet Bilanz Trinkwasser
A2: 3.5 Berechnung THG-Emissionen aus Abfallentsorgung
A4: Abfallschlüssel-nummer | B4: Gefährlicher Abfall | C4: Gefährlicher Abfall (Text) | D4: Abfallbezeichnung | E4: Entsorger | F4: Verwertung/ Beseitigung | G4: Bemerkung | H4: Menge (t/a) | I4: Anzahl Transporte | J4: Menge pro Transport (t) | K4: Transportweg zur Entsorgungsanlage Hin- und Rückweg (km) | L4: Transportmittel | M4: Emissionsfaktor Transport (kg CO2 eq/tkm) | N4: Quelle Emissionsfaktor Transport | O4: Emissionen Transport (t CO2 eq/a) | P4: Emissionsfaktor Behandlung (t CO2 eq/t) | Q4: Quelle Emissionsfaktor Behandlung | R4: Emissionen Behandlung (t CO2 eq/a) | S4: Emission gesamt (t CO2 eq/a)
A5: 020110 | B5: =IF(MID(A5,7,1)="*","*","") | C5: =IF(B5="*","gefährlich","nicht gefährlich") -> nicht gefährlich | D5: 020110/ Metallabfälle | E5: Musterbeispiel | F5: Verwertung | H5: 50 | I5: 2 | J5: =IFERROR(Tabelle2[[#This Row],[Menge (t/a)]]/Tabelle2[[#This Row],[Anzahl Transporte]],"") -> 25 | K5: 10 | L5: LKW, EURO5, >32t | M5: =IFERROR(VLOOKUP(Tabelle2[[#This Row],[Transportmittel]],Emissionsfaktoren!$N$2:$P$11,3,FALSE),"") -> 0.10731 | N5: https://www.hansewasser.de/service/downloads/2024-05_emissionsfaktoren_spezifisch.xlsx | O5: =IFERROR((Tabelle2[[#This Row],[Menge pro Transport (t)]]*Tabelle2[[#This Row],[Transportweg zur Entsorgungsanlage Hin- und Rückweg (km)]]*Tabelle2[[#This Row],[Emissionsfaktor Transport (kg CO2 eq/tkm)]]/1000)*Tabelle2[[#This Row],[Anzahl Transporte]],"") -> 0.053655 | P5: =IF(VLOOKUP(Tabelle2[[#This Row],[Abfallschlüssel-nummer]],Emissionsfaktoren!$A$2:$K$67,MATCH(Tabelle2[[#This Row],[Verwertung/ Beseitigung]],Emissionsfaktoren!$A$1:$K$1,0)+1,FALSE)=0,"",VLOOKUP(Tabelle2[[#This Row],[Abfallschlüssel-nummer]],Emissionsfaktoren!$A$2:$K$67,MATCH(Tabelle2[[#This Row],[Verwertung/ Beseitigung]],Emissionsfaktoren!$A$1:$K$1,0)+1,FALSE)) -> 0.179 | Q5: =IF(VLOOKUP(Tabelle2[[#This Row],[Abfallschlüssel-nummer]],Emissionsfaktoren!$A$2:$K$67,MATCH(Tabelle2[[#This Row],[Verwertung/ Beseitigung]],Emissionsfaktoren!$A$1:$K$1,0)+2,FALSE)=0,"",VLOOKUP(Tabelle2[[#This Row],[Abfallschlüssel-nummer]],Emissionsfaktoren!$A$2:$K$67,MATCH(Tabelle2[[#This Row],[Verwertung/ Beseitigung]],Emissionsfaktoren!$A$1:$K$1,0)+2,FALSE)) -> https://www.hansewasser.de/service/downloads/2024-05_emissionsfaktoren_spezifisch.xlsx | R5: =IFERROR(Tabelle2[[#This Row],[Menge (t/a)]]*Tabelle2[[#This Row],[Emissionsfaktor Behandlung (t CO2 eq/t)]],"") -> 8.95 | S5: =IF(Tabelle2[[#This Row],[Emissionen Behandlung (t CO2 eq/a)]]="",0,Tabelle2[[#This Row],[Emissionen Behandlung (t CO2 eq/a)]])+IF(Tabelle2[[#This Row],[Emissionen Transport (t CO2 eq/a)]]="",0,Tabelle2[[#This Row],[Emissionen Transport (t CO2 eq/a)]]) -> 9.003655
A6: 020204 | B6: =IF(MID(A6,7,1)="*","*","") | C6: =IF(B6="*","gefährlich","nicht gefährlich") -> nicht gefährlich | D6: 020204/ Schlämme aus der betriebseigenen Abwasserbehandlung | J6: =IFERROR(Tabelle2[[#This Row],[Menge (t/a)]]/Tabelle2[[#This Row],[Anzahl Transporte]],"") | M6: =IFERROR(VLOOKUP(Tabelle2[[#This Row],[Transportmittel]],Emissionsfaktoren!$N$2:$P$11,3,FALSE),"") | N6: https://www.hansewasser.de/service/downloads/2024-05_emissionsfaktoren_spezifisch.xlsx | O6: =IFERROR((Tabelle2[[#This Row],[Menge pro Transport (t)]]*Tabelle2[[#This Row],[Transportweg zur Entsorgungsanlage Hin- und Rückweg (km)]]*Tabelle2[[#This Row],[Emissionsfaktor Transport (kg CO2 eq/tkm)]]/1000)*Tabelle2[[#This Row],[Anzahl Transporte]],"") | P6: =IF(VLOOKUP(Tabelle2[[#This Row],[Abfallschlüssel-nummer]],Emissionsfaktoren!$A$2:$K$67,MATCH(Tabelle2[[#This Row],[Verwertung/ Beseitigung]],Emissionsfaktoren!$A$1:$K$1,0)+1,FALSE)=0,"",VLOOKUP(Tabelle2[[#This Row],[Abfallschlüssel-nummer]],Emissionsfaktoren!$A$2:$K$67,MATCH(Tabelle2[[#This Row],[Verwertung/ Beseitigung]],Emissionsfaktoren!$A$1:$K$1,0)+1,FALSE)) -> #N/A | Q6: =IF(VLOOKUP(Tabelle2[[#This Row],[Abfallschlüssel-nummer]],Emissionsfaktoren!$A$2:$K$67,MATCH(Tabelle2[[#This Row],[Verwertung/ Beseitigung]],Emissionsfaktoren!$A$1:$K$1,0)+2,FALSE)=0,"",VLOOKUP(Tabelle2[[#This Row],[Abfallschlüssel-nummer]],Emissionsfaktoren!$A$2:$K$67,MATCH(Tabelle2[[#This Row],[Verwertung/ Beseitigung]],Emissionsfaktoren!$A$1:$K$1,0)+2,FALSE)) -> #N/A | R6: =IFERROR(Tabelle2[[#This Row],[Menge (t/a)]]*Tabelle2[[#This Row],[Emissionsfaktor Behandlung (t CO2 eq/t)]],"") | S6: =IF(Tabelle2[[#This Row],[Emissionen Behandlung (t CO2 eq/a)]]="",0,Tabelle2[[#This Row],[Emissionen Behandlung (t CO2 eq/a)]])+IF(Tabelle2[[#This Row],[Emissionen Transport (t CO2 eq/a)]]="",0,Tabelle2[[#This Row],[Emissionen Transport (t CO2 eq/a)]]) -> 0
A7: 060404* | B7: =IF(MID(A7,7,1)="*","*","") -> * | C7: =IF(B7="*","gefährlich","nicht gefährlich") -> gefährlich | D7: 060404*/ quecksilberhaltige Abfälle | J7: =IFERROR(Tabelle2[[#This Row],[Menge (t/a)]]/Tabelle2[[#This Row],[Anzahl Transporte]],"") | M7: =IFERROR(VLOOKUP(Tabelle2[[#This Row],[Transportmittel]],Emissionsfaktoren!$N$2:$P$11,3,FALSE),"") | N7: https://www.hansewasser.de/service/downloads/2024-05_emissionsfaktoren_spezifisch.xlsx | O7: =IFERROR((Tabelle2[[#This Row],[Menge pro Transport (t)]]*Tabelle2[[#This Row],[Transportweg zur Entsorgungsanlage Hin- und Rückweg (km)]]*Tabelle2[[#This Row],[Emissionsfaktor Transport (kg CO2 eq/tkm)]]/1000)*Tabelle2[[#This Row],[Anzahl Transporte]],"") | P7: =IF(VLOOKUP(Tabelle2[[#This Row],[Abfallschlüssel-nummer]],Emissionsfaktoren!$A$2:$K$67,MATCH(Tabelle2[[#This Row],[Verwertung/ Beseitigung]],Emissionsfaktoren!$A$1:$K$1,0)+1,FALSE)=0,"",VLOOKUP(Tabelle2[[#This Row],[Abfallschlüssel-nummer]],Emissionsfaktoren!$A$2:$K$67,MATCH(Tabelle2[[#This Row],[Verwertung/ Beseitigung]],Emissionsfaktoren!$A$1:$K$1,0)+1,FALSE)) -> #N/A | Q7: =IF(VLOOKUP(Tabelle2[[#This Row],[Abfallschlüssel-nummer]],Emissionsfaktoren!$A$2:$K$67,MATCH(Tabelle2[[#This Row],[Verwertung/ Beseitigung]],Emissionsfaktoren!$A$1:$K$1,0)+2,FALSE)=0,"",VLOOKUP(Tabelle2[[#This Row],[Abfallschlüssel-nummer]],Emissionsfaktoren!$A$2:$K$67,MATCH(Tabelle2[[#This Row],[Verwertung/ Beseitigung]],Emissionsfaktoren!$A$1:$K$1,0)+2,FALSE)) -> #N/A | R7: =IFERROR(Tabelle2[[#This Row],[Menge (t/a)]]*Tabelle2[[#This Row],[Emissionsfaktor Behandlung (t CO2 eq/t)]],"") | S7: =IF(Tabelle2[[#This Row],[Emissionen Behandlung (t CO2 eq/a)]]="",0,Tabelle2[[#This Row],[Emissionen Behandlung (t CO2 eq/a)]])+IF(Tabelle2[[#This Row],[Emissionen Transport (t CO2 eq/a)]]="",0,Tabelle2[[#This Row],[Emissionen Transport (t CO2 eq/a)]]) -> 0
A8: 080111* | B8: =IF(MID(A8,7,1)="*","*","") -> * | C8: =IF(B8="*","gefährlich","nicht gefährlich") -> gefährlich | D8: 080111*/ Farb- und Lackabfälle, die organische Lösemittel oder andere gefährliche Stoffe enthalten | J8: =IFERROR(Tabelle2[[#This Row],[Menge (t/a)]]/Tabelle2[[#This Row],[Anzahl Transporte]],"") | M8: =IFERROR(VLOOKUP(Tabelle2[[#This Row],[Transportmittel]],Emissionsfaktoren!$N$2:$P$11,3,FALSE),"") | N8: https://www.hansewasser.de/service/downloads/2024-05_emissionsfaktoren_spezifisch.xlsx | O8: =IFERROR((Tabelle2[[#This Row],[Menge pro Transport (t)]]*Tabelle2[[#This Row],[Transportweg zur Entsorgungsanlage Hin- und Rückweg (km)]]*Tabelle2[[#This Row],[Emissionsfaktor Transport (kg CO2 eq/tkm)]]/1000)*Tabelle2[[#This Row],[Anzahl Transporte]],"") | P8: =IF(VLOOKUP(Tabelle2[[#This Row],[Abfallschlüssel-nummer]],Emissionsfaktoren!$A$2:$K$67,MATCH(Tabelle2[[#This Row],[Verwertung/ Beseitigung]],Emissionsfaktoren!$A$1:$K$1,0)+1,FALSE)=0,"",VLOOKUP(Tabelle2[[#This Row],[Abfallschlüssel-nummer]],Emissionsfaktoren!$A$2:$K$67,MATCH(Tabelle2[[#This Row],[Verwertung/ Beseitigung]],Emissionsfaktoren!$A$1:$K$1,0)+1,FALSE)) -> #N/A | Q8: =IF(VLOOKUP(Tabelle2[[#This Row],[Abfallschlüssel-nummer]],Emissionsfaktoren!$A$2:$K$67,MATCH(Tabelle2[[#This Row],[Verwertung/ Beseitigung]],Emissionsfaktoren!$A$1:$K$1,0)+2,FALSE)=0,"",VLOOKUP(Tabelle2[[#This Row],[Abfallschlüssel-nummer]],Emissionsfaktoren!$A$2:$K$67,MATCH(Tabelle2[[#This Row],[Verwertung/ Beseitigung]],Emissionsfaktoren!$A$1:$K$1,0)+2,FALSE)) -> #N/A | R8: =IFERROR(Tabelle2[[#This Row],[Menge (t/a)]]*Tabelle2[[#This Row],[Emissionsfaktor Behandlung (t CO2 eq/t)]],"") | S8: =IF(Tabelle2[[#This Row],[Emissionen Behandlung (t CO2 eq/a)]]="",0,Tabelle2[[#This Row],[Emissionen Behandlung (t CO2 eq/a)]])+IF(Tabelle2[[#This Row],[Emissionen Transport (t CO2 eq/a)]]="",0,Tabelle2[[#This Row],[Emissionen Transport (t CO2 eq/a)]]) -> 0
A9: 080117* | B9: =IF(MID(A9,7,1)="*","*","") -> * | C9: =IF(B9="*","gefährlich","nicht gefährlich") -> gefährlich | D9: 080117*/ Abfälle aus der Farb- oder Lackentfernung, die organische Lösemittel oder andere gefährliche Stoffe enthalten | J9: =IFERROR(Tabelle2[[#This Row],[Menge (t/a)]]/Tabelle2[[#This Row],[Anzahl Transporte]],"") | M9: =IFERROR(VLOOKUP(Tabelle2[[#This Row],[Transportmittel]],Emissionsfaktoren!$N$2:$P$11,3,FALSE),"") | N9: https://www.hansewasser.de/service/downloads/2024-05_emissionsfaktoren_spezifisch.xlsx | O9: =IFERROR((Tabelle2[[#This Row],[Menge pro Transport (t)]]*Tabelle2[[#This Row],[Transportweg zur Entsorgungsanlage Hin- und Rückweg (km)]]*Tabelle2[[#This Row],[Emissionsfaktor Transport (kg CO2 eq/tkm)]]/1000)*Tabelle2[[#This Row],[Anzahl Transporte]],"") | P9: =IF(VLOOKUP(Tabelle2[[#This Row],[Abfallschlüssel-nummer]],Emissionsfaktoren!$A$2:$K$67,MATCH(Tabelle2[[#This Row],[Verwertung/ Beseitigung]],Emissionsfaktoren!$A$1:$K$1,0)+1,FALSE)=0,"",VLOOKUP(Tabelle2[[#This Row],[Abfallschlüssel-nummer]],Emissionsfaktoren!$A$2:$K$67,MATCH(Tabelle2[[#This Row],[Verwertung/ Beseitigung]],Emissionsfaktoren!$A$1:$K$1,0)+1,FALSE)) -> #N/A | Q9: =IF(VLOOKUP(Tabelle2[[#This Row],[Abfallschlüssel-nummer]],Emissionsfaktoren!$A$2:$K$67,MATCH(Tabelle2[[#This Row],[Verwertung/ Beseitigung]],Emissionsfaktoren!$A$1:$K$1,0)+2,FALSE)=0,"",VLOOKUP(Tabelle2[[#This Row],[Abfallschlüssel-nummer]],Emissionsfaktoren!$A$2:$K$67,MATCH(Tabelle2[[#This Row],[Verwertung/ Beseitigung]],Emissionsfaktoren!$A$1:$K$1,0)+2,FALSE)) -> #N/A | R9: =IFERROR(Tabelle2[[#This Row],[Menge (t/a)]]*Tabelle2[[#This Row],[Emissionsfaktor Behandlung (t CO2 eq/t)]],"") | S9: =IF(Tabelle2[[#This Row],[Emissionen Behandlung (t CO2 eq/a)]]="",0,Tabelle2[[#This Row],[Emissionen Behandlung (t CO2 eq/a)]])+IF(Tabelle2[[#This Row],[Emissionen Transport (t CO2 eq/a)]]="",0,Tabelle2[[#This Row],[Emissionen Transport (t CO2 eq/a)]]) -> 0
A10: 101112 | B10: =IF(MID(A10,7,1)="*","*","") | C10: =IF(B10="*","gefährlich","nicht gefährlich") -> nicht gefährlich | D10: 101112/ Glasabfall mit Ausnahme desjenigen, der unter 10 11 11 fällt | J10: =IFERROR(Tabelle2[[#This Row],[Menge (t/a)]]/Tabelle2[[#This Row],[Anzahl Transporte]],"") | M10: =IFERROR(VLOOKUP(Tabelle2[[#This Row],[Transportmittel]],Emissionsfaktoren!$N$2:$P$11,3,FALSE),"") | N10: https://www.hansewasser.de/service/downloads/2024-05_emissionsfaktoren_spezifisch.xlsx | O10: =IFERROR((Tabelle2[[#This Row],[Menge pro Transport (t)]]*Tabelle2[[#This Row],[Transportweg zur Entsorgungsanlage Hin- und Rückweg (km)]]*Tabelle2[[#This Row],[Emissionsfaktor Transport (kg CO2 eq/tkm)]]/1000)*Tabelle2[[#This Row],[Anzahl Transporte]],"") | P10: =IF(VLOOKUP(Tabelle2[[#This Row],[Abfallschlüssel-nummer]],Emissionsfaktoren!$A$2:$K$67,MATCH(Tabelle2[[#This Row],[Verwertung/ Beseitigung]],Emissionsfaktoren!$A$1:$K$1,0)+1,FALSE)=0,"",VLOOKUP(Tabelle2[[#This Row],[Abfallschlüssel-nummer]],Emissionsfaktoren!$A$2:$K$67,MATCH(Tabelle2[[#This Row],[Verwertung/ Beseitigung]],Emissionsfaktoren!$A$1:$K$1,0)+1,FALSE)) -> #N/A | Q10: =IF(VLOOKUP(Tabelle2[[#This Row],[Abfallschlüssel-nummer]],Emissionsfaktoren!$A$2:$K$67,MATCH(Tabelle2[[#This Row],[Verwertung/ Beseitigung]],Emissionsfaktoren!$A$1:$K$1,0)+2,FALSE)=0,"",VLOOKUP(Tabelle2[[#This Row],[Abfallschlüssel-nummer]],Emissionsfaktoren!$A$2:$K$67,MATCH(Tabelle2[[#This Row],[Verwertung/ Beseitigung]],Emissionsfaktoren!$A$1:$K$1,0)+2,FALSE)) -> #N/A | R10: =IFERROR(Tabelle2[[#This Row],[Menge (t/a)]]*Tabelle2[[#This Row],[Emissionsfaktor Behandlung (t CO2 eq/t)]],"") | S10: =IF(Tabelle2[[#This Row],[Emissionen Behandlung (t CO2 eq/a)]]="",0,Tabelle2[[#This Row],[Emissionen Behandlung (t CO2 eq/a)]])+IF(Tabelle2[[#This Row],[Emissionen Transport (t CO2 eq/a)]]="",0,Tabelle2[[#This Row],[Emissionen Transport (t CO2 eq/a)]]) -> 0
A11: 110198* | B11: =IF(MID(A11,7,1)="*","*","") -> * | C11: =IF(B11="*","gefährlich","nicht gefährlich") -> gefährlich | D11: 110198*/ andere Abfälle, die gefährliche Stoffe enthalten | J11: =IFERROR(Tabelle2[[#This Row],[Menge (t/a)]]/Tabelle2[[#This Row],[Anzahl Transporte]],"") | M11: =IFERROR(VLOOKUP(Tabelle2[[#This Row],[Transportmittel]],Emissionsfaktoren!$N$2:$P$11,3,FALSE),"") | N11: https://www.hansewasser.de/service/downloads/2024-05_emissionsfaktoren_spezifisch.xlsx | O11: =IFERROR((Tabelle2[[#This Row],[Menge pro Transport (t)]]*Tabelle2[[#This Row],[Transportweg zur Entsorgungsanlage Hin- und Rückweg (km)]]*Tabelle2[[#This Row],[Emissionsfaktor Transport (kg CO2 eq/tkm)]]/1000)*Tabelle2[[#This Row],[Anzahl Transporte]],"") | P11: =IF(VLOOKUP(Tabelle2[[#This Row],[Abfallschlüssel-nummer]],Emissionsfaktoren!$A$2:$K$67,MATCH(Tabelle2[[#This Row],[Verwertung/ Beseitigung]],Emissionsfaktoren!$A$1:$K$1,0)+1,FALSE)=0,"",VLOOKUP(Tabelle2[[#This Row],[Abfallschlüssel-nummer]],Emissionsfaktoren!$A$2:$K$67,MATCH(Tabelle2[[#This Row],[Verwertung/ Beseitigung]],Emissionsfaktoren!$A$1:$K$1,0)+1,FALSE)) -> #N/A | Q11: =IF(VLOOKUP(Tabelle2[[#This Row],[Abfallschlüssel-nummer]],Emissionsfaktoren!$A$2:$K$67,MATCH(Tabelle2[[#This Row],[Verwertung/ Beseitigung]],Emissionsfaktoren!$A$1:$K$1,0)+2,FALSE)=0,"",VLOOKUP(Tabelle2[[#This Row],[Abfallschlüssel-nummer]],Emissionsfaktoren!$A$2:$K$67,MATCH(Tabelle2[[#This Row],[Verwertung/ Beseitigung]],Emissionsfaktoren!$A$1:$K$1,0)+2,FALSE)) -> #N/A | R11: =IFERROR(Tabelle2[[#This Row],[Menge (t/a)]]*Tabelle2[[#This Row],[Emissionsfaktor Behandlung (t CO2 eq/t)]],"") | S11: =IF(Tabelle2[[#This Row],[Emissionen Behandlung (t CO2 eq/a)]]="",0,Tabelle2[[#This Row],[Emissionen Behandlung (t CO2 eq/a)]])+IF(Tabelle2[[#This Row],[Emissionen Transport (t CO2 eq/a)]]="",0,Tabelle2[[#This Row],[Emissionen Transport (t CO2 eq/a)]]) -> 0
A12: 120105 | B12: =IF(MID(A12,7,1)="*","*","") | C12: =IF(B12="*","gefährlich","nicht gefährlich") -> nicht gefährlich | D12: 120105/ Kunststoffspäne und Drehspäne | J12: =IFERROR(Tabelle2[[#This Row],[Menge (t/a)]]/Tabelle2[[#This Row],[Anzahl Transporte]],"") | M12: =IFERROR(VLOOKUP(Tabelle2[[#This Row],[Transportmittel]],Emissionsfaktoren!$N$2:$P$11,3,FALSE),"") | N12: https://www.hansewasser.de/service/downloads/2024-05_emissionsfaktoren_spezifisch.xlsx | O12: =IFERROR((Tabelle2[[#This Row],[Menge pro Transport (t)]]*Tabelle2[[#This Row],[Transportweg zur Entsorgungsanlage Hin- und Rückweg (km)]]*Tabelle2[[#This Row],[Emissionsfaktor Transport (kg CO2 eq/tkm)]]/1000)*Tabelle2[[#This Row],[Anzahl Transporte]],"") | P12: =IF(VLOOKUP(Tabelle2[[#This Row],[Abfallschlüssel-nummer]],Emissionsfaktoren!$A$2:$K$67,MATCH(Tabelle2[[#This Row],[Verwertung/ Beseitigung]],Emissionsfaktoren!$A$1:$K$1,0)+1,FALSE)=0,"",VLOOKUP(Tabelle2[[#This Row],[Abfallschlüssel-nummer]],Emissionsfaktoren!$A$2:$K$67,MATCH(Tabelle2[[#This Row],[Verwertung/ Beseitigung]],Emissionsfaktoren!$A$1:$K$1,0)+1,FALSE)) -> #N/A | Q12: =IF(VLOOKUP(Tabelle2[[#This Row],[Abfallschlüssel-nummer]],Emissionsfaktoren!$A$2:$K$67,MATCH(Tabelle2[[#This Row],[Verwertung/ Beseitigung]],Emissionsfaktoren!$A$1:$K$1,0)+2,FALSE)=0,"",VLOOKUP(Tabelle2[[#This Row],[Abfallschlüssel-nummer]],Emissionsfaktoren!$A$2:$K$67,MATCH(Tabelle2[[#This Row],[Verwertung/ Beseitigung]],Emissionsfaktoren!$A$1:$K$1,0)+2,FALSE)) -> #N/A | R12: =IFERROR(Tabelle2[[#This Row],[Menge (t/a)]]*Tabelle2[[#This Row],[Emissionsfaktor Behandlung (t CO2 eq/t)]],"") | S12: =IF(Tabelle2[[#This Row],[Emissionen Behandlung (t CO2 eq/a)]]="",0,Tabelle2[[#This Row],[Emissionen Behandlung (t CO2 eq/a)]])+IF(Tabelle2[[#This Row],[Emissionen Transport (t CO2 eq/a)]]="",0,Tabelle2[[#This Row],[Emissionen Transport (t CO2 eq/a)]]) -> 0
A13: 120109* | B13: =IF(MID(A13,7,1)="*","*","") -> * | C13: =IF(B13="*","gefährlich","nicht gefährlich") -> gefährlich | D13: 120109*/ halogenfreie Bearbeitungsemulsionen und -lösungen | J13: =IFERROR(Tabelle2[[#This Row],[Menge (t/a)]]/Tabelle2[[#This Row],[Anzahl Transporte]],"") | M13: =IFERROR(VLOOKUP(Tabelle2[[#This Row],[Transportmittel]],Emissionsfaktoren!$N$2:$P$11,3,FALSE),"") | N13: https://www.hansewasser.de/service/downloads/2024-05_emissionsfaktoren_spezifisch.xlsx | O13: =IFERROR((Tabelle2[[#This Row],[Menge pro Transport (t)]]*Tabelle2[[#This Row],[Transportweg zur Entsorgungsanlage Hin- und Rückweg (km)]]*Tabelle2[[#This Row],[Emissionsfaktor Transport (kg CO2 eq/tkm)]]/1000)*Tabelle2[[#This Row],[Anzahl Transporte]],"") | P13: =IF(VLOOKUP(Tabelle2[[#This Row],[Abfallschlüssel-nummer]],Emissionsfaktoren!$A$2:$K$67,MATCH(Tabelle2[[#This Row],[Verwertung/ Beseitigung]],Emissionsfaktoren!$A$1:$K$1,0)+1,FALSE)=0,"",VLOOKUP(Tabelle2[[#This Row],[Abfallschlüssel-nummer]],Emissionsfaktoren!$A$2:$K$67,MATCH(Tabelle2[[#This Row],[Verwertung/ Beseitigung]],Emissionsfaktoren!$A$1:$K$1,0)+1,FALSE)) -> #N/A | Q13: =IF(VLOOKUP(Tabelle2[[#This Row],[Abfallschlüssel-nummer]],Emissionsfaktoren!$A$2:$K$67,MATCH(Tabelle2[[#This Row],[Verwertung/ Beseitigung]],Emissionsfaktoren!$A$1:$K$1,0)+2,FALSE)=0,"",VLOOKUP(Tabelle2[[#This Row],[Abfallschlüssel-nummer]],Emissionsfaktoren!$A$2:$K$67,MATCH(Tabelle2[[#This Row],[Verwertung/ Beseitigung]],Emissionsfaktoren!$A$1:$K$1,0)+2,FALSE)) -> #N/A | R13: =IFERROR(Tabelle2[[#This Row],[Menge (t/a)]]*Tabelle2[[#This Row],[Emissionsfaktor Behandlung (t CO2 eq/t)]],"") | S13: =IF(Tabelle2[[#This Row],[Emissionen Behandlung (t CO2 eq/a)]]="",0,Tabelle2[[#This Row],[Emissionen Behandlung (t CO2 eq/a)]])+IF(Tabelle2[[#This Row],[Emissionen Transport (t CO2 eq/a)]]="",0,Tabelle2[[#This Row],[Emissionen Transport (t CO2 eq/a)]]) -> 0
A14: 130205* | B14: =IF(MID(A14,7,1)="*","*","") -> * | C14: =IF(B14="*","gefährlich","nicht gefährlich") -> gefährlich | D14: 130205*/ nichtchlorierte Maschinen-, Getriebe- und Schmieröle auf Mineralölbasis | J14: =IFERROR(Tabelle2[[#This Row],[Menge (t/a)]]/Tabelle2[[#This Row],[Anzahl Transporte]],"") | M14: =IFERROR(VLOOKUP(Tabelle2[[#This Row],[Transportmittel]],Emissionsfaktoren!$N$2:$P$11,3,FALSE),"") | N14: https://www.hansewasser.de/service/downloads/2024-05_emissionsfaktoren_spezifisch.xlsx | O14: =IFERROR((Tabelle2[[#This Row],[Menge pro Transport (t)]]*Tabelle2[[#This Row],[Transportweg zur Entsorgungsanlage Hin- und Rückweg (km)]]*Tabelle2[[#This Row],[Emissionsfaktor Transport (kg CO2 eq/tkm)]]/1000)*Tabelle2[[#This Row],[Anzahl Transporte]],"") | P14: =IF(VLOOKUP(Tabelle2[[#This Row],[Abfallschlüssel-nummer]],Emissionsfaktoren!$A$2:$K$67,MATCH(Tabelle2[[#This Row],[Verwertung/ Beseitigung]],Emissionsfaktoren!$A$1:$K$1,0)+1,FALSE)=0,"",VLOOKUP(Tabelle2[[#This Row],[Abfallschlüssel-nummer]],Emissionsfaktoren!$A$2:$K$67,MATCH(Tabelle2[[#This Row],[Verwertung/ Beseitigung]],Emissionsfaktoren!$A$1:$K$1,0)+1,FALSE)) -> #N/A | Q14: =IF(VLOOKUP(Tabelle2[[#This Row],[Abfallschlüssel-nummer]],Emissionsfaktoren!$A$2:$K$67,MATCH(Tabelle2[[#This Row],[Verwertung/ Beseitigung]],Emissionsfaktoren!$A$1:$K$1,0)+2,FALSE)=0,"",VLOOKUP(Tabelle2[[#This Row],[Abfallschlüssel-nummer]],Emissionsfaktoren!$A$2:$K$67,MATCH(Tabelle2[[#This Row],[Verwertung/ Beseitigung]],Emissionsfaktoren!$A$1:$K$1,0)+2,FALSE)) -> #N/A | R14: =IFERROR(Tabelle2[[#This Row],[Menge (t/a)]]*Tabelle2[[#This Row],[Emissionsfaktor Behandlung (t CO2 eq/t)]],"") | S14: =IF(Tabelle2[[#This Row],[Emissionen Behandlung (t CO2 eq/a)]]="",0,Tabelle2[[#This Row],[Emissionen Behandlung (t CO2 eq/a)]])+IF(Tabelle2[[#This Row],[Emissionen Transport (t CO2 eq/a)]]="",0,Tabelle2[[#This Row],[Emissionen Transport (t CO2 eq/a)]]) -> 0
A15: 130502* | B15: =IF(MID(A15,7,1)="*","*","") -> * | C15: =IF(B15="*","gefährlich","nicht gefährlich") -> gefährlich | D15: 130502*/Schlämme aus Öl-/Wasserabscheider | J15: =IFERROR(Tabelle2[[#This Row],[Menge (t/a)]]/Tabelle2[[#This Row],[Anzahl Transporte]],"") | M15: =IFERROR(VLOOKUP(Tabelle2[[#This Row],[Transportmittel]],Emissionsfaktoren!$N$2:$P$11,3,FALSE),"") | N15: https://www.hansewasser.de/service/downloads/2024-05_emissionsfaktoren_spezifisch.xlsx | O15: =IFERROR((Tabelle2[[#This Row],[Menge pro Transport (t)]]*Tabelle2[[#This Row],[Transportweg zur Entsorgungsanlage Hin- und Rückweg (km)]]*Tabelle2[[#This Row],[Emissionsfaktor Transport (kg CO2 eq/tkm)]]/1000)*Tabelle2[[#This Row],[Anzahl Transporte]],"") | P15: =IF(VLOOKUP(Tabelle2[[#This Row],[Abfallschlüssel-nummer]],Emissionsfaktoren!$A$2:$K$67,MATCH(Tabelle2[[#This Row],[Verwertung/ Beseitigung]],Emissionsfaktoren!$A$1:$K$1,0)+1,FALSE)=0,"",VLOOKUP(Tabelle2[[#This Row],[Abfallschlüssel-nummer]],Emissionsfaktoren!$A$2:$K$67,MATCH(Tabelle2[[#This Row],[Verwertung/ Beseitigung]],Emissionsfaktoren!$A$1:$K$1,0)+1,FALSE)) -> #N/A | Q15: =IF(VLOOKUP(Tabelle2[[#This Row],[Abfallschlüssel-nummer]],Emissionsfaktoren!$A$2:$K$67,MATCH(Tabelle2[[#This Row],[Verwertung/ Beseitigung]],Emissionsfaktoren!$A$1:$K$1,0)+2,FALSE)=0,"",VLOOKUP(Tabelle2[[#This Row],[Abfallschlüssel-nummer]],Emissionsfaktoren!$A$2:$K$67,MATCH(Tabelle2[[#This Row],[Verwertung/ Beseitigung]],Emissionsfaktoren!$A$1:$K$1,0)+2,FALSE)) -> #N/A | R15: =IFERROR(Tabelle2[[#This Row],[Menge (t/a)]]*Tabelle2[[#This Row],[Emissionsfaktor Behandlung (t CO2 eq/t)]],"") | S15: =IF(Tabelle2[[#This Row],[Emissionen Behandlung (t CO2 eq/a)]]="",0,Tabelle2[[#This Row],[Emissionen Behandlung (t CO2 eq/a)]])+IF(Tabelle2[[#This Row],[Emissionen Transport (t CO2 eq/a)]]="",0,Tabelle2[[#This Row],[Emissionen Transport (t CO2 eq/a)]]) -> 0
A16: 130503* | B16: =IF(MID(A16,7,1)="*","*","") -> * | C16: =IF(B16="*","gefährlich","nicht gefährlich") -> gefährlich | D16: 130503*/ Schlämme aus Einlaufschächten | J16: =IFERROR(Tabelle2[[#This Row],[Menge (t/a)]]/Tabelle2[[#This Row],[Anzahl Transporte]],"") | M16: =IFERROR(VLOOKUP(Tabelle2[[#This Row],[Transportmittel]],Emissionsfaktoren!$N$2:$P$11,3,FALSE),"") | N16: https://www.hansewasser.de/service/downloads/2024-05_emissionsfaktoren_spezifisch.xlsx | O16: =IFERROR((Tabelle2[[#This Row],[Menge pro Transport (t)]]*Tabelle2[[#This Row],[Transportweg zur Entsorgungsanlage Hin- und Rückweg (km)]]*Tabelle2[[#This Row],[Emissionsfaktor Transport (kg CO2 eq/tkm)]]/1000)*Tabelle2[[#This Row],[Anzahl Transporte]],"") | P16: =IF(VLOOKUP(Tabelle2[[#This Row],[Abfallschlüssel-nummer]],Emissionsfaktoren!$A$2:$K$67,MATCH(Tabelle2[[#This Row],[Verwertung/ Beseitigung]],Emissionsfaktoren!$A$1:$K$1,0)+1,FALSE)=0,"",VLOOKUP(Tabelle2[[#This Row],[Abfallschlüssel-nummer]],Emissionsfaktoren!$A$2:$K$67,MATCH(Tabelle2[[#This Row],[Verwertung/ Beseitigung]],Emissionsfaktoren!$A$1:$K$1,0)+1,FALSE)) -> #N/A | Q16: =IF(VLOOKUP(Tabelle2[[#This Row],[Abfallschlüssel-nummer]],Emissionsfaktoren!$A$2:$K$67,MATCH(Tabelle2[[#This Row],[Verwertung/ Beseitigung]],Emissionsfaktoren!$A$1:$K$1,0)+2,FALSE)=0,"",VLOOKUP(Tabelle2[[#This Row],[Abfallschlüssel-nummer]],Emissionsfaktoren!$A$2:$K$67,MATCH(Tabelle2[[#This Row],[Verwertung/ Beseitigung]],Emissionsfaktoren!$A$1:$K$1,0)+2,FALSE)) -> #N/A | R16: =IFERROR(Tabelle2[[#This Row],[Menge (t/a)]]*Tabelle2[[#This Row],[Emissionsfaktor Behandlung (t CO2 eq/t)]],"") | S16: =IF(Tabelle2[[#This Row],[Emissionen Behandlung (t CO2 eq/a)]]="",0,Tabelle2[[#This Row],[Emissionen Behandlung (t CO2 eq/a)]])+IF(Tabelle2[[#This Row],[Emissionen Transport (t CO2 eq/a)]]="",0,Tabelle2[[#This Row],[Emissionen Transport (t CO2 eq/a)]]) -> 0
A17: 130508* | B17: =IF(MID(A17,7,1)="*","*","") -> * | C17: =IF(B17="*","gefährlich","nicht gefährlich") -> gefährlich | D17: 130508*/ Abfallgemische aus Sandfanganlagen und Öl- und Wasserabscheider | J17: =IFERROR(Tabelle2[[#This Row],[Menge (t/a)]]/Tabelle2[[#This Row],[Anzahl Transporte]],"") | M17: =IFERROR(VLOOKUP(Tabelle2[[#This Row],[Transportmittel]],Emissionsfaktoren!$N$2:$P$11,3,FALSE),"") | N17: https://www.hansewasser.de/service/downloads/2024-05_emissionsfaktoren_spezifisch.xlsx | O17: =IFERROR((Tabelle2[[#This Row],[Menge pro Transport (t)]]*Tabelle2[[#This Row],[Transportweg zur Entsorgungsanlage Hin- und Rückweg (km)]]*Tabelle2[[#This Row],[Emissionsfaktor Transport (kg CO2 eq/tkm)]]/1000)*Tabelle2[[#This Row],[Anzahl Transporte]],"") | P17: =IF(VLOOKUP(Tabelle2[[#This Row],[Abfallschlüssel-nummer]],Emissionsfaktoren!$A$2:$K$67,MATCH(Tabelle2[[#This Row],[Verwertung/ Beseitigung]],Emissionsfaktoren!$A$1:$K$1,0)+1,FALSE)=0,"",VLOOKUP(Tabelle2[[#This Row],[Abfallschlüssel-nummer]],Emissionsfaktoren!$A$2:$K$67,MATCH(Tabelle2[[#This Row],[Verwertung/ Beseitigung]],Emissionsfaktoren!$A$1:$K$1,0)+1,FALSE)) -> #N/A | Q17: =IF(VLOOKUP(Tabelle2[[#This Row],[Abfallschlüssel-nummer]],Emissionsfaktoren!$A$2:$K$67,MATCH(Tabelle2[[#This Row],[Verwertung/ Beseitigung]],Emissionsfaktoren!$A$1:$K$1,0)+2,FALSE)=0,"",VLOOKUP(Tabelle2[[#This Row],[Abfallschlüssel-nummer]],Emissionsfaktoren!$A$2:$K$67,MATCH(Tabelle2[[#This Row],[Verwertung/ Beseitigung]],Emissionsfaktoren!$A$1:$K$1,0)+2,FALSE)) -> #N/A | R17: =IFERROR(Tabelle2[[#This Row],[Menge (t/a)]]*Tabelle2[[#This Row],[Emissionsfaktor Behandlung (t CO2 eq/t)]],"") | S17: =IF(Tabelle2[[#This Row],[Emissionen Behandlung (t CO2 eq/a)]]="",0,Tabelle2[[#This Row],[Emissionen Behandlung (t CO2 eq/a)]])+IF(Tabelle2[[#This Row],[Emissionen Transport (t CO2 eq/a)]]="",0,Tabelle2[[#This Row],[Emissionen Transport (t CO2 eq/a)]]) -> 0
A18: 130802* | B18: =IF(MID(A18,7,1)="*","*","") -> * | C18: =IF(B18="*","gefährlich","nicht gefährlich") -> gefährlich | D18: 130802*/ andere Emulsionen | J18: =IFERROR(Tabelle2[[#This Row],[Menge (t/a)]]/Tabelle2[[#This Row],[Anzahl Transporte]],"") | M18: =IFERROR(VLOOKUP(Tabelle2[[#This Row],[Transportmittel]],Emissionsfaktoren!$N$2:$P$11,3,FALSE),"") | N18: https://www.hansewasser.de/service/downloads/2024-05_emissionsfaktoren_spezifisch.xlsx | O18: =IFERROR((Tabelle2[[#This Row],[Menge pro Transport (t)]]*Tabelle2[[#This Row],[Transportweg zur Entsorgungsanlage Hin- und Rückweg (km)]]*Tabelle2[[#This Row],[Emissionsfaktor Transport (kg CO2 eq/tkm)]]/1000)*Tabelle2[[#This Row],[Anzahl Transporte]],"") | P18: =IF(VLOOKUP(Tabelle2[[#This Row],[Abfallschlüssel-nummer]],Emissionsfaktoren!$A$2:$K$67,MATCH(Tabelle2[[#This Row],[Verwertung/ Beseitigung]],Emissionsfaktoren!$A$1:$K$1,0)+1,FALSE)=0,"",VLOOKUP(Tabelle2[[#This Row],[Abfallschlüssel-nummer]],Emissionsfaktoren!$A$2:$K$67,MATCH(Tabelle2[[#This Row],[Verwertung/ Beseitigung]],Emissionsfaktoren!$A$1:$K$1,0)+1,FALSE)) -> #N/A | Q18: =IF(VLOOKUP(Tabelle2[[#This Row],[Abfallschlüssel-nummer]],Emissionsfaktoren!$A$2:$K$67,MATCH(Tabelle2[[#This Row],[Verwertung/ Beseitigung]],Emissionsfaktoren!$A$1:$K$1,0)+2,FALSE)=0,"",VLOOKUP(Tabelle2[[#This Row],[Abfallschlüssel-nummer]],Emissionsfaktoren!$A$2:$K$67,MATCH(Tabelle2[[#This Row],[Verwertung/ Beseitigung]],Emissionsfaktoren!$A$1:$K$1,0)+2,FALSE)) -> #N/A | R18: =IFERROR(Tabelle2[[#This Row],[Menge (t/a)]]*Tabelle2[[#This Row],[Emissionsfaktor Behandlung (t CO2 eq/t)]],"") | S18: =IF(Tabelle2[[#This Row],[Emissionen Behandlung (t CO2 eq/a)]]="",0,Tabelle2[[#This Row],[Emissionen Behandlung (t CO2 eq/a)]])+IF(Tabelle2[[#This Row],[Emissionen Transport (t CO2 eq/a)]]="",0,Tabelle2[[#This Row],[Emissionen Transport (t CO2 eq/a)]]) -> 0
A19: 150101 | B19: =IF(MID(A19,7,1)="*","*","") | C19: =IF(B19="*","gefährlich","nicht gefährlich") -> nicht gefährlich | D19: 150101/ Verpackungen aus Papier und Pappe | J19: =IFERROR(Tabelle2[[#This Row],[Menge (t/a)]]/Tabelle2[[#This Row],[Anzahl Transporte]],"") | M19: =IFERROR(VLOOKUP(Tabelle2[[#This Row],[Transportmittel]],Emissionsfaktoren!$N$2:$P$11,3,FALSE),"") | N19: https://www.hansewasser.de/service/downloads/2024-05_emissionsfaktoren_spezifisch.xlsx | O19: =IFERROR((Tabelle2[[#This Row],[Menge pro Transport (t)]]*Tabelle2[[#This Row],[Transportweg zur Entsorgungsanlage Hin- und Rückweg (km)]]*Tabelle2[[#This Row],[Emissionsfaktor Transport (kg CO2 eq/tkm)]]/1000)*Tabelle2[[#This Row],[Anzahl Transporte]],"") | P19: =IF(VLOOKUP(Tabelle2[[#This Row],[Abfallschlüssel-nummer]],Emissionsfaktoren!$A$2:$K$67,MATCH(Tabelle2[[#This Row],[Verwertung/ Beseitigung]],Emissionsfaktoren!$A$1:$K$1,0)+1,FALSE)=0,"",VLOOKUP(Tabelle2[[#This Row],[Abfallschlüssel-nummer]],Emissionsfaktoren!$A$2:$K$67,MATCH(Tabelle2[[#This Row],[Verwertung/ Beseitigung]],Emissionsfaktoren!$A$1:$K$1,0)+1,FALSE)) -> #N/A | Q19: =IF(VLOOKUP(Tabelle2[[#This Row],[Abfallschlüssel-nummer]],Emissionsfaktoren!$A$2:$K$67,MATCH(Tabelle2[[#This Row],[Verwertung/ Beseitigung]],Emissionsfaktoren!$A$1:$K$1,0)+2,FALSE)=0,"",VLOOKUP(Tabelle2[[#This Row],[Abfallschlüssel-nummer]],Emissionsfaktoren!$A$2:$K$67,MATCH(Tabelle2[[#This Row],[Verwertung/ Beseitigung]],Emissionsfaktoren!$A$1:$K$1,0)+2,FALSE)) -> #N/A | R19: =IFERROR(Tabelle2[[#This Row],[Menge (t/a)]]*Tabelle2[[#This Row],[Emissionsfaktor Behandlung (t CO2 eq/t)]],"") | S19: =IF(Tabelle2[[#This Row],[Emissionen Behandlung (t CO2 eq/a)]]="",0,Tabelle2[[#This Row],[Emissionen Behandlung (t CO2 eq/a)]])+IF(Tabelle2[[#This Row],[Emissionen Transport (t CO2 eq/a)]]="",0,Tabelle2[[#This Row],[Emissionen Transport (t CO2 eq/a)]]) -> 0
A20: 150102 | B20: =IF(MID(A20,7,1)="*","*","") | C20: =IF(B20="*","gefährlich","nicht gefährlich") -> nicht gefährlich | D20: 150102/ Verpackungen aus Kunststoff | J20: =IFERROR(Tabelle2[[#This Row],[Menge (t/a)]]/Tabelle2[[#This Row],[Anzahl Transporte]],"") | M20: =IFERROR(VLOOKUP(Tabelle2[[#This Row],[Transportmittel]],Emissionsfaktoren!$N$2:$P$11,3,FALSE),"") | N20: https://www.hansewasser.de/service/downloads/2024-05_emissionsfaktoren_spezifisch.xlsx | O20: =IFERROR((Tabelle2[[#This Row],[Menge pro Transport (t)]]*Tabelle2[[#This Row],[Transportweg zur Entsorgungsanlage Hin- und Rückweg (km)]]*Tabelle2[[#This Row],[Emissionsfaktor Transport (kg CO2 eq/tkm)]]/1000)*Tabelle2[[#This Row],[Anzahl Transporte]],"") | P20: =IF(VLOOKUP(Tabelle2[[#This Row],[Abfallschlüssel-nummer]],Emissionsfaktoren!$A$2:$K$67,MATCH(Tabelle2[[#This Row],[Verwertung/ Beseitigung]],Emissionsfaktoren!$A$1:$K$1,0)+1,FALSE)=0,"",VLOOKUP(Tabelle2[[#This Row],[Abfallschlüssel-nummer]],Emissionsfaktoren!$A$2:$K$67,MATCH(Tabelle2[[#This Row],[Verwertung/ Beseitigung]],Emissionsfaktoren!$A$1:$K$1,0)+1,FALSE)) -> #N/A | Q20: =IF(VLOOKUP(Tabelle2[[#This Row],[Abfallschlüssel-nummer]],Emissionsfaktoren!$A$2:$K$67,MATCH(Tabelle2[[#This Row],[Verwertung/ Beseitigung]],Emissionsfaktoren!$A$1:$K$1,0)+2,FALSE)=0,"",VLOOKUP(Tabelle2[[#This Row],[Abfallschlüssel-nummer]],Emissionsfaktoren!$A$2:$K$67,MATCH(Tabelle2[[#This Row],[Verwertung/ Beseitigung]],Emissionsfaktoren!$A$1:$K$1,0)+2,FALSE)) -> #N/A | R20: =IFERROR(Tabelle2[[#This Row],[Menge (t/a)]]*Tabelle2[[#This Row],[Emissionsfaktor Behandlung (t CO2 eq/t)]],"") | S20: =IF(Tabelle2[[#This Row],[Emissionen Behandlung (t CO2 eq/a)]]="",0,Tabelle2[[#This Row],[Emissionen Behandlung (t CO2 eq/a)]])+IF(Tabelle2[[#This Row],[Emissionen Transport (t CO2 eq/a)]]="",0,Tabelle2[[#This Row],[Emissionen Transport (t CO2 eq/a)]]) -> 0
A21: 150106 | B21: =IF(MID(A21,7,1)="*","*","") | C21: =IF(B21="*","gefährlich","nicht gefährlich") -> nicht gefährlich | D21: 150106/ gemischte Verpackungen | J21: =IFERROR(Tabelle2[[#This Row],[Menge (t/a)]]/Tabelle2[[#This Row],[Anzahl Transporte]],"") | M21: =IFERROR(VLOOKUP(Tabelle2[[#This Row],[Transportmittel]],Emissionsfaktoren!$N$2:$P$11,3,FALSE),"") | N21: https://www.hansewasser.de/service/downloads/2024-05_emissionsfaktoren_spezifisch.xlsx | O21: =IFERROR((Tabelle2[[#This Row],[Menge pro Transport (t)]]*Tabelle2[[#This Row],[Transportweg zur Entsorgungsanlage Hin- und Rückweg (km)]]*Tabelle2[[#This Row],[Emissionsfaktor Transport (kg CO2 eq/tkm)]]/1000)*Tabelle2[[#This Row],[Anzahl Transporte]],"") | P21: =IF(VLOOKUP(Tabelle2[[#This Row],[Abfallschlüssel-nummer]],Emissionsfaktoren!$A$2:$K$67,MATCH(Tabelle2[[#This Row],[Verwertung/ Beseitigung]],Emissionsfaktoren!$A$1:$K$1,0)+1,FALSE)=0,"",VLOOKUP(Tabelle2[[#This Row],[Abfallschlüssel-nummer]],Emissionsfaktoren!$A$2:$K$67,MATCH(Tabelle2[[#This Row],[Verwertung/ Beseitigung]],Emissionsfaktoren!$A$1:$K$1,0)+1,FALSE)) -> #N/A | Q21: =IF(VLOOKUP(Tabelle2[[#This Row],[Abfallschlüssel-nummer]],Emissionsfaktoren!$A$2:$K$67,MATCH(Tabelle2[[#This Row],[Verwertung/ Beseitigung]],Emissionsfaktoren!$A$1:$K$1,0)+2,FALSE)=0,"",VLOOKUP(Tabelle2[[#This Row],[Abfallschlüssel-nummer]],Emissionsfaktoren!$A$2:$K$67,MATCH(Tabelle2[[#This Row],[Verwertung/ Beseitigung]],Emissionsfaktoren!$A$1:$K$1,0)+2,FALSE)) -> #N/A | R21: =IFERROR(Tabelle2[[#This Row],[Menge (t/a)]]*Tabelle2[[#This Row],[Emissionsfaktor Behandlung (t CO2 eq/t)]],"") | S21: =IF(Tabelle2[[#This Row],[Emissionen Behandlung (t CO2 eq/a)]]="",0,Tabelle2[[#This Row],[Emissionen Behandlung (t CO2 eq/a)]])+IF(Tabelle2[[#This Row],[Emissionen Transport (t CO2 eq/a)]]="",0,Tabelle2[[#This Row],[Emissionen Transport (t CO2 eq/a)]]) -> 0
A22: 150110* | B22: =IF(MID(A22,7,1)="*","*","") -> * | C22: =IF(B22="*","gefährlich","nicht gefährlich") -> gefährlich | D22: 150110*/ Verpackungen, die Rückstände gefährlicher Stoffe enthalten oder durch gefährliche Stoffe verunreinigt sind | J22: =IFERROR(Tabelle2[[#This Row],[Menge (t/a)]]/Tabelle2[[#This Row],[Anzahl Transporte]],"") | M22: =IFERROR(VLOOKUP(Tabelle2[[#This Row],[Transportmittel]],Emissionsfaktoren!$N$2:$P$11,3,FALSE),"") | N22: https://www.hansewasser.de/service/downloads/2024-05_emissionsfaktoren_spezifisch.xlsx | O22: =IFERROR((Tabelle2[[#This Row],[Menge pro Transport (t)]]*Tabelle2[[#This Row],[Transportweg zur Entsorgungsanlage Hin- und Rückweg (km)]]*Tabelle2[[#This Row],[Emissionsfaktor Transport (kg CO2 eq/tkm)]]/1000)*Tabelle2[[#This Row],[Anzahl Transporte]],"") | P22: =IF(VLOOKUP(Tabelle2[[#This Row],[Abfallschlüssel-nummer]],Emissionsfaktoren!$A$2:$K$67,MATCH(Tabelle2[[#This Row],[Verwertung/ Beseitigung]],Emissionsfaktoren!$A$1:$K$1,0)+1,FALSE)=0,"",VLOOKUP(Tabelle2[[#This Row],[Abfallschlüssel-nummer]],Emissionsfaktoren!$A$2:$K$67,MATCH(Tabelle2[[#This Row],[Verwertung/ Beseitigung]],Emissionsfaktoren!$A$1:$K$1,0)+1,FALSE)) -> #N/A | Q22: =IF(VLOOKUP(Tabelle2[[#This Row],[Abfallschlüssel-nummer]],Emissionsfaktoren!$A$2:$K$67,MATCH(Tabelle2[[#This Row],[Verwertung/ Beseitigung]],Emissionsfaktoren!$A$1:$K$1,0)+2,FALSE)=0,"",VLOOKUP(Tabelle2[[#This Row],[Abfallschlüssel-nummer]],Emissionsfaktoren!$A$2:$K$67,MATCH(Tabelle2[[#This Row],[Verwertung/ Beseitigung]],Emissionsfaktoren!$A$1:$K$1,0)+2,FALSE)) -> #N/A | R22: =IFERROR(Tabelle2[[#This Row],[Menge (t/a)]]*Tabelle2[[#This Row],[Emissionsfaktor Behandlung (t CO2 eq/t)]],"") | S22: =IF(Tabelle2[[#This Row],[Emissionen Behandlung (t CO2 eq/a)]]="",0,Tabelle2[[#This Row],[Emissionen Behandlung (t CO2 eq/a)]])+IF(Tabelle2[[#This Row],[Emissionen Transport (t CO2 eq/a)]]="",0,Tabelle2[[#This Row],[Emissionen Transport (t CO2 eq/a)]]) -> 0
A23: 150111* | B23: =IF(MID(A23,7,1)="*","*","") -> * | C23: =IF(B23="*","gefährlich","nicht gefährlich") -> gefährlich | D23: 150111*/ Verpackungen aus Metall, die eine gefährliche feste poröse Matrix (z. B. Asbest) enthalten, einschliesslich geleerter Druckbehältnisse | J23: =IFERROR(Tabelle2[[#This Row],[Menge (t/a)]]/Tabelle2[[#This Row],[Anzahl Transporte]],"") | M23: =IFERROR(VLOOKUP(Tabelle2[[#This Row],[Transportmittel]],Emissionsfaktoren!$N$2:$P$11,3,FALSE),"") | N23: https://www.hansewasser.de/service/downloads/2024-05_emissionsfaktoren_spezifisch.xlsx | O23: =IFERROR((Tabelle2[[#This Row],[Menge pro Transport (t)]]*Tabelle2[[#This Row],[Transportweg zur Entsorgungsanlage Hin- und Rückweg (km)]]*Tabelle2[[#This Row],[Emissionsfaktor Transport (kg CO2 eq/tkm)]]/1000)*Tabelle2[[#This Row],[Anzahl Transporte]],"") | P23: =IF(VLOOKUP(Tabelle2[[#This Row],[Abfallschlüssel-nummer]],Emissionsfaktoren!$A$2:$K$67,MATCH(Tabelle2[[#This Row],[Verwertung/ Beseitigung]],Emissionsfaktoren!$A$1:$K$1,0)+1,FALSE)=0,"",VLOOKUP(Tabelle2[[#This Row],[Abfallschlüssel-nummer]],Emissionsfaktoren!$A$2:$K$67,MATCH(Tabelle2[[#This Row],[Verwertung/ Beseitigung]],Emissionsfaktoren!$A$1:$K$1,0)+1,FALSE)) -> #N/A | Q23: =IF(VLOOKUP(Tabelle2[[#This Row],[Abfallschlüssel-nummer]],Emissionsfaktoren!$A$2:$K$67,MATCH(Tabelle2[[#This Row],[Verwertung/ Beseitigung]],Emissionsfaktoren!$A$1:$K$1,0)+2,FALSE)=0,"",VLOOKUP(Tabelle2[[#This Row],[Abfallschlüssel-nummer]],Emissionsfaktoren!$A$2:$K$67,MATCH(Tabelle2[[#This Row],[Verwertung/ Beseitigung]],Emissionsfaktoren!$A$1:$K$1,0)+2,FALSE)) -> #N/A | R23: =IFERROR(Tabelle2[[#This Row],[Menge (t/a)]]*Tabelle2[[#This Row],[Emissionsfaktor Behandlung (t CO2 eq/t)]],"") | S23: =IF(Tabelle2[[#This Row],[Emissionen Behandlung (t CO2 eq/a)]]="",0,Tabelle2[[#This Row],[Emissionen Behandlung (t CO2 eq/a)]])+IF(Tabelle2[[#This Row],[Emissionen Transport (t CO2 eq/a)]]="",0,Tabelle2[[#This Row],[Emissionen Transport (t CO2 eq/a)]]) -> 0
A24: 150202* | B24: =IF(MID(A24,7,1)="*","*","") -> * | C24: =IF(B24="*","gefährlich","nicht gefährlich") -> gefährlich | D24: 150202*/ Aufsaug- und Filtermaterialien (einschliesslich Ölfilter a. n. g.), Wischtücher und Schutzkleidung, die durch gefährliche Stoffe verunreinigt sind | J24: =IFERROR(Tabelle2[[#This Row],[Menge (t/a)]]/Tabelle2[[#This Row],[Anzahl Transporte]],"") | M24: =IFERROR(VLOOKUP(Tabelle2[[#This Row],[Transportmittel]],Emissionsfaktoren!$N$2:$P$11,3,FALSE),"") | N24: https://www.hansewasser.de/service/downloads/2024-05_emissionsfaktoren_spezifisch.xlsx | O24: =IFERROR((Tabelle2[[#This Row],[Menge pro Transport (t)]]*Tabelle2[[#This Row],[Transportweg zur Entsorgungsanlage Hin- und Rückweg (km)]]*Tabelle2[[#This Row],[Emissionsfaktor Transport (kg CO2 eq/tkm)]]/1000)*Tabelle2[[#This Row],[Anzahl Transporte]],"") | P24: =IF(VLOOKUP(Tabelle2[[#This Row],[Abfallschlüssel-nummer]],Emissionsfaktoren!$A$2:$K$67,MATCH(Tabelle2[[#This Row],[Verwertung/ Beseitigung]],Emissionsfaktoren!$A$1:$K$1,0)+1,FALSE)=0,"",VLOOKUP(Tabelle2[[#This Row],[Abfallschlüssel-nummer]],Emissionsfaktoren!$A$2:$K$67,MATCH(Tabelle2[[#This Row],[Verwertung/ Beseitigung]],Emissionsfaktoren!$A$1:$K$1,0)+1,FALSE)) -> #N/A | Q24: =IF(VLOOKUP(Tabelle2[[#This Row],[Abfallschlüssel-nummer]],Emissionsfaktoren!$A$2:$K$67,MATCH(Tabelle2[[#This Row],[Verwertung/ Beseitigung]],Emissionsfaktoren!$A$1:$K$1,0)+2,FALSE)=0,"",VLOOKUP(Tabelle2[[#This Row],[Abfallschlüssel-nummer]],Emissionsfaktoren!$A$2:$K$67,MATCH(Tabelle2[[#This Row],[Verwertung/ Beseitigung]],Emissionsfaktoren!$A$1:$K$1,0)+2,FALSE)) -> #N/A | R24: =IFERROR(Tabelle2[[#This Row],[Menge (t/a)]]*Tabelle2[[#This Row],[Emissionsfaktor Behandlung (t CO2 eq/t)]],"") | S24: =IF(Tabelle2[[#This Row],[Emissionen Behandlung (t CO2 eq/a)]]="",0,Tabelle2[[#This Row],[Emissionen Behandlung (t CO2 eq/a)]])+IF(Tabelle2[[#This Row],[Emissionen Transport (t CO2 eq/a)]]="",0,Tabelle2[[#This Row],[Emissionen Transport (t CO2 eq/a)]]) -> 0
A25: 160103 | B25: =IF(MID(A25,7,1)="*","*","") | C25: =IF(B25="*","gefährlich","nicht gefährlich") -> nicht gefährlich | D25: 160103/ Altreifen | J25: =IFERROR(Tabelle2[[#This Row],[Menge (t/a)]]/Tabelle2[[#This Row],[Anzahl Transporte]],"") | M25: =IFERROR(VLOOKUP(Tabelle2[[#This Row],[Transportmittel]],Emissionsfaktoren!$N$2:$P$11,3,FALSE),"") | N25: https://www.hansewasser.de/service/downloads/2024-05_emissionsfaktoren_spezifisch.xlsx | O25: =IFERROR((Tabelle2[[#This Row],[Menge pro Transport (t)]]*Tabelle2[[#This Row],[Transportweg zur Entsorgungsanlage Hin- und Rückweg (km)]]*Tabelle2[[#This Row],[Emissionsfaktor Transport (kg CO2 eq/tkm)]]/1000)*Tabelle2[[#This Row],[Anzahl Transporte]],"") | P25: =IF(VLOOKUP(Tabelle2[[#This Row],[Abfallschlüssel-nummer]],Emissionsfaktoren!$A$2:$K$67,MATCH(Tabelle2[[#This Row],[Verwertung/ Beseitigung]],Emissionsfaktoren!$A$1:$K$1,0)+1,FALSE)=0,"",VLOOKUP(Tabelle2[[#This Row],[Abfallschlüssel-nummer]],Emissionsfaktoren!$A$2:$K$67,MATCH(Tabelle2[[#This Row],[Verwertung/ Beseitigung]],Emissionsfaktoren!$A$1:$K$1,0)+1,FALSE)) -> #N/A | Q25: =IF(VLOOKUP(Tabelle2[[#This Row],[Abfallschlüssel-nummer]],Emissionsfaktoren!$A$2:$K$67,MATCH(Tabelle2[[#This Row],[Verwertung/ Beseitigung]],Emissionsfaktoren!$A$1:$K$1,0)+2,FALSE)=0,"",VLOOKUP(Tabelle2[[#This Row],[Abfallschlüssel-nummer]],Emissionsfaktoren!$A$2:$K$67,MATCH(Tabelle2[[#This Row],[Verwertung/ Beseitigung]],Emissionsfaktoren!$A$1:$K$1,0)+2,FALSE)) -> #N/A | R25: =IFERROR(Tabelle2[[#This Row],[Menge (t/a)]]*Tabelle2[[#This Row],[Emissionsfaktor Behandlung (t CO2 eq/t)]],"") | S25: =IF(Tabelle2[[#This Row],[Emissionen Behandlung (t CO2 eq/a)]]="",0,Tabelle2[[#This Row],[Emissionen Behandlung (t CO2 eq/a)]])+IF(Tabelle2[[#This Row],[Emissionen Transport (t CO2 eq/a)]]="",0,Tabelle2[[#This Row],[Emissionen Transport (t CO2 eq/a)]]) -> 0
A26: 160210* | B26: =IF(MID(A26,7,1)="*","*","") -> * | C26: =IF(B26="*","gefährlich","nicht gefährlich") -> gefährlich | D26: 160210*/ gebrauchte Geräte, die PCB enthalten oder damit verunreinigt sind, mit Ausnahme derjenigen, die unter 16 02 09 fallen | J26: =IFERROR(Tabelle2[[#This Row],[Menge (t/a)]]/Tabelle2[[#This Row],[Anzahl Transporte]],"") | M26: =IFERROR(VLOOKUP(Tabelle2[[#This Row],[Transportmittel]],Emissionsfaktoren!$N$2:$P$11,3,FALSE),"") | N26: https://www.hansewasser.de/service/downloads/2024-05_emissionsfaktoren_spezifisch.xlsx | O26: =IFERROR((Tabelle2[[#This Row],[Menge pro Transport (t)]]*Tabelle2[[#This Row],[Transportweg zur Entsorgungsanlage Hin- und Rückweg (km)]]*Tabelle2[[#This Row],[Emissionsfaktor Transport (kg CO2 eq/tkm)]]/1000)*Tabelle2[[#This Row],[Anzahl Transporte]],"") | P26: =IF(VLOOKUP(Tabelle2[[#This Row],[Abfallschlüssel-nummer]],Emissionsfaktoren!$A$2:$K$67,MATCH(Tabelle2[[#This Row],[Verwertung/ Beseitigung]],Emissionsfaktoren!$A$1:$K$1,0)+1,FALSE)=0,"",VLOOKUP(Tabelle2[[#This Row],[Abfallschlüssel-nummer]],Emissionsfaktoren!$A$2:$K$67,MATCH(Tabelle2[[#This Row],[Verwertung/ Beseitigung]],Emissionsfaktoren!$A$1:$K$1,0)+1,FALSE)) -> #N/A | Q26: =IF(VLOOKUP(Tabelle2[[#This Row],[Abfallschlüssel-nummer]],Emissionsfaktoren!$A$2:$K$67,MATCH(Tabelle2[[#This Row],[Verwertung/ Beseitigung]],Emissionsfaktoren!$A$1:$K$1,0)+2,FALSE)=0,"",VLOOKUP(Tabelle2[[#This Row],[Abfallschlüssel-nummer]],Emissionsfaktoren!$A$2:$K$67,MATCH(Tabelle2[[#This Row],[Verwertung/ Beseitigung]],Emissionsfaktoren!$A$1:$K$1,0)+2,FALSE)) -> #N/A | R26: =IFERROR(Tabelle2[[#This Row],[Menge (t/a)]]*Tabelle2[[#This Row],[Emissionsfaktor Behandlung (t CO2 eq/t)]],"") | S26: =IF(Tabelle2[[#This Row],[Emissionen Behandlung (t CO2 eq/a)]]="",0,Tabelle2[[#This Row],[Emissionen Behandlung (t CO2 eq/a)]])+IF(Tabelle2[[#This Row],[Emissionen Transport (t CO2 eq/a)]]="",0,Tabelle2[[#This Row],[Emissionen Transport (t CO2 eq/a)]]) -> 0
A27: 160211* | B27: =IF(MID(A27,7,1)="*","*","") -> * | C27: =IF(B27="*","gefährlich","nicht gefährlich") -> gefährlich | D27: 160211*/gebrauchte Geräte, die teil- und vollhalogenierte Fluorchlorkohlenwasserstoffe enthalten | J27: =IFERROR(Tabelle2[[#This Row],[Menge (t/a)]]/Tabelle2[[#This Row],[Anzahl Transporte]],"") | M27: =IFERROR(VLOOKUP(Tabelle2[[#This Row],[Transportmittel]],Emissionsfaktoren!$N$2:$P$11,3,FALSE),"") | N27: https://www.hansewasser.de/service/downloads/2024-05_emissionsfaktoren_spezifisch.xlsx | O27: =IFERROR((Tabelle2[[#This Row],[Menge pro Transport (t)]]*Tabelle2[[#This Row],[Transportweg zur Entsorgungsanlage Hin- und Rückweg (km)]]*Tabelle2[[#This Row],[Emissionsfaktor Transport (kg CO2 eq/tkm)]]/1000)*Tabelle2[[#This Row],[Anzahl Transporte]],"") | P27: =IF(VLOOKUP(Tabelle2[[#This Row],[Abfallschlüssel-nummer]],Emissionsfaktoren!$A$2:$K$67,MATCH(Tabelle2[[#This Row],[Verwertung/ Beseitigung]],Emissionsfaktoren!$A$1:$K$1,0)+1,FALSE)=0,"",VLOOKUP(Tabelle2[[#This Row],[Abfallschlüssel-nummer]],Emissionsfaktoren!$A$2:$K$67,MATCH(Tabelle2[[#This Row],[Verwertung/ Beseitigung]],Emissionsfaktoren!$A$1:$K$1,0)+1,FALSE)) -> #N/A | Q27: =IF(VLOOKUP(Tabelle2[[#This Row],[Abfallschlüssel-nummer]],Emissionsfaktoren!$A$2:$K$67,MATCH(Tabelle2[[#This Row],[Verwertung/ Beseitigung]],Emissionsfaktoren!$A$1:$K$1,0)+2,FALSE)=0,"",VLOOKUP(Tabelle2[[#This Row],[Abfallschlüssel-nummer]],Emissionsfaktoren!$A$2:$K$67,MATCH(Tabelle2[[#This Row],[Verwertung/ Beseitigung]],Emissionsfaktoren!$A$1:$K$1,0)+2,FALSE)) -> #N/A | R27: =IFERROR(Tabelle2[[#This Row],[Menge (t/a)]]*Tabelle2[[#This Row],[Emissionsfaktor Behandlung (t CO2 eq/t)]],"") | S27: =IF(Tabelle2[[#This Row],[Emissionen Behandlung (t CO2 eq/a)]]="",0,Tabelle2[[#This Row],[Emissionen Behandlung (t CO2 eq/a)]])+IF(Tabelle2[[#This Row],[Emissionen Transport (t CO2 eq/a)]]="",0,Tabelle2[[#This Row],[Emissionen Transport (t CO2 eq/a)]]) -> 0
A28: 160213* | B28: =IF(MID(A28,7,1)="*","*","") -> * | C28: =IF(B28="*","gefährlich","nicht gefährlich") -> gefährlich | D28: 160213*/gefährliche Bestandteile enthaltende gebrauchte Geräte mit Ausnahme derjenigen, die unter 16 02 09 bis 16 02 12 fallen | J28: =IFERROR(Tabelle2[[#This Row],[Menge (t/a)]]/Tabelle2[[#This Row],[Anzahl Transporte]],"") | M28: =IFERROR(VLOOKUP(Tabelle2[[#This Row],[Transportmittel]],Emissionsfaktoren!$N$2:$P$11,3,FALSE),"") | N28: https://www.hansewasser.de/service/downloads/2024-05_emissionsfaktoren_spezifisch.xlsx | O28: =IFERROR((Tabelle2[[#This Row],[Menge pro Transport (t)]]*Tabelle2[[#This Row],[Transportweg zur Entsorgungsanlage Hin- und Rückweg (km)]]*Tabelle2[[#This Row],[Emissionsfaktor Transport (kg CO2 eq/tkm)]]/1000)*Tabelle2[[#This Row],[Anzahl Transporte]],"") | P28: =IF(VLOOKUP(Tabelle2[[#This Row],[Abfallschlüssel-nummer]],Emissionsfaktoren!$A$2:$K$67,MATCH(Tabelle2[[#This Row],[Verwertung/ Beseitigung]],Emissionsfaktoren!$A$1:$K$1,0)+1,FALSE)=0,"",VLOOKUP(Tabelle2[[#This Row],[Abfallschlüssel-nummer]],Emissionsfaktoren!$A$2:$K$67,MATCH(Tabelle2[[#This Row],[Verwertung/ Beseitigung]],Emissionsfaktoren!$A$1:$K$1,0)+1,FALSE)) -> #N/A | Q28: =IF(VLOOKUP(Tabelle2[[#This Row],[Abfallschlüssel-nummer]],Emissionsfaktoren!$A$2:$K$67,MATCH(Tabelle2[[#This Row],[Verwertung/ Beseitigung]],Emissionsfaktoren!$A$1:$K$1,0)+2,FALSE)=0,"",VLOOKUP(Tabelle2[[#This Row],[Abfallschlüssel-nummer]],Emissionsfaktoren!$A$2:$K$67,MATCH(Tabelle2[[#This Row],[Verwertung/ Beseitigung]],Emissionsfaktoren!$A$1:$K$1,0)+2,FALSE)) -> #N/A | R28: =IFERROR(Tabelle2[[#This Row],[Menge (t/a)]]*Tabelle2[[#This Row],[Emissionsfaktor Behandlung (t CO2 eq/t)]],"") | S28: =IF(Tabelle2[[#This Row],[Emissionen Behandlung (t CO2 eq/a)]]="",0,Tabelle2[[#This Row],[Emissionen Behandlung (t CO2 eq/a)]])+IF(Tabelle2[[#This Row],[Emissionen Transport (t CO2 eq/a)]]="",0,Tabelle2[[#This Row],[Emissionen Transport (t CO2 eq/a)]]) -> 0
A29: 160506* | B29: =IF(MID(A29,7,1)="*","*","") -> * | C29: =IF(B29="*","gefährlich","nicht gefährlich") -> gefährlich | D29: 160506*/ Laborchemikalien, die aus gefährlichen Stoffen bestehen oder solche enthalten, einschliesslich Gemische von Laborchemikalien | J29: =IFERROR(Tabelle2[[#This Row],[Menge (t/a)]]/Tabelle2[[#This Row],[Anzahl Transporte]],"") | M29: =IFERROR(VLOOKUP(Tabelle2[[#This Row],[Transportmittel]],Emissionsfaktoren!$N$2:$P$11,3,FALSE),"") | N29: https://www.hansewasser.de/service/downloads/2024-05_emissionsfaktoren_spezifisch.xlsx | O29: =IFERROR((Tabelle2[[#This Row],[Menge pro Transport (t)]]*Tabelle2[[#This Row],[Transportweg zur Entsorgungsanlage Hin- und Rückweg (km)]]*Tabelle2[[#This Row],[Emissionsfaktor Transport (kg CO2 eq/tkm)]]/1000)*Tabelle2[[#This Row],[Anzahl Transporte]],"") | P29: =IF(VLOOKUP(Tabelle2[[#This Row],[Abfallschlüssel-nummer]],Emissionsfaktoren!$A$2:$K$67,MATCH(Tabelle2[[#This Row],[Verwertung/ Beseitigung]],Emissionsfaktoren!$A$1:$K$1,0)+1,FALSE)=0,"",VLOOKUP(Tabelle2[[#This Row],[Abfallschlüssel-nummer]],Emissionsfaktoren!$A$2:$K$67,MATCH(Tabelle2[[#This Row],[Verwertung/ Beseitigung]],Emissionsfaktoren!$A$1:$K$1,0)+1,FALSE)) -> #N/A | Q29: =IF(VLOOKUP(Tabelle2[[#This Row],[Abfallschlüssel-nummer]],Emissionsfaktoren!$A$2:$K$67,MATCH(Tabelle2[[#This Row],[Verwertung/ Beseitigung]],Emissionsfaktoren!$A$1:$K$1,0)+2,FALSE)=0,"",VLOOKUP(Tabelle2[[#This Row],[Abfallschlüssel-nummer]],Emissionsfaktoren!$A$2:$K$67,MATCH(Tabelle2[[#This Row],[Verwertung/ Beseitigung]],Emissionsfaktoren!$A$1:$K$1,0)+2,FALSE)) -> #N/A | R29: =IFERROR(Tabelle2[[#This Row],[Menge (t/a)]]*Tabelle2[[#This Row],[Emissionsfaktor Behandlung (t CO2 eq/t)]],"") | S29: =IF(Tabelle2[[#This Row],[Emissionen Behandlung (t CO2 eq/a)]]="",0,Tabelle2[[#This Row],[Emissionen Behandlung (t CO2 eq/a)]])+IF(Tabelle2[[#This Row],[Emissionen Transport (t CO2 eq/a)]]="",0,Tabelle2[[#This Row],[Emissionen Transport (t CO2 eq/a)]]) -> 0
A30: 160601* | B30: =IF(MID(A30,7,1)="*","*","") -> * | C30: =IF(B30="*","gefährlich","nicht gefährlich") -> gefährlich | D30: 160601*/ Bleibatterien | J30: =IFERROR(Tabelle2[[#This Row],[Menge (t/a)]]/Tabelle2[[#This Row],[Anzahl Transporte]],"") | M30: =IFERROR(VLOOKUP(Tabelle2[[#This Row],[Transportmittel]],Emissionsfaktoren!$N$2:$P$11,3,FALSE),"") | N30: https://www.hansewasser.de/service/downloads/2024-05_emissionsfaktoren_spezifisch.xlsx | O30: =IFERROR((Tabelle2[[#This Row],[Menge pro Transport (t)]]*Tabelle2[[#This Row],[Transportweg zur Entsorgungsanlage Hin- und Rückweg (km)]]*Tabelle2[[#This Row],[Emissionsfaktor Transport (kg CO2 eq/tkm)]]/1000)*Tabelle2[[#This Row],[Anzahl Transporte]],"") | P30: =IF(VLOOKUP(Tabelle2[[#This Row],[Abfallschlüssel-nummer]],Emissionsfaktoren!$A$2:$K$67,MATCH(Tabelle2[[#This Row],[Verwertung/ Beseitigung]],Emissionsfaktoren!$A$1:$K$1,0)+1,FALSE)=0,"",VLOOKUP(Tabelle2[[#This Row],[Abfallschlüssel-nummer]],Emissionsfaktoren!$A$2:$K$67,MATCH(Tabelle2[[#This Row],[Verwertung/ Beseitigung]],Emissionsfaktoren!$A$1:$K$1,0)+1,FALSE)) -> #N/A | Q30: =IF(VLOOKUP(Tabelle2[[#This Row],[Abfallschlüssel-nummer]],Emissionsfaktoren!$A$2:$K$67,MATCH(Tabelle2[[#This Row],[Verwertung/ Beseitigung]],Emissionsfaktoren!$A$1:$K$1,0)+2,FALSE)=0,"",VLOOKUP(Tabelle2[[#This Row],[Abfallschlüssel-nummer]],Emissionsfaktoren!$A$2:$K$67,MATCH(Tabelle2[[#This Row],[Verwertung/ Beseitigung]],Emissionsfaktoren!$A$1:$K$1,0)+2,FALSE)) -> #N/A | R30: =IFERROR(Tabelle2[[#This Row],[Menge (t/a)]]*Tabelle2[[#This Row],[Emissionsfaktor Behandlung (t CO2 eq/t)]],"") | S30: =IF(Tabelle2[[#This Row],[Emissionen Behandlung (t CO2 eq/a)]]="",0,Tabelle2[[#This Row],[Emissionen Behandlung (t CO2 eq/a)]])+IF(Tabelle2[[#This Row],[Emissionen Transport (t CO2 eq/a)]]="",0,Tabelle2[[#This Row],[Emissionen Transport (t CO2 eq/a)]]) -> 0
A31: 160602* | B31: =IF(MID(A31,7,1)="*","*","") -> * | C31: =IF(B31="*","gefährlich","nicht gefährlich") -> gefährlich | D31: 160602*/ Ni-Cd-Batterien | J31: =IFERROR(Tabelle2[[#This Row],[Menge (t/a)]]/Tabelle2[[#This Row],[Anzahl Transporte]],"") | M31: =IFERROR(VLOOKUP(Tabelle2[[#This Row],[Transportmittel]],Emissionsfaktoren!$N$2:$P$11,3,FALSE),"") | N31: https://www.hansewasser.de/service/downloads/2024-05_emissionsfaktoren_spezifisch.xlsx | O31: =IFERROR((Tabelle2[[#This Row],[Menge pro Transport (t)]]*Tabelle2[[#This Row],[Transportweg zur Entsorgungsanlage Hin- und Rückweg (km)]]*Tabelle2[[#This Row],[Emissionsfaktor Transport (kg CO2 eq/tkm)]]/1000)*Tabelle2[[#This Row],[Anzahl Transporte]],"") | P31: =IF(VLOOKUP(Tabelle2[[#This Row],[Abfallschlüssel-nummer]],Emissionsfaktoren!$A$2:$K$67,MATCH(Tabelle2[[#This Row],[Verwertung/ Beseitigung]],Emissionsfaktoren!$A$1:$K$1,0)+1,FALSE)=0,"",VLOOKUP(Tabelle2[[#This Row],[Abfallschlüssel-nummer]],Emissionsfaktoren!$A$2:$K$67,MATCH(Tabelle2[[#This Row],[Verwertung/ Beseitigung]],Emissionsfaktoren!$A$1:$K$1,0)+1,FALSE)) -> #N/A | Q31: =IF(VLOOKUP(Tabelle2[[#This Row],[Abfallschlüssel-nummer]],Emissionsfaktoren!$A$2:$K$67,MATCH(Tabelle2[[#This Row],[Verwertung/ Beseitigung]],Emissionsfaktoren!$A$1:$K$1,0)+2,FALSE)=0,"",VLOOKUP(Tabelle2[[#This Row],[Abfallschlüssel-nummer]],Emissionsfaktoren!$A$2:$K$67,MATCH(Tabelle2[[#This Row],[Verwertung/ Beseitigung]],Emissionsfaktoren!$A$1:$K$1,0)+2,FALSE)) -> #N/A | R31: =IFERROR(Tabelle2[[#This Row],[Menge (t/a)]]*Tabelle2[[#This Row],[Emissionsfaktor Behandlung (t CO2 eq/t)]],"") | S31: =IF(Tabelle2[[#This Row],[Emissionen Behandlung (t CO2 eq/a)]]="",0,Tabelle2[[#This Row],[Emissionen Behandlung (t CO2 eq/a)]])+IF(Tabelle2[[#This Row],[Emissionen Transport (t CO2 eq/a)]]="",0,Tabelle2[[#This Row],[Emissionen Transport (t CO2 eq/a)]]) -> 0
A32: 160605 | B32: =IF(MID(A32,7,1)="*","*","") | C32: =IF(B32="*","gefährlich","nicht gefährlich") -> nicht gefährlich | D32: 160605/ andere Batterien und Akkumulatoren | J32: =IFERROR(Tabelle2[[#This Row],[Menge (t/a)]]/Tabelle2[[#This Row],[Anzahl Transporte]],"") | M32: =IFERROR(VLOOKUP(Tabelle2[[#This Row],[Transportmittel]],Emissionsfaktoren!$N$2:$P$11,3,FALSE),"") | N32: https://www.hansewasser.de/service/downloads/2024-05_emissionsfaktoren_spezifisch.xlsx | O32: =IFERROR((Tabelle2[[#This Row],[Menge pro Transport (t)]]*Tabelle2[[#This Row],[Transportweg zur Entsorgungsanlage Hin- und Rückweg (km)]]*Tabelle2[[#This Row],[Emissionsfaktor Transport (kg CO2 eq/tkm)]]/1000)*Tabelle2[[#This Row],[Anzahl Transporte]],"") | P32: =IF(VLOOKUP(Tabelle2[[#This Row],[Abfallschlüssel-nummer]],Emissionsfaktoren!$A$2:$K$67,MATCH(Tabelle2[[#This Row],[Verwertung/ Beseitigung]],Emissionsfaktoren!$A$1:$K$1,0)+1,FALSE)=0,"",VLOOKUP(Tabelle2[[#This Row],[Abfallschlüssel-nummer]],Emissionsfaktoren!$A$2:$K$67,MATCH(Tabelle2[[#This Row],[Verwertung/ Beseitigung]],Emissionsfaktoren!$A$1:$K$1,0)+1,FALSE)) -> #N/A | Q32: =IF(VLOOKUP(Tabelle2[[#This Row],[Abfallschlüssel-nummer]],Emissionsfaktoren!$A$2:$K$67,MATCH(Tabelle2[[#This Row],[Verwertung/ Beseitigung]],Emissionsfaktoren!$A$1:$K$1,0)+2,FALSE)=0,"",VLOOKUP(Tabelle2[[#This Row],[Abfallschlüssel-nummer]],Emissionsfaktoren!$A$2:$K$67,MATCH(Tabelle2[[#This Row],[Verwertung/ Beseitigung]],Emissionsfaktoren!$A$1:$K$1,0)+2,FALSE)) -> #N/A | R32: =IFERROR(Tabelle2[[#This Row],[Menge (t/a)]]*Tabelle2[[#This Row],[Emissionsfaktor Behandlung (t CO2 eq/t)]],"") | S32: =IF(Tabelle2[[#This Row],[Emissionen Behandlung (t CO2 eq/a)]]="",0,Tabelle2[[#This Row],[Emissionen Behandlung (t CO2 eq/a)]])+IF(Tabelle2[[#This Row],[Emissionen Transport (t CO2 eq/a)]]="",0,Tabelle2[[#This Row],[Emissionen Transport (t CO2 eq/a)]]) -> 0
A33: 160708* | B33: =IF(MID(A33,7,1)="*","*","") -> * | C33: =IF(B33="*","gefährlich","nicht gefährlich") -> gefährlich | D33: 160708*/ ölhaltige Abfälle | J33: =IFERROR(Tabelle2[[#This Row],[Menge (t/a)]]/Tabelle2[[#This Row],[Anzahl Transporte]],"") | M33: =IFERROR(VLOOKUP(Tabelle2[[#This Row],[Transportmittel]],Emissionsfaktoren!$N$2:$P$11,3,FALSE),"") | N33: https://www.hansewasser.de/service/downloads/2024-05_emissionsfaktoren_spezifisch.xlsx | O33: =IFERROR((Tabelle2[[#This Row],[Menge pro Transport (t)]]*Tabelle2[[#This Row],[Transportweg zur Entsorgungsanlage Hin- und Rückweg (km)]]*Tabelle2[[#This Row],[Emissionsfaktor Transport (kg CO2 eq/tkm)]]/1000)*Tabelle2[[#This Row],[Anzahl Transporte]],"") | P33: =IF(VLOOKUP(Tabelle2[[#This Row],[Abfallschlüssel-nummer]],Emissionsfaktoren!$A$2:$K$67,MATCH(Tabelle2[[#This Row],[Verwertung/ Beseitigung]],Emissionsfaktoren!$A$1:$K$1,0)+1,FALSE)=0,"",VLOOKUP(Tabelle2[[#This Row],[Abfallschlüssel-nummer]],Emissionsfaktoren!$A$2:$K$67,MATCH(Tabelle2[[#This Row],[Verwertung/ Beseitigung]],Emissionsfaktoren!$A$1:$K$1,0)+1,FALSE)) -> #N/A | Q33: =IF(VLOOKUP(Tabelle2[[#This Row],[Abfallschlüssel-nummer]],Emissionsfaktoren!$A$2:$K$67,MATCH(Tabelle2[[#This Row],[Verwertung/ Beseitigung]],Emissionsfaktoren!$A$1:$K$1,0)+2,FALSE)=0,"",VLOOKUP(Tabelle2[[#This Row],[Abfallschlüssel-nummer]],Emissionsfaktoren!$A$2:$K$67,MATCH(Tabelle2[[#This Row],[Verwertung/ Beseitigung]],Emissionsfaktoren!$A$1:$K$1,0)+2,FALSE)) -> #N/A | R33: =IFERROR(Tabelle2[[#This Row],[Menge (t/a)]]*Tabelle2[[#This Row],[Emissionsfaktor Behandlung (t CO2 eq/t)]],"") | S33: =IF(Tabelle2[[#This Row],[Emissionen Behandlung (t CO2 eq/a)]]="",0,Tabelle2[[#This Row],[Emissionen Behandlung (t CO2 eq/a)]])+IF(Tabelle2[[#This Row],[Emissionen Transport (t CO2 eq/a)]]="",0,Tabelle2[[#This Row],[Emissionen Transport (t CO2 eq/a)]]) -> 0
A34: 170101 | B34: =IF(MID(A34,7,1)="*","*","") | C34: =IF(B34="*","gefährlich","nicht gefährlich") -> nicht gefährlich | D34: 170101/ Beton | J34: =IFERROR(Tabelle2[[#This Row],[Menge (t/a)]]/Tabelle2[[#This Row],[Anzahl Transporte]],"") | M34: =IFERROR(VLOOKUP(Tabelle2[[#This Row],[Transportmittel]],Emissionsfaktoren!$N$2:$P$11,3,FALSE),"") | N34: https://www.hansewasser.de/service/downloads/2024-05_emissionsfaktoren_spezifisch.xlsx | O34: =IFERROR((Tabelle2[[#This Row],[Menge pro Transport (t)]]*Tabelle2[[#This Row],[Transportweg zur Entsorgungsanlage Hin- und Rückweg (km)]]*Tabelle2[[#This Row],[Emissionsfaktor Transport (kg CO2 eq/tkm)]]/1000)*Tabelle2[[#This Row],[Anzahl Transporte]],"") | P34: =IF(VLOOKUP(Tabelle2[[#This Row],[Abfallschlüssel-nummer]],Emissionsfaktoren!$A$2:$K$67,MATCH(Tabelle2[[#This Row],[Verwertung/ Beseitigung]],Emissionsfaktoren!$A$1:$K$1,0)+1,FALSE)=0,"",VLOOKUP(Tabelle2[[#This Row],[Abfallschlüssel-nummer]],Emissionsfaktoren!$A$2:$K$67,MATCH(Tabelle2[[#This Row],[Verwertung/ Beseitigung]],Emissionsfaktoren!$A$1:$K$1,0)+1,FALSE)) -> #N/A | Q34: =IF(VLOOKUP(Tabelle2[[#This Row],[Abfallschlüssel-nummer]],Emissionsfaktoren!$A$2:$K$67,MATCH(Tabelle2[[#This Row],[Verwertung/ Beseitigung]],Emissionsfaktoren!$A$1:$K$1,0)+2,FALSE)=0,"",VLOOKUP(Tabelle2[[#This Row],[Abfallschlüssel-nummer]],Emissionsfaktoren!$A$2:$K$67,MATCH(Tabelle2[[#This Row],[Verwertung/ Beseitigung]],Emissionsfaktoren!$A$1:$K$1,0)+2,FALSE)) -> #N/A | R34: =IFERROR(Tabelle2[[#This Row],[Menge (t/a)]]*Tabelle2[[#This Row],[Emissionsfaktor Behandlung (t CO2 eq/t)]],"") | S34: =IF(Tabelle2[[#This Row],[Emissionen Behandlung (t CO2 eq/a)]]="",0,Tabelle2[[#This Row],[Emissionen Behandlung (t CO2 eq/a)]])+IF(Tabelle2[[#This Row],[Emissionen Transport (t CO2 eq/a)]]="",0,Tabelle2[[#This Row],[Emissionen Transport (t CO2 eq/a)]]) -> 0
A35: 170106* | B35: =IF(MID(A35,7,1)="*","*","") -> * | C35: =IF(B35="*","gefährlich","nicht gefährlich") -> gefährlich | D35: 170106*/ Gemische aus oder getrennte Fraktionen von Beton, Ziegeln, Fliesen und Keramik, die gefährliche Stoffe enthalten | J35: =IFERROR(Tabelle2[[#This Row],[Menge (t/a)]]/Tabelle2[[#This Row],[Anzahl Transporte]],"") | M35: =IFERROR(VLOOKUP(Tabelle2[[#This Row],[Transportmittel]],Emissionsfaktoren!$N$2:$P$11,3,FALSE),"") | N35: https://www.hansewasser.de/service/downloads/2024-05_emissionsfaktoren_spezifisch.xlsx | O35: =IFERROR((Tabelle2[[#This Row],[Menge pro Transport (t)]]*Tabelle2[[#This Row],[Transportweg zur Entsorgungsanlage Hin- und Rückweg (km)]]*Tabelle2[[#This Row],[Emissionsfaktor Transport (kg CO2 eq/tkm)]]/1000)*Tabelle2[[#This Row],[Anzahl Transporte]],"") | P35: =IF(VLOOKUP(Tabelle2[[#This Row],[Abfallschlüssel-nummer]],Emissionsfaktoren!$A$2:$K$67,MATCH(Tabelle2[[#This Row],[Verwertung/ Beseitigung]],Emissionsfaktoren!$A$1:$K$1,0)+1,FALSE)=0,"",VLOOKUP(Tabelle2[[#This Row],[Abfallschlüssel-nummer]],Emissionsfaktoren!$A$2:$K$67,MATCH(Tabelle2[[#This Row],[Verwertung/ Beseitigung]],Emissionsfaktoren!$A$1:$K$1,0)+1,FALSE)) -> #N/A | Q35: =IF(VLOOKUP(Tabelle2[[#This Row],[Abfallschlüssel-nummer]],Emissionsfaktoren!$A$2:$K$67,MATCH(Tabelle2[[#This Row],[Verwertung/ Beseitigung]],Emissionsfaktoren!$A$1:$K$1,0)+2,FALSE)=0,"",VLOOKUP(Tabelle2[[#This Row],[Abfallschlüssel-nummer]],Emissionsfaktoren!$A$2:$K$67,MATCH(Tabelle2[[#This Row],[Verwertung/ Beseitigung]],Emissionsfaktoren!$A$1:$K$1,0)+2,FALSE)) -> #N/A | R35: =IFERROR(Tabelle2[[#This Row],[Menge (t/a)]]*Tabelle2[[#This Row],[Emissionsfaktor Behandlung (t CO2 eq/t)]],"") | S35: =IF(Tabelle2[[#This Row],[Emissionen Behandlung (t CO2 eq/a)]]="",0,Tabelle2[[#This Row],[Emissionen Behandlung (t CO2 eq/a)]])+IF(Tabelle2[[#This Row],[Emissionen Transport (t CO2 eq/a)]]="",0,Tabelle2[[#This Row],[Emissionen Transport (t CO2 eq/a)]]) -> 0
A36: 170107 | B36: =IF(MID(A36,7,1)="*","*","") | C36: =IF(B36="*","gefährlich","nicht gefährlich") -> nicht gefährlich | D36: 170107/ Gemische aus Beton, Ziegeln, Fliesen und Keramik mit Ausnahme derjenigen, die unter 17 01 06 fallen(Bauschutt) | J36: =IFERROR(Tabelle2[[#This Row],[Menge (t/a)]]/Tabelle2[[#This Row],[Anzahl Transporte]],"") | M36: =IFERROR(VLOOKUP(Tabelle2[[#This Row],[Transportmittel]],Emissionsfaktoren!$N$2:$P$11,3,FALSE),"") | N36: https://www.hansewasser.de/service/downloads/2024-05_emissionsfaktoren_spezifisch.xlsx | O36: =IFERROR((Tabelle2[[#This Row],[Menge pro Transport (t)]]*Tabelle2[[#This Row],[Transportweg zur Entsorgungsanlage Hin- und Rückweg (km)]]*Tabelle2[[#This Row],[Emissionsfaktor Transport (kg CO2 eq/tkm)]]/1000)*Tabelle2[[#This Row],[Anzahl Transporte]],"") | P36: =IF(VLOOKUP(Tabelle2[[#This Row],[Abfallschlüssel-nummer]],Emissionsfaktoren!$A$2:$K$67,MATCH(Tabelle2[[#This Row],[Verwertung/ Beseitigung]],Emissionsfaktoren!$A$1:$K$1,0)+1,FALSE)=0,"",VLOOKUP(Tabelle2[[#This Row],[Abfallschlüssel-nummer]],Emissionsfaktoren!$A$2:$K$67,MATCH(Tabelle2[[#This Row],[Verwertung/ Beseitigung]],Emissionsfaktoren!$A$1:$K$1,0)+1,FALSE)) -> #N/A | Q36: =IF(VLOOKUP(Tabelle2[[#This Row],[Abfallschlüssel-nummer]],Emissionsfaktoren!$A$2:$K$67,MATCH(Tabelle2[[#This Row],[Verwertung/ Beseitigung]],Emissionsfaktoren!$A$1:$K$1,0)+2,FALSE)=0,"",VLOOKUP(Tabelle2[[#This Row],[Abfallschlüssel-nummer]],Emissionsfaktoren!$A$2:$K$67,MATCH(Tabelle2[[#This Row],[Verwertung/ Beseitigung]],Emissionsfaktoren!$A$1:$K$1,0)+2,FALSE)) -> #N/A | R36: =IFERROR(Tabelle2[[#This Row],[Menge (t/a)]]*Tabelle2[[#This Row],[Emissionsfaktor Behandlung (t CO2 eq/t)]],"") | S36: =IF(Tabelle2[[#This Row],[Emissionen Behandlung (t CO2 eq/a)]]="",0,Tabelle2[[#This Row],[Emissionen Behandlung (t CO2 eq/a)]])+IF(Tabelle2[[#This Row],[Emissionen Transport (t CO2 eq/a)]]="",0,Tabelle2[[#This Row],[Emissionen Transport (t CO2 eq/a)]]) -> 0
