Workbook

Sheet Deckblatt
C3: BILANZIERUNG VON SCOPE 3-EMISSIONEN
C4: Scope 3.5 Abfallaufkommen im Betrieb
C6: Version: | D6: 2.0
C7: Datum: | D7: 45995
C9: Diese Handreichung ist das Ergebnis umfangreicher gemeinsamer Arbeit der am Projekt beteiligten Betreiberunternehmen mit dem Ziel, die Klimabilanzen nach Scope 3 jeweils in den eigenen Organisationen nach einem definierten Standard erstellen und verbessern zu können. Die Ergebnisse sind skalierbar und sollen mit allen Betreiberunternehmen der deutschen Wasserwirtschaft geteilt werden. Sie sollen dazu einladen, diese Standards im eigenen Unternehmen anzuwenden. Durch ein entsprechendes Feedback an die Arbeitsgruppe trägt das zur stetigen Verbesserung und Vereinfachung in der gesamten Branche bei. Die Exceldatei berechnet Emissionen nach Scope 3.5 für das Abfallaufkommen.
C16: KURZANLEITUNG
C18: NUTZUNG DER BERECHNUNGSTABELLE (Bilanz Abwasser & Trinkwasser)
C19: von Arbeitsgruppe vorgegeben: | J19: von Benutzer*innen auszufüllen:
C20: Spalte A bis D | D20: Abfallarten: Die typischen Abfallarten, die bei Unternehmen der Wasserwirtschaft anfallen, wurden in die Tabelle übernommen. Die Angaben Abfallschlüsselnummer, Abfalleigenschaft (gefährlich, nicht gefährlich) und Bezeichnung sind vorgegeben. | J20: Spalte E | K20: Entsorger: Beauftragtes Entsorgungsunternehmen/Abfallbehandlungsanlage zur Ermittlung des Transportwegs
J22: Spalte F | K22: Verwertung/Beseitigung: Auswahl zwischen Verwertung oder Beseitigung zur Zuweisung des Emissionsfaktors (ggf. Unterschied zw. Verwertung und Beseitigung)
C24: Spalte N | D24: EF Transport [kg CO2e/tkm]: Spezifischer Faktor zur Berechnung der Emissionen durch den Transport des Abfalls.
J25: Spalte G | K25: Bemerkungen: Bei Bedarf ausfüllen, z. B. Transport mit eigenen Fahrzeugen
C26: Spalte O | D26: Quelle EF: Herkunft des Emissionsfaktors (Studie etc.) | J26: Spalte H | K26: Jahresabfallmenge: Mengenangabe in Tonne (t), wenn andere Mengeneinheiten vorliegen, müssen diese umgerechnet werden. Empfohlen wird hierzu die Seite:
C27: Spalte Q | D27: EF Behandlung (CO2e/t): Spezifischer Wert zur Berechnung der Emissionen für das angewendete Abfallbehandlungsverfahren
K28: Abfallarten gemäß dem Europäischen Abfallverzeichnis (AVV - Abfallverzeichnis-Verordnung), Umrechnungsfaktoren (bayern.de)
C29: Spalte R | D29: Quelle EF: Herkunft des Emissionsfaktors (Studie etc.)
C30: berechnete Werte: | J30: Spalte J | K30: Anzahl Transporte: gibt an, wie viele Transporte unter der jeweligen AVV-Nummer stattgefunden haben
C31: Spalte K | D31: Menge pro Transport (t): Berechnet über die Gesamtmenge und die Anzahl der Fahrten, die Menge, die pro Strecke transportiert wurde
J32: Spalte L | K32: Transportweg zur Entsorgungsanlage (km): Strecke von der Abfallstelle zur Abfallbehandlungsanlage; Hin- und Rückweg
C33: Spalte P | D33: Emissionen Transport (t CO2 e/a): Berechnung aus der Menge pro Transport des Abfalls, dem Transportweg zur Entsorgungsanlage, dem Emissionsfaktor des Transports und der Anzahl an Transporten
J34: Spalte M | K34: Transportmittel: Auswahl eines Transportmittels zur Zuweisung des Emissionsfaktors für den Transport
C36: Spalte S | D36: Emissionen Behandlung (t CO2 e/a): Berechnung aus der Jahresmenge des Abfalls und dem EF der Behandlung
C38: Spalte T | D38: Emission gesamt (t CO2 e/a): Berechnung der gesamten Emissionen der Abfallentsorgung
C41: BITTE BEACHTEN
C42: Zur Kenntnisnahme | H42: Zu bearbeiten | M42: Nicht zu bearbeiten!
C44: Arbeitsmappen mit blauer Markierung enthalten Hinweise, die lediglich zur Kenntnisnahme dienen und keiner weiteren Bearbeitung bedürfen. | H44: Gelb markierte Arbeitsmappen sind aktiv zu bearbeiten. | M44: Arbeitsmappen in Grau beinhalten alle Listen, die in den gelb eingefärbten Arbeitsmappen als Dropdown-Optionen verwendet werden. Diese sind nicht zur Bearbeitung vorgesehen!
C50: INHALTE DER EXCEL
C51: Bilanz Abwasser | D51: THG-Bilanzierung sortiert nach Abfallschlüsselnummer für Abwasser (Klärschlammberechnung ganz unten)
C52: Bilanz Trinkwasser | D52: THG-Bilanzierung sortiert nach Abfallschlüsselnummer für Trinkwasser
C53: Emissionsfaktoren | D53: Übersicht zu verwendender Emissionfaktoren für die Bilanzierung von Scope 3.5
C54: KrWG Anlage 1-2 | D54: Übersicht Beseitigungs- und Verwertungsverfahren nach Anlage 1 und Anlage 2 KrWG
C56: Farbcodes innerhalb der Tabellen
C57: Eingabe | D57: Eingabe erforderlich
C58: Zwischenergebnis | D58: Teil-Emissionen je Abfallschlüsselnummer
C59: Endergebnis | D59: Gesamt-Emissionen je Abfallschlüsselnummer (Transport und Behandlung/Verwertung)
C60: nicht anpassen | D60: keine Eingabe vornehmen
C62: HAFTUNGSAUSSCHLUSS/NUTZUNG DER ZUR VERFÜGUNGGESTELLTEN UNTERLAGEN
C63: Diese Excel-Datei ist ein Teilergebnis der AG Scope 3. Er stellt eine Fachmeinung dar und dient der allgemeinen Information und nicht der Beratung in konkreten Fällen. Die Mitglieder der Arbeitsgruppe sind bemüht, für die Richtigkeit und Aktualität aller in der Excel-Datei enthaltenen Informationen und Daten zu sorgen. Für die Korrektheit, Vollständigkeit, Aktualität oder Qualität der bereitgestellten Informationen und Daten wird jedoch keine Gewähr übernommen. Die Haftung für den Inhalt der abrufbaren Informationen wird ausgeschlossen, soweit es sich nicht um vorsätzliche oder grob fahrlässige Falschinformation handelt. Copyright: Alle Inhalte diese Excel-Datei, insbesondere Texte, Fotografien und Grafiken sind urheberrechtlich geschützt. Die Anwendung ist den Unternehmen und Organisationen der deutschen Wasserwirtschaft für den Eigenbedarf gestattet. Die Vervielfältigung, Bearbeitung, Verbreitung im Rahmen einer gewerblichen Nutzung bedürfen der schriftlichen Zustimmung.
C70: Download-Link:
C71: https://www.hansewasser.de/unternehmen/scope-3-leitfaden
...

Sheet Bilanz Abwasser
A2: 3.5 Berechnung THG-Emissionen aus Abfallentsorgung
A4: Abfallschlüssel-nummer | B4: Gefährlicher Abfall | C4: Gefährlicher Abfall (Text) | D4: Abfallbezeichnung | E4: Entsorger | F4: Verwertung/ Beseitigung | G4: Bemerkung | H4: Menge (t/a) | I4: Menge Trocken-rückstand (t/a) | J4: Anzahl Transporte | K4: Menge pro Transport (t) | L4: Transportweg zur Entsorgungsanlage Hin und Rückweg (km) | M4: Transportmittel | N4: Emissionsfaktor Transport (kg CO2 eq/tkm) | O4: Quelle Emissionsfaktor Transport | P4: Emissionen Transport (t CO2 eq/a) | Q4: Emissionsfaktor Behandlung (t CO2 eq/t) | R4: Quelle Emissionsfaktor Behandlung | S4: Emissionen Behandlung (t CO2 eq/a) | T4: Emissionen sonstige Abfallentsorgung gesamt (t CO2 eq/a)
A5: 020103 | B5: =IF(MID(A5,7,1)="*","*","") | C5: =IF(B5="*","gefährlich","nicht gefährlich") -> nicht gefährlich | D5: 020103/ Abfälle aus pflanzlichem Gewebe | E5: Musterbeispiel | F5: Verwertung | H5: 10 | J5: 2 | K5: =Tabelle27[[#This Row],[Menge (t/a)]]/Tabelle27[[#This Row],[Anzahl Transporte]] -> 5 | L5: 9 | M5: LKW, EURO5, 7,5-16t | N5: =IFERROR(VLOOKUP(Tabelle27[[#This Row],[Transportmittel]],Emissionsfaktoren!$N$2:$P$11,3,FALSE),"") -> 0.2407 | O5: https://www.hansewasser.de/service/downloads/2024-05_emissionsfaktoren_spezifisch.xlsx | P5: =IFERROR((Tabelle27[[#This Row],[Menge pro Transport (t)]]*Tabelle27[[#This Row],[Transportweg zur Entsorgungsanlage Hin und Rückweg (km)]]*Tabelle27[[#This Row],[Emissionsfaktor Transport (kg CO2 eq/tkm)]]/1000)*Tabelle27[[#This Row],[Anzahl Transporte]],"") -> 0.021663 | Q5: =IF(VLOOKUP(Tabelle27[[#This Row],[Abfallschlüssel-nummer]],Emissionsfaktoren!$A$2:$K$67,MATCH(Tabelle27[[#This Row],[Verwertung/ Beseitigung]],Emissionsfaktoren!$A$1:$K$1,0)+1,FALSE)=0,"",VLOOKUP(Tabelle27[[#This Row],[Abfallschlüssel-nummer]],Emissionsfaktoren!$A$2:$K$67,MATCH(Tabelle27[[#This Row],[Verwertung/ Beseitigung]],Emissionsfaktoren!$A$1:$K$1,0)+1,FALSE)) -> 0.147 | R5: =IF(VLOOKUP(Tabelle27[[#This Row],[Abfallschlüssel-nummer]],Emissionsfaktoren!$A$2:$K$67,MATCH(Tabelle27[[#This Row],[Verwertung/ Beseitigung]],Emissionsfaktoren!$A$1:$K$1,0)+2,FALSE)=0,"",VLOOKUP(Tabelle27[[#This Row],[Abfallschlüssel-nummer]],Emissionsfaktoren!$A$2:$K$67,MATCH(Tabelle27[[#This Row],[Verwertung/ Beseitigung]],Emissionsfaktoren!$A$1:$K$1,0)+2,FALSE)) -> https://www.hansewasser.de/service/downloads/2024-05_emissionsfaktoren_spezifisch.xlsx | S5: =IFERROR(Tabelle27[[#This Row],[Menge (t/a)]]*Tabelle27[[#This Row],[Emissionsfaktor Behandlung (t CO2 eq/t)]],"") -> 1.47 | T5: =IF(Tabelle27[[#This Row],[Emissionen Behandlung (t CO2 eq/a)]]="",0,Tabelle27[[#This Row],[Emissionen Behandlung (t CO2 eq/a)]])+IF(Tabelle27[[#This Row],[Emissionen Transport (t CO2 eq/a)]]="",0,Tabelle27[[#This Row],[Emissionen Transport (t CO2 eq/a)]]) -> 1.491663
A6: 020110 | B6: =IF(MID(A6,7,1)="*","*","") | C6: =IF(B6="*","gefährlich","nicht gefährlich") -> nicht gefährlich | D6: 020110/ Metallabfälle | K6: =IFERROR(Tabelle27[[#This Row],[Menge (t/a)]]/Tabelle27[[#This Row],[Anzahl Transporte]],"") | N6: =IFERROR(VLOOKUP(Tabelle27[[#This Row],[Transportmittel]],Emissionsfaktoren!$N$2:$P$11,3,FALSE),"") | O6: https://www.hansewasser.de/service/downloads/2024-05_emissionsfaktoren_spezifisch.xlsx | P6: =IFERROR((Tabelle27[[#This Row],[Menge pro Transport (t)]]*Tabelle27[[#This Row],[Transportweg zur Entsorgungsanlage Hin und Rückweg (km)]]*Tabelle27[[#This Row],[Emissionsfaktor Transport (kg CO2 eq/tkm)]]/1000)*Tabelle27[[#This Row],[Anzahl Transporte]],"") | Q6: =IF(VLOOKUP(Tabelle27[[#This Row],[Abfallschlüssel-nummer]],Emissionsfaktoren!$A$2:$K$67,MATCH(Tabelle27[[#This Row],[Verwertung/ Beseitigung]],Emissionsfaktoren!$A$1:$K$1,0)+1,FALSE)=0,"",VLOOKUP(Tabelle27[[#This Row],[Abfallschlüssel-nummer]],Emissionsfaktoren!$A$2:$K$67,MATCH(Tabelle27[[#This Row],[Verwertung/ Beseitigung]],Emissionsfaktoren!$A$1:$K$1,0)+1,FALSE)) -> #N/A | R6: =IF(VLOOKUP(Tabelle27[[#This Row],[Abfallschlüssel-nummer]],Emissionsfaktoren!$A$2:$K$67,MATCH(Tabelle27[[#This Row],[Verwertung/ Beseitigung]],Emissionsfaktoren!$A$1:$K$1,0)+2,FALSE)=0,"",VLOOKUP(Tabelle27[[#This Row],[Abfallschlüssel-nummer]],Emissionsfaktoren!$A$2:$K$67,MATCH(Tabelle27[[#This Row],[Verwertung/ Beseitigung]],Emissionsfaktoren!$A$1:$K$1,0)+2,FALSE)) -> #N/A | S6: =IFERROR(Tabelle27[[#This Row],[Menge (t/a)]]*Tabelle27[[#This Row],[Emissionsfaktor Behandlung (t CO2 eq/t)]],"") | T6: =IF(Tabelle27[[#This Row],[Emissionen Behandlung (t CO2 eq/a)]]="",0,Tabelle27[[#This Row],[Emissionen Behandlung (t CO2 eq/a)]])+IF(Tabelle27[[#This Row],[Emissionen Transport (t CO2 eq/a)]]="",0,Tabelle27[[#This Row],[Emissionen Transport (t CO2 eq/a)]]) -> 0
A7: 020204 | B7: =IF(MID(A7,7,1)="*","*","") | C7: =IF(B7="*","gefährlich","nicht gefährlich") -> nicht gefährlich | D7: 020204/ Schlämme aus der betriebseigenen Abwasserbehandlung | K7: =IFERROR(Tabelle27[[#This Row],[Menge (t/a)]]/Tabelle27[[#This Row],[Anzahl Transporte]],"") | N7: =IFERROR(VLOOKUP(Tabelle27[[#This Row],[Transportmittel]],Emissionsfaktoren!$N$2:$P$11,3,FALSE),"") | O7: https://www.hansewasser.de/service/downloads/2024-05_emissionsfaktoren_spezifisch.xlsx | P7: =IFERROR((Tabelle27[[#This Row],[Menge pro Transport (t)]]*Tabelle27[[#This Row],[Transportweg zur Entsorgungsanlage Hin und Rückweg (km)]]*Tabelle27[[#This Row],[Emissionsfaktor Transport (kg CO2 eq/tkm)]]/1000)*Tabelle27[[#This Row],[Anzahl Transporte]],"") | Q7: =IF(VLOOKUP(Tabelle27[[#This Row],[Abfallschlüssel-nummer]],Emissionsfaktoren!$A$2:$K$67,MATCH(Tabelle27[[#This Row],[Verwertung/ Beseitigung]],Emissionsfaktoren!$A$1:$K$1,0)+1,FALSE)=0,"",VLOOKUP(Tabelle27[[#This Row],[Abfallschlüssel-nummer]],Emissionsfaktoren!$A$2:$K$67,MATCH(Tabelle27[[#This Row],[Verwertung/ Beseitigung]],Emissionsfaktoren!$A$1:$K$1,0)+1,FALSE)) -> #N/A | R7: =IF(VLOOKUP(Tabelle27[[#This Row],[Abfallschlüssel-nummer]],Emissionsfaktoren!$A$2:$K$67,MATCH(Tabelle27[[#This Row],[Verwertung/ Beseitigung]],Emissionsfaktoren!$A$1:$K$1,0)+2,FALSE)=0,"",VLOOKUP(Tabelle27[[#This Row],[Abfallschlüssel-nummer]],Emissionsfaktoren!$A$2:$K$67,MATCH(Tabelle27[[#This Row],[Verwertung/ Beseitigung]],Emissionsfaktoren!$A$1:$K$1,0)+2,FALSE)) -> #N/A | S7: =IFERROR(Tabelle27[[#This Row],[Menge (t/a)]]*Tabelle27[[#This Row],[Emissionsfaktor Behandlung (t CO2 eq/t)]],"") | T7: =IF(Tabelle27[[#This Row],[Emissionen Behandlung (t CO2 eq/a)]]="",0,Tabelle27[[#This Row],[Emissionen Behandlung (t CO2 eq/a)]])+IF(Tabelle27[[#This Row],[Emissionen Transport (t CO2 eq/a)]]="",0,Tabelle27[[#This Row],[Emissionen Transport (t CO2 eq/a)]]) -> 0
A8: 060106* | B8: =IF(MID(A8,7,1)="*","*","") -> * | C8: =IF(B8="*","gefährlich","nicht gefährlich") -> gefährlich | D8: 060106*/ andere Säuren | K8: =IFERROR(Tabelle27[[#This Row],[Menge (t/a)]]/Tabelle27[[#This Row],[Anzahl Transporte]],"") | N8: =IFERROR(VLOOKUP(Tabelle27[[#This Row],[Transportmittel]],Emissionsfaktoren!$N$2:$P$11,3,FALSE),"") | O8: https://www.hansewasser.de/service/downloads/2024-05_emissionsfaktoren_spezifisch.xlsx | P8: =IFERROR((Tabelle27[[#This Row],[Menge pro Transport (t)]]*Tabelle27[[#This Row],[Transportweg zur Entsorgungsanlage Hin und Rückweg (km)]]*Tabelle27[[#This Row],[Emissionsfaktor Transport (kg CO2 eq/tkm)]]/1000)*Tabelle27[[#This Row],[Anzahl Transporte]],"") | Q8: =IF(VLOOKUP(Tabelle27[[#This Row],[Abfallschlüssel-nummer]],Emissionsfaktoren!$A$2:$K$67,MATCH(Tabelle27[[#This Row],[Verwertung/ Beseitigung]],Emissionsfaktoren!$A$1:$K$1,0)+1,FALSE)=0,"",VLOOKUP(Tabelle27[[#This Row],[Abfallschlüssel-nummer]],Emissionsfaktoren!$A$2:$K$67,MATCH(Tabelle27[[#This Row],[Verwertung/ Beseitigung]],Emissionsfaktoren!$A$1:$K$1,0)+1,FALSE)) -> #N/A | R8: =IF(VLOOKUP(Tabelle27[[#This Row],[Abfallschlüssel-nummer]],Emissionsfaktoren!$A$2:$K$67,MATCH(Tabelle27[[#This Row],[Verwertung/ Beseitigung]],Emissionsfaktoren!$A$1:$K$1,0)+2,FALSE)=0,"",VLOOKUP(Tabelle27[[#This Row],[Abfallschlüssel-nummer]],Emissionsfaktoren!$A$2:$K$67,MATCH(Tabelle27[[#This Row],[Verwertung/ Beseitigung]],Emissionsfaktoren!$A$1:$K$1,0)+2,FALSE)) -> #N/A | S8: =IFERROR(Tabelle27[[#This Row],[Menge (t/a)]]*Tabelle27[[#This Row],[Emissionsfaktor Behandlung (t CO2 eq/t)]],"") | T8: =IF(Tabelle27[[#This Row],[Emissionen Behandlung (t CO2 eq/a)]]="",0,Tabelle27[[#This Row],[Emissionen Behandlung (t CO2 eq/a)]])+IF(Tabelle27[[#This Row],[Emissionen Transport (t CO2 eq/a)]]="",0,Tabelle27[[#This Row],[Emissionen Transport (t CO2 eq/a)]]) -> 0
A9: 060404* | B9: =IF(MID(A9,7,1)="*","*","") -> * | C9: =IF(B9="*","gefährlich","nicht gefährlich") -> gefährlich | D9: 060404*/ quecksilberhaltige Abfälle | K9: =IFERROR(Tabelle27[[#This Row],[Menge (t/a)]]/Tabelle27[[#This Row],[Anzahl Transporte]],"") | N9: =IFERROR(VLOOKUP(Tabelle27[[#This Row],[Transportmittel]],Emissionsfaktoren!$N$2:$P$11,3,FALSE),"") | O9: https://www.hansewasser.de/service/downloads/2024-05_emissionsfaktoren_spezifisch.xlsx | P9: =IFERROR((Tabelle27[[#This Row],[Menge pro Transport (t)]]*Tabelle27[[#This Row],[Transportweg zur Entsorgungsanlage Hin und Rückweg (km)]]*Tabelle27[[#This Row],[Emissionsfaktor Transport (kg CO2 eq/tkm)]]/1000)*Tabelle27[[#This Row],[Anzahl Transporte]],"") | Q9: =IF(VLOOKUP(Tabelle27[[#This Row],[Abfallschlüssel-nummer]],Emissionsfaktoren!$A$2:$K$67,MATCH(Tabelle27[[#This Row],[Verwertung/ Beseitigung]],Emissionsfaktoren!$A$1:$K$1,0)+1,FALSE)=0,"",VLOOKUP(Tabelle27[[#This Row],[Abfallschlüssel-nummer]],Emissionsfaktoren!$A$2:$K$67,MATCH(Tabelle27[[#This Row],[Verwertung/ Beseitigung]],Emissionsfaktoren!$A$1:$K$1,0)+1,FALSE)) -> #N/A | R9: =IF(VLOOKUP(Tabelle27[[#This Row],[Abfallschlüssel-nummer]],Emissionsfaktoren!$A$2:$K$67,MATCH(Tabelle27[[#This Row],[Verwertung/ Beseitigung]],Emissionsfaktoren!$A$1:$K$1,0)+2,FALSE)=0,"",VLOOKUP(Tabelle27[[#This Row],[Abfallschlüssel-nummer]],Emissionsfaktoren!$A$2:$K$67,MATCH(Tabelle27[[#This Row],[Verwertung/ Beseitigung]],Emissionsfaktoren!$A$1:$K$1,0)+2,FALSE)) -> #N/A | S9: =IFERROR(Tabelle27[[#This Row],[Menge (t/a)]]*Tabelle27[[#This Row],[Emissionsfaktor Behandlung (t CO2 eq/t)]],"") | T9: =IF(Tabelle27[[#This Row],[Emissionen Behandlung (t CO2 eq/a)]]="",0,Tabelle27[[#This Row],[Emissionen Behandlung (t CO2 eq/a)]])+IF(Tabelle27[[#This Row],[Emissionen Transport (t CO2 eq/a)]]="",0,Tabelle27[[#This Row],[Emissionen Transport (t CO2 eq/a)]]) -> 0
A10: 080111* | B10: =IF(MID(A10,7,1)="*","*","") -> * | C10: =IF(B10="*","gefährlich","nicht gefährlich") -> gefährlich | D10: 080111*/ Farb- und Lackabfälle, die organische Lösemittel oder andere gefährliche Stoffe enthalten | K10: =IFERROR(Tabelle27[[#This Row],[Menge (t/a)]]/Tabelle27[[#This Row],[Anzahl Transporte]],"") | N10: =IFERROR(VLOOKUP(Tabelle27[[#This Row],[Transportmittel]],Emissionsfaktoren!$N$2:$P$11,3,FALSE),"") | O10: https://www.hansewasser.de/service/downloads/2024-05_emissionsfaktoren_spezifisch.xlsx | P10: =IFERROR((Tabelle27[[#This Row],[Menge pro Transport (t)]]*Tabelle27[[#This Row],[Transportweg zur Entsorgungsanlage Hin und Rückweg (km)]]*Tabelle27[[#This Row],[Emissionsfaktor Transport (kg CO2 eq/tkm)]]/1000)*Tabelle27[[#This Row],[Anzahl Transporte]],"") | Q10: =IF(VLOOKUP(Tabelle27[[#This Row],[Abfallschlüssel-nummer]],Emissionsfaktoren!$A$2:$K$67,MATCH(Tabelle27[[#This Row],[Verwertung/ Beseitigung]],Emissionsfaktoren!$A$1:$K$1,0)+1,FALSE)=0,"",VLOOKUP(Tabelle27[[#This Row],[Abfallschlüssel-nummer]],Emissionsfaktoren!$A$2:$K$67,MATCH(Tabelle27[[#This Row],[Verwertung/ Beseitigung]],Emissionsfaktoren!$A$1:$K$1,0)+1,FALSE)) -> #N/A | R10: =IF(VLOOKUP(Tabelle27[[#This Row],[Abfallschlüssel-nummer]],Emissionsfaktoren!$A$2:$K$67,MATCH(Tabelle27[[#This Row],[Verwertung/ Beseitigung]],Emissionsfaktoren!$A$1:$K$1,0)+2,FALSE)=0,"",VLOOKUP(Tabelle27[[#This Row],[Abfallschlüssel-nummer]],Emissionsfaktoren!$A$2:$K$67,MATCH(Tabelle27[[#This Row],[Verwertung/ Beseitigung]],Emissionsfaktoren!$A$1:$K$1,0)+2,FALSE)) -> #N/A | S10: =IFERROR(Tabelle27[[#This Row],[Menge (t/a)]]*Tabelle27[[#This Row],[Emissionsfaktor Behandlung (t CO2 eq/t)]],"") | T10: =IF(Tabelle27[[#This Row],[Emissionen Behandlung (t CO2 eq/a)]]="",0,Tabelle27[[#This Row],[Emissionen Behandlung (t CO2 eq/a)]])+IF(Tabelle27[[#This Row],[Emissionen Transport (t CO2 eq/a)]]="",0,Tabelle27[[#This Row],[Emissionen Transport (t CO2 eq/a)]]) -> 0
A11: 080117* | B11: =IF(MID(A11,7,1)="*","*","") -> * | C11: =IF(B11="*","gefährlich","nicht gefährlich") -> gefährlich | D11: 080117*/ Abfälle aus der Farb- oder Lackentfernung, die organische Lösemittel oder andere gefährliche Stoffe enthalten | K11: =IFERROR(Tabelle27[[#This Row],[Menge (t/a)]]/Tabelle27[[#This Row],[Anzahl Transporte]],"") | N11: =IFERROR(VLOOKUP(Tabelle27[[#This Row],[Transportmittel]],Emissionsfaktoren!$N$2:$P$11,3,FALSE),"") | O11: https://www.hansewasser.de/service/downloads/2024-05_emissionsfaktoren_spezifisch.xlsx | P11: =IFERROR((Tabelle27[[#This Row],[Menge pro Transport (t)]]*Tabelle27[[#This Row],[Transportweg zur Entsorgungsanlage Hin und Rückweg (km)]]*Tabelle27[[#This Row],[Emissionsfaktor Transport (kg CO2 eq/tkm)]]/1000)*Tabelle27[[#This Row],[Anzahl Transporte]],"") | Q11: =IF(VLOOKUP(Tabelle27[[#This Row],[Abfallschlüssel-nummer]],Emissionsfaktoren!$A$2:$K$67,MATCH(Tabelle27[[#This Row],[Verwertung/ Beseitigung]],Emissionsfaktoren!$A$1:$K$1,0)+1,FALSE)=0,"",VLOOKUP(Tabelle27[[#This Row],[Abfallschlüssel-nummer]],Emissionsfaktoren!$A$2:$K$67,MATCH(Tabelle27[[#This Row],[Verwertung/ Beseitigung]],Emissionsfaktoren!$A$1:$K$1,0)+1,FALSE)) -> #N/A | R11: =IF(VLOOKUP(Tabelle27[[#This Row],[Abfallschlüssel-nummer]],Emissionsfaktoren!$A$2:$K$67,MATCH(Tabelle27[[#This Row],[Verwertung/ Beseitigung]],Emissionsfaktoren!$A$1:$K$1,0)+2,FALSE)=0,"",VLOOKUP(Tabelle27[[#This Row],[Abfallschlüssel-nummer]],Emissionsfaktoren!$A$2:$K$67,MATCH(Tabelle27[[#This Row],[Verwertung/ Beseitigung]],Emissionsfaktoren!$A$1:$K$1,0)+2,FALSE)) -> #N/A | S11: =IFERROR(Tabelle27[[#This Row],[Menge (t/a)]]*Tabelle27[[#This Row],[Emissionsfaktor Behandlung (t CO2 eq/t)]],"") | T11: =IF(Tabelle27[[#This Row],[Emissionen Behandlung (t CO2 eq/a)]]="",0,Tabelle27[[#This Row],[Emissionen Behandlung (t CO2 eq/a)]])+IF(Tabelle27[[#This Row],[Emissionen Transport (t CO2 eq/a)]]="",0,Tabelle27[[#This Row],[Emissionen Transport (t CO2 eq/a)]]) -> 0
A12: 101112 | B12: =IF(MID(A12,7,1)="*","*","") | C12: =IF(B12="*","gefährlich","nicht gefährlich") -> nicht gefährlich | D12: 101112/ Glasabfall mit Ausnahme desjenigen, der unter 10 11 11 fällt | K12: =IFERROR(Tabelle27[[#This Row],[Menge (t/a)]]/Tabelle27[[#This Row],[Anzahl Transporte]],"") | N12: =IFERROR(VLOOKUP(Tabelle27[[#This Row],[Transportmittel]],Emissionsfaktoren!$N$2:$P$11,3,FALSE),"") | O12: https://www.hansewasser.de/service/downloads/2024-05_emissionsfaktoren_spezifisch.xlsx | P12: =IFERROR((Tabelle27[[#This Row],[Menge pro Transport (t)]]*Tabelle27[[#This Row],[Transportweg zur Entsorgungsanlage Hin und Rückweg (km)]]*Tabelle27[[#This Row],[Emissionsfaktor Transport (kg CO2 eq/tkm)]]/1000)*Tabelle27[[#This Row],[Anzahl Transporte]],"") | Q12: =IF(VLOOKUP(Tabelle27[[#This Row],[Abfallschlüssel-nummer]],Emissionsfaktoren!$A$2:$K$67,MATCH(Tabelle27[[#This Row],[Verwertung/ Beseitigung]],Emissionsfaktoren!$A$1:$K$1,0)+1,FALSE)=0,"",VLOOKUP(Tabelle27[[#This Row],[Abfallschlüssel-nummer]],Emissionsfaktoren!$A$2:$K$67,MATCH(Tabelle27[[#This Row],[Verwertung/ Beseitigung]],Emissionsfaktoren!$A$1:$K$1,0)+1,FALSE)) -> #N/A | R12: =IF(VLOOKUP(Tabelle27[[#This Row],[Abfallschlüssel-nummer]],Emissionsfaktoren!$A$2:$K$67,MATCH(Tabelle27[[#This Row],[Verwertung/ Beseitigung]],Emissionsfaktoren!$A$1:$K$1,0)+2,FALSE)=0,"",VLOOKUP(Tabelle27[[#This Row],[Abfallschlüssel-nummer]],Emissionsfaktoren!$A$2:$K$67,MATCH(Tabelle27[[#This Row],[Verwertung/ Beseitigung]],Emissionsfaktoren!$A$1:$K$1,0)+2,FALSE)) -> #N/A | S12: =IFERROR(Tabelle27[[#This Row],[Menge (t/a)]]*Tabelle27[[#This Row],[Emissionsfaktor Behandlung (t CO2 eq/t)]],"") | T12: =IF(Tabelle27[[#This Row],[Emissionen Behandlung (t CO2 eq/a)]]="",0,Tabelle27[[#This Row],[Emissionen Behandlung (t CO2 eq/a)]])+IF(Tabelle27[[#This Row],[Emissionen Transport (t CO2 eq/a)]]="",0,Tabelle27[[#This Row],[Emissionen Transport (t CO2 eq/a)]]) -> 0
A13: 110198* | B13: =IF(MID(A13,7,1)="*","*","") -> * | C13: =IF(B13="*","gefährlich","nicht gefährlich") -> gefährlich | D13: 110198*/ andere Abfälle, die gefährliche Stoffe enthalten | K13: =IFERROR(Tabelle27[[#This Row],[Menge (t/a)]]/Tabelle27[[#This Row],[Anzahl Transporte]],"") | N13: =IFERROR(VLOOKUP(Tabelle27[[#This Row],[Transportmittel]],Emissionsfaktoren!$N$2:$P$11,3,FALSE),"") | O13: https://www.hansewasser.de/service/downloads/2024-05_emissionsfaktoren_spezifisch.xlsx | P13: =IFERROR((Tabelle27[[#This Row],[Menge pro Transport (t)]]*Tabelle27[[#This Row],[Transportweg zur Entsorgungsanlage Hin und Rückweg (km)]]*Tabelle27[[#This Row],[Emissionsfaktor Transport (kg CO2 eq/tkm)]]/1000)*Tabelle27[[#This Row],[Anzahl Transporte]],"") | Q13: =IF(VLOOKUP(Tabelle27[[#This Row],[Abfallschlüssel-nummer]],Emissionsfaktoren!$A$2:$K$67,MATCH(Tabelle27[[#This Row],[Verwertung/ Beseitigung]],Emissionsfaktoren!$A$1:$K$1,0)+1,FALSE)=0,"",VLOOKUP(Tabelle27[[#This Row],[Abfallschlüssel-nummer]],Emissionsfaktoren!$A$2:$K$67,MATCH(Tabelle27[[#This Row],[Verwertung/ Beseitigung]],Emissionsfaktoren!$A$1:$K$1,0)+1,FALSE)) -> #N/A | R13: =IF(VLOOKUP(Tabelle27[[#This Row],[Abfallschlüssel-nummer]],Emissionsfaktoren!$A$2:$K$67,MATCH(Tabelle27[[#This Row],[Verwertung/ Beseitigung]],Emissionsfaktoren!$A$1:$K$1,0)+2,FALSE)=0,"",VLOOKUP(Tabelle27[[#This Row],[Abfallschlüssel-nummer]],Emissionsfaktoren!$A$2:$K$67,MATCH(Tabelle27[[#This Row],[Verwertung/ Beseitigung]],Emissionsfaktoren!$A$1:$K$1,0)+2,FALSE)) -> #N/A | S13: =IFERROR(Tabelle27[[#This Row],[Menge (t/a)]]*Tabelle27[[#This Row],[Emissionsfaktor Behandlung (t CO2 eq/t)]],"") | T13: =IF(Tabelle27[[#This Row],[Emissionen Behandlung (t CO2 eq/a)]]="",0,Tabelle27[[#This Row],[Emissionen Behandlung (t CO2 eq/a)]])+IF(Tabelle27[[#This Row],[Emissionen Transport (t CO2 eq/a)]]="",0,Tabelle27[[#This Row],[Emissionen Transport (t CO2 eq/a)]]) -> 0
A14: 120105 | B14: =IF(MID(A14,7,1)="*","*","") | C14: =IF(B14="*","gefährlich","nicht gefährlich") -> nicht gefährlich | D14: 120105/ Kunststoffspäne und Drehspäne | K14: =IFERROR(Tabelle27[[#This Row],[Menge (t/a)]]/Tabelle27[[#This Row],[Anzahl Transporte]],"") | N14: =IFERROR(VLOOKUP(Tabelle27[[#This Row],[Transportmittel]],Emissionsfaktoren!$N$2:$P$11,3,FALSE),"") | O14: https://www.hansewasser.de/service/downloads/2024-05_emissionsfaktoren_spezifisch.xlsx | P14: =IFERROR((Tabelle27[[#This Row],[Menge pro Transport (t)]]*Tabelle27[[#This Row],[Transportweg zur Entsorgungsanlage Hin und Rückweg (km)]]*Tabelle27[[#This Row],[Emissionsfaktor Transport (kg CO2 eq/tkm)]]/1000)*Tabelle27[[#This Row],[Anzahl Transporte]],"") | Q14: =IF(VLOOKUP(Tabelle27[[#This Row],[Abfallschlüssel-nummer]],Emissionsfaktoren!$A$2:$K$67,MATCH(Tabelle27[[#This Row],[Verwertung/ Beseitigung]],Emissionsfaktoren!$A$1:$K$1,0)+1,FALSE)=0,"",VLOOKUP(Tabelle27[[#This Row],[Abfallschlüssel-nummer]],Emissionsfaktoren!$A$2:$K$67,MATCH(Tabelle27[[#This Row],[Verwertung/ Beseitigung]],Emissionsfaktoren!$A$1:$K$1,0)+1,FALSE)) -> #N/A | R14: =IF(VLOOKUP(Tabelle27[[#This Row],[Abfallschlüssel-nummer]],Emissionsfaktoren!$A$2:$K$67,MATCH(Tabelle27[[#This Row],[Verwertung/ Beseitigung]],Emissionsfaktoren!$A$1:$K$1,0)+2,FALSE)=0,"",VLOOKUP(Tabelle27[[#This Row],[Abfallschlüssel-nummer]],Emissionsfaktoren!$A$2:$K$67,MATCH(Tabelle27[[#This Row],[Verwertung/ Beseitigung]],Emissionsfaktoren!$A$1:$K$1,0)+2,FALSE)) -> #N/A | S14: =IFERROR(Tabelle27[[#This Row],[Menge (t/a)]]*Tabelle27[[#This Row],[Emissionsfaktor Behandlung (t CO2 eq/t)]],"") | T14: =IF(Tabelle27[[#This Row],[Emissionen Behandlung (t CO2 eq/a)]]="",0,Tabelle27[[#This Row],[Emissionen Behandlung (t CO2 eq/a)]])+IF(Tabelle27[[#This Row],[Emissionen Transport (t CO2 eq/a)]]="",0,Tabelle27[[#This Row],[Emissionen Transport (t CO2 eq/a)]]) -> 0
A15: 120109* | B15: =IF(MID(A15,7,1)="*","*","") -> * | C15: =IF(B15="*","gefährlich","nicht gefährlich") -> gefährlich | D15: 120109*/ halogenfreie Bearbeitungsemulsionen und -lösungen | K15: =IFERROR(Tabelle27[[#This Row],[Menge (t/a)]]/Tabelle27[[#This Row],[Anzahl Transporte]],"") | N15: =IFERROR(VLOOKUP(Tabelle27[[#This Row],[Transportmittel]],Emissionsfaktoren!$N$2:$P$11,3,FALSE),"") | O15: https://www.hansewasser.de/service/downloads/2024-05_emissionsfaktoren_spezifisch.xlsx | P15: =IFERROR((Tabelle27[[#This Row],[Menge pro Transport (t)]]*Tabelle27[[#This Row],[Transportweg zur Entsorgungsanlage Hin und Rückweg (km)]]*Tabelle27[[#This Row],[Emissionsfaktor Transport (kg CO2 eq/tkm)]]/1000)*Tabelle27[[#This Row],[Anzahl Transporte]],"") | Q15: =IF(VLOOKUP(Tabelle27[[#This Row],[Abfallschlüssel-nummer]],Emissionsfaktoren!$A$2:$K$67,MATCH(Tabelle27[[#This Row],[Verwertung/ Beseitigung]],Emissionsfaktoren!$A$1:$K$1,0)+1,FALSE)=0,"",VLOOKUP(Tabelle27[[#This Row],[Abfallschlüssel-nummer]],Emissionsfaktoren!$A$2:$K$67,MATCH(Tabelle27[[#This Row],[Verwertung/ Beseitigung]],Emissionsfaktoren!$A$1:$K$1,0)+1,FALSE)) -> #N/A | R15: =IF(VLOOKUP(Tabelle27[[#This Row],[Abfallschlüssel-nummer]],Emissionsfaktoren!$A$2:$K$67,MATCH(Tabelle27[[#This Row],[Verwertung/ Beseitigung]],Emissionsfaktoren!$A$1:$K$1,0)+2,FALSE)=0,"",VLOOKUP(Tabelle27[[#This Row],[Abfallschlüssel-nummer]],Emissionsfaktoren!$A$2:$K$67,MATCH(Tabelle27[[#This Row],[Verwertung/ Beseitigung]],Emissionsfaktoren!$A$1:$K$1,0)+2,FALSE)) -> #N/A | S15: =IFERROR(Tabelle27[[#This Row],[Menge (t/a)]]*Tabelle27[[#This Row],[Emissionsfaktor Behandlung (t CO2 eq/t)]],"") | T15: =IF(Tabelle27[[#This Row],[Emissionen Behandlung (t CO2 eq/a)]]="",0,Tabelle27[[#This Row],[Emissionen Behandlung (t CO2 eq/a)]])+IF(Tabelle27[[#This Row],[Emissionen Transport (t CO2 eq/a)]]="",0,Tabelle27[[#This Row],[Emissionen Transport (t CO2 eq/a)]]) -> 0
A16: 120112* | B16: =IF(MID(A16,7,1)="*","*","") -> * | C16: =IF(B16="*","gefährlich","nicht gefährlich") -> gefährlich | D16: 120112*/ Gebrauchte Wachse und Fette | K16: =IFERROR(Tabelle27[[#This Row],[Menge (t/a)]]/Tabelle27[[#This Row],[Anzahl Transporte]],"") | N16: =IFERROR(VLOOKUP(Tabelle27[[#This Row],[Transportmittel]],Emissionsfaktoren!$N$2:$P$11,3,FALSE),"") | O16: https://www.hansewasser.de/service/downloads/2024-05_emissionsfaktoren_spezifisch.xlsx | P16: =IFERROR((Tabelle27[[#This Row],[Menge pro Transport (t)]]*Tabelle27[[#This Row],[Transportweg zur Entsorgungsanlage Hin und Rückweg (km)]]*Tabelle27[[#This Row],[Emissionsfaktor Transport (kg CO2 eq/tkm)]]/1000)*Tabelle27[[#This Row],[Anzahl Transporte]],"") | Q16: =IF(VLOOKUP(Tabelle27[[#This Row],[Abfallschlüssel-nummer]],Emissionsfaktoren!$A$2:$K$67,MATCH(Tabelle27[[#This Row],[Verwertung/ Beseitigung]],Emissionsfaktoren!$A$1:$K$1,0)+1,FALSE)=0,"",VLOOKUP(Tabelle27[[#This Row],[Abfallschlüssel-nummer]],Emissionsfaktoren!$A$2:$K$67,MATCH(Tabelle27[[#This Row],[Verwertung/ Beseitigung]],Emissionsfaktoren!$A$1:$K$1,0)+1,FALSE)) -> #N/A | R16: =IF(VLOOKUP(Tabelle27[[#This Row],[Abfallschlüssel-nummer]],Emissionsfaktoren!$A$2:$K$67,MATCH(Tabelle27[[#This Row],[Verwertung/ Beseitigung]],Emissionsfaktoren!$A$1:$K$1,0)+2,FALSE)=0,"",VLOOKUP(Tabelle27[[#This Row],[Abfallschlüssel-nummer]],Emissionsfaktoren!$A$2:$K$67,MATCH(Tabelle27[[#This Row],[Verwertung/ Beseitigung]],Emissionsfaktoren!$A$1:$K$1,0)+2,FALSE)) -> #N/A | S16: =IFERROR(Tabelle27[[#This Row],[Menge (t/a)]]*Tabelle27[[#This Row],[Emissionsfaktor Behandlung (t CO2 eq/t)]],"") | T16: =IF(Tabelle27[[#This Row],[Emissionen Behandlung (t CO2 eq/a)]]="",0,Tabelle27[[#This Row],[Emissionen Behandlung (t CO2 eq/a)]])+IF(Tabelle27[[#This Row],[Emissionen Transport (t CO2 eq/a)]]="",0,Tabelle27[[#This Row],[Emissionen Transport (t CO2 eq/a)]]) -> 0
A17: 130205* | B17: * | C17: =IF(B17="*","gefährlich","nicht gefährlich") -> gefährlich | D17: 130205*/ nichtchlorierte Maschinen-, Getriebe- und Schmieröle auf Mineralölbasis | K17: =IFERROR(Tabelle27[[#This Row],[Menge (t/a)]]/Tabelle27[[#This Row],[Anzahl Transporte]],"") | N17: =IFERROR(VLOOKUP(Tabelle27[[#This Row],[Transportmittel]],Emissionsfaktoren!$N$2:$P$11,3,FALSE),"") | O17: https://www.hansewasser.de/service/downloads/2024-05_emissionsfaktoren_spezifisch.xlsx | P17: =IFERROR((Tabelle27[[#This Row],[Menge pro Transport (t)]]*Tabelle27[[#This Row],[Transportweg zur Entsorgungsanlage Hin und Rückweg (km)]]*Tabelle27[[#This Row],[Emissionsfaktor Transport (kg CO2 eq/tkm)]]/1000)*Tabelle27[[#This Row],[Anzahl Transporte]],"") | Q17: =IF(VLOOKUP(Tabelle27[[#This Row],[Abfallschlüssel-nummer]],Emissionsfaktoren!$A$2:$K$67,MATCH(Tabelle27[[#This Row],[Verwertung/ Beseitigung]],Emissionsfaktoren!$A$1:$K$1,0)+1,FALSE)=0,"",VLOOKUP(Tabelle27[[#This Row],[Abfallschlüssel-nummer]],Emissionsfaktoren!$A$2:$K$67,MATCH(Tabelle27[[#This Row],[Verwertung/ Beseitigung]],Emissionsfaktoren!$A$1:$K$1,0)+1,FALSE)) -> #N/A | R17: =IF(VLOOKUP(Tabelle27[[#This Row],[Abfallschlüssel-nummer]],Emissionsfaktoren!$A$2:$K$67,MATCH(Tabelle27[[#This Row],[Verwertung/ Beseitigung]],Emissionsfaktoren!$A$1:$K$1,0)+2,FALSE)=0,"",VLOOKUP(Tabelle27[[#This Row],[Abfallschlüssel-nummer]],Emissionsfaktoren!$A$2:$K$67,MATCH(Tabelle27[[#This Row],[Verwertung/ Beseitigung]],Emissionsfaktoren!$A$1:$K$1,0)+2,FALSE)) -> #N/A | S17: =IFERROR(Tabelle27[[#This Row],[Menge (t/a)]]*Tabelle27[[#This Row],[Emissionsfaktor Behandlung (t CO2 eq/t)]],"") | T17: =IF(Tabelle27[[#This Row],[Emissionen Behandlung (t CO2 eq/a)]]="",0,Tabelle27[[#This Row],[Emissionen Behandlung (t CO2 eq/a)]])+IF(Tabelle27[[#This Row],[Emissionen Transport (t CO2 eq/a)]]="",0,Tabelle27[[#This Row],[Emissionen Transport (t CO2 eq/a)]]) -> 0
A18: 130205* | B18: =IF(MID(A18,7,1)="*","*","") -> * | C18: =IF(B18="*","gefährlich","nicht gefährlich") -> gefährlich | D18: 130205*/ nichtchlorierte Maschinen-, Getriebe- und Schmieröle auf Mineralölbasis | K18: =IFERROR(Tabelle27[[#This Row],[Menge (t/a)]]/Tabelle27[[#This Row],[Anzahl Transporte]],"") | N18: =IFERROR(VLOOKUP(Tabelle27[[#This Row],[Transportmittel]],Emissionsfaktoren!$N$2:$P$11,3,FALSE),"") | O18: https://www.hansewasser.de/service/downloads/2024-05_emissionsfaktoren_spezifisch.xlsx | P18: =IFERROR((Tabelle27[[#This Row],[Menge pro Transport (t)]]*Tabelle27[[#This Row],[Transportweg zur Entsorgungsanlage Hin und Rückweg (km)]]*Tabelle27[[#This Row],[Emissionsfaktor Transport (kg CO2 eq/tkm)]]/1000)*Tabelle27[[#This Row],[Anzahl Transporte]],"") | Q18: =IF(VLOOKUP(Tabelle27[[#This Row],[Abfallschlüssel-nummer]],Emissionsfaktoren!$A$2:$K$67,MATCH(Tabelle27[[#This Row],[Verwertung/ Beseitigung]],Emissionsfaktoren!$A$1:$K$1,0)+1,FALSE)=0,"",VLOOKUP(Tabelle27[[#This Row],[Abfallschlüssel-nummer]],Emissionsfaktoren!$A$2:$K$67,MATCH(Tabelle27[[#This Row],[Verwertung/ Beseitigung]],Emissionsfaktoren!$A$1:$K$1,0)+1,FALSE)) -> #N/A | R18: =IF(VLOOKUP(Tabelle27[[#This Row],[Abfallschlüssel-nummer]],Emissionsfaktoren!$A$2:$K$67,MATCH(Tabelle27[[#This Row],[Verwertung/ Beseitigung]],Emissionsfaktoren!$A$1:$K$1,0)+2,FALSE)=0,"",VLOOKUP(Tabelle27[[#This Row],[Abfallschlüssel-nummer]],Emissionsfaktoren!$A$2:$K$67,MATCH(Tabelle27[[#This Row],[Verwertung/ Beseitigung]],Emissionsfaktoren!$A$1:$K$1,0)+2,FALSE)) -> #N/A | S18: =IFERROR(Tabelle27[[#This Row],[Menge (t/a)]]*Tabelle27[[#This Row],[Emissionsfaktor Behandlung (t CO2 eq/t)]],"") | T18: =IF(Tabelle27[[#This Row],[Emissionen Behandlung (t CO2 eq/a)]]="",0,Tabelle27[[#This Row],[Emissionen Behandlung (t CO2 eq/a)]])+IF(Tabelle27[[#This Row],[Emissionen Transport (t CO2 eq/a)]]="",0,Tabelle27[[#This Row],[Emissionen Transport (t CO2 eq/a)]]) -> 0
A19: 130502* | B19: * | C19: =IF(B19="*","gefährlich","nicht gefährlich") -> gefährlich | D19: 130502*/Schlämme aus Öl-/Wasserabscheider | K19: =IFERROR(Tabelle27[[#This Row],[Menge (t/a)]]/Tabelle27[[#This Row],[Anzahl Transporte]],"") | N19: =IFERROR(VLOOKUP(Tabelle27[[#This Row],[Transportmittel]],Emissionsfaktoren!$N$2:$P$11,3,FALSE),"") | O19: https://www.hansewasser.de/service/downloads/2024-05_emissionsfaktoren_spezifisch.xlsx | P19: =IFERROR((Tabelle27[[#This Row],[Menge pro Transport (t)]]*Tabelle27[[#This Row],[Transportweg zur Entsorgungsanlage Hin und Rückweg (km)]]*Tabelle27[[#This Row],[Emissionsfaktor Transport (kg CO2 eq/tkm)]]/1000)*Tabelle27[[#This Row],[Anzahl Transporte]],"") | Q19: =IF(VLOOKUP(Tabelle27[[#This Row],[Abfallschlüssel-nummer]],Emissionsfaktoren!$A$2:$K$67,MATCH(Tabelle27[[#This Row],[Verwertung/ Beseitigung]],Emissionsfaktoren!$A$1:$K$1,0)+1,FALSE)=0,"",VLOOKUP(Tabelle27[[#This Row],[Abfallschlüssel-nummer]],Emissionsfaktoren!$A$2:$K$67,MATCH(Tabelle27[[#This Row],[Verwertung/ Beseitigung]],Emissionsfaktoren!$A$1:$K$1,0)+1,FALSE)) -> #N/A | R19: =IF(VLOOKUP(Tabelle27[[#This Row],[Abfallschlüssel-nummer]],Emissionsfaktoren!$A$2:$K$67,MATCH(Tabelle27[[#This Row],[Verwertung/ Beseitigung]],Emissionsfaktoren!$A$1:$K$1,0)+2,FALSE)=0,"",VLOOKUP(Tabelle27[[#This Row],[Abfallschlüssel-nummer]],Emissionsfaktoren!$A$2:$K$67,MATCH(Tabelle27[[#This Row],[Verwertung/ Beseitigung]],Emissionsfaktoren!$A$1:$K$1,0)+2,FALSE)) -> #N/A | S19: =IFERROR(Tabelle27[[#This Row],[Menge (t/a)]]*Tabelle27[[#This Row],[Emissionsfaktor Behandlung (t CO2 eq/t)]],"") | T19: =IF(Tabelle27[[#This Row],[Emissionen Behandlung (t CO2 eq/a)]]="",0,Tabelle27[[#This Row],[Emissionen Behandlung (t CO2 eq/a)]])+IF(Tabelle27[[#This Row],[Emissionen Transport (t CO2 eq/a)]]="",0,Tabelle27[[#This Row],[Emissionen Transport (t CO2 eq/a)]]) -> 0
A20: 130502* | B20: =IF(MID(A20,7,1)="*","*","") -> * | C20: =IF(B20="*","gefährlich","nicht gefährlich") -> gefährlich | D20: 130502*/Schlämme aus Öl-/Wasserabscheider | K20: =IFERROR(Tabelle27[[#This Row],[Menge (t/a)]]/Tabelle27[[#This Row],[Anzahl Transporte]],"") | N20: =IFERROR(VLOOKUP(Tabelle27[[#This Row],[Transportmittel]],Emissionsfaktoren!$N$2:$P$11,3,FALSE),"") | O20: https://www.hansewasser.de/service/downloads/2024-05_emissionsfaktoren_spezifisch.xlsx | P20: =IFERROR((Tabelle27[[#This Row],[Menge pro Transport (t)]]*Tabelle27[[#This Row],[Transportweg zur Entsorgungsanlage Hin und Rückweg (km)]]*Tabelle27[[#This Row],[Emissionsfaktor Transport (kg CO2 eq/tkm)]]/1000)*Tabelle27[[#This Row],[Anzahl Transporte]],"") | Q20: =IF(VLOOKUP(Tabelle27[[#This Row],[Abfallschlüssel-nummer]],Emissionsfaktoren!$A$2:$K$67,MATCH(Tabelle27[[#This Row],[Verwertung/ Beseitigung]],Emissionsfaktoren!$A$1:$K$1,0)+1,FALSE)=0,"",VLOOKUP(Tabelle27[[#This Row],[Abfallschlüssel-nummer]],Emissionsfaktoren!$A$2:$K$67,MATCH(Tabelle27[[#This Row],[Verwertung/ Beseitigung]],Emissionsfaktoren!$A$1:$K$1,0)+1,FALSE)) -> #N/A | R20: =IF(VLOOKUP(Tabelle27[[#This Row],[Abfallschlüssel-nummer]],Emissionsfaktoren!$A$2:$K$67,MATCH(Tabelle27[[#This Row],[Verwertung/ Beseitigung]],Emissionsfaktoren!$A$1:$K$1,0)+2,FALSE)=0,"",VLOOKUP(Tabelle27[[#This Row],[Abfallschlüssel-nummer]],Emissionsfaktoren!$A$2:$K$67,MATCH(Tabelle27[[#This Row],[Verwertung/ Beseitigung]],Emissionsfaktoren!$A$1:$K$1,0)+2,FALSE)) -> #N/A | S20: =IFERROR(Tabelle27[[#This Row],[Menge (t/a)]]*Tabelle27[[#This Row],[Emissionsfaktor Behandlung (t CO2 eq/t)]],"") | T20: =IF(Tabelle27[[#This Row],[Emissionen Behandlung (t CO2 eq/a)]]="",0,Tabelle27[[#This Row],[Emissionen Behandlung (t CO2 eq/a)]])+IF(Tabelle27[[#This Row],[Emissionen Transport (t CO2 eq/a)]]="",0,Tabelle27[[#This Row],[Emissionen Transport (t CO2 eq/a)]]) -> 0
A21: 130503* | B21: =IF(MID(A21,7,1)="*","*","") -> * | C21: =IF(B21="*","gefährlich","nicht gefährlich") -> gefährlich | D21: 130503*/ Schlämme aus Einlaufschächten | K21: =IFERROR(Tabelle27[[#This Row],[Menge (t/a)]]/Tabelle27[[#This Row],[Anzahl Transporte]],"") | N21: =IFERROR(VLOOKUP(Tabelle27[[#This Row],[Transportmittel]],Emissionsfaktoren!$N$2:$P$11,3,FALSE),"") | O21: https://www.hansewasser.de/service/downloads/2024-05_emissionsfaktoren_spezifisch.xlsx | P21: =IFERROR((Tabelle27[[#This Row],[Menge pro Transport (t)]]*Tabelle27[[#This Row],[Transportweg zur Entsorgungsanlage Hin und Rückweg (km)]]*Tabelle27[[#This Row],[Emissionsfaktor Transport (kg CO2 eq/tkm)]]/1000)*Tabelle27[[#This Row],[Anzahl Transporte]],"") | Q21: =IF(VLOOKUP(Tabelle27[[#This Row],[Abfallschlüssel-nummer]],Emissionsfaktoren!$A$2:$K$67,MATCH(Tabelle27[[#This Row],[Verwertung/ Beseitigung]],Emissionsfaktoren!$A$1:$K$1,0)+1,FALSE)=0,"",VLOOKUP(Tabelle27[[#This Row],[Abfallschlüssel-nummer]],Emissionsfaktoren!$A$2:$K$67,MATCH(Tabelle27[[#This Row],[Verwertung/ Beseitigung]],Emissionsfaktoren!$A$1:$K$1,0)+1,FALSE)) -> #N/A | R21: =IF(VLOOKUP(Tabelle27[[#This Row],[Abfallschlüssel-nummer]],Emissionsfaktoren!$A$2:$K$67,MATCH(Tabelle27[[#This Row],[Verwertung/ Beseitigung]],Emissionsfaktoren!$A$1:$K$1,0)+2,FALSE)=0,"",VLOOKUP(Tabelle27[[#This Row],[Abfallschlüssel-nummer]],Emissionsfaktoren!$A$2:$K$67,MATCH(Tabelle27[[#This Row],[Verwertung/ Beseitigung]],Emissionsfaktoren!$A$1:$K$1,0)+2,FALSE)) -> #N/A | S21: =IFERROR(Tabelle27[[#This Row],[Menge (t/a)]]*Tabelle27[[#This Row],[Emissionsfaktor Behandlung (t CO2 eq/t)]],"") | T21: =IF(Tabelle27[[#This Row],[Emissionen Behandlung (t CO2 eq/a)]]="",0,Tabelle27[[#This Row],[Emissionen Behandlung (t CO2 eq/a)]])+IF(Tabelle27[[#This Row],[Emissionen Transport (t CO2 eq/a)]]="",0,Tabelle27[[#This Row],[Emissionen Transport (t CO2 eq/a)]]) -> 0
A22: 130508* | B22: =IF(MID(A22,7,1)="*","*","") -> * | C22: =IF(B22="*","gefährlich","nicht gefährlich") -> gefährlich | D22: 130508*/ Abfallgemische aus Sandfanganlagen und Öl- und Wasserabscheider | K22: =IFERROR(Tabelle27[[#This Row],[Menge (t/a)]]/Tabelle27[[#This Row],[Anzahl Transporte]],"") | N22: =IFERROR(VLOOKUP(Tabelle27[[#This Row],[Transportmittel]],Emissionsfaktoren!$N$2:$P$11,3,FALSE),"") | O22: https://www.hansewasser.de/service/downloads/2024-05_emissionsfaktoren_spezifisch.xlsx | P22: =IFERROR((Tabelle27[[#This Row],[Menge pro Transport (t)]]*Tabelle27[[#This Row],[Transportweg zur Entsorgungsanlage Hin und Rückweg (km)]]*Tabelle27[[#This Row],[Emissionsfaktor Transport (kg CO2 eq/tkm)]]/1000)*Tabelle27[[#This Row],[Anzahl Transporte]],"") | Q22: =IF(VLOOKUP(Tabelle27[[#This Row],[Abfallschlüssel-nummer]],Emissionsfaktoren!$A$2:$K$67,MATCH(Tabelle27[[#This Row],[Verwertung/ Beseitigung]],Emissionsfaktoren!$A$1:$K$1,0)+1,FALSE)=0,"",VLOOKUP(Tabelle27[[#This Row],[Abfallschlüssel-nummer]],Emissionsfaktoren!$A$2:$K$67,MATCH(Tabelle27[[#This Row],[Verwertung/ Beseitigung]],Emissionsfaktoren!$A$1:$K$1,0)+1,FALSE)) -> #N/A | R22: =IF(VLOOKUP(Tabelle27[[#This Row],[Abfallschlüssel-nummer]],Emissionsfaktoren!$A$2:$K$67,MATCH(Tabelle27[[#This Row],[Verwertung/ Beseitigung]],Emissionsfaktoren!$A$1:$K$1,0)+2,FALSE)=0,"",VLOOKUP(Tabelle27[[#This Row],[Abfallschlüssel-nummer]],Emissionsfaktoren!$A$2:$K$67,MATCH(Tabelle27[[#This Row],[Verwertung/ Beseitigung]],Emissionsfaktoren!$A$1:$K$1,0)+2,FALSE)) -> #N/A | S22: =IFERROR(Tabelle27[[#This Row],[Menge (t/a)]]*Tabelle27[[#This Row],[Emissionsfaktor Behandlung (t CO2 eq/t)]],"") | T22: =IF(Tabelle27[[#This Row],[Emissionen Behandlung (t CO2 eq/a)]]="",0,Tabelle27[[#This Row],[Emissionen Behandlung (t CO2 eq/a)]])+IF(Tabelle27[[#This Row],[Emissionen Transport (t CO2 eq/a)]]="",0,Tabelle27[[#This Row],[Emissionen Transport (t CO2 eq/a)]]) -> 0
A23: 130802* | B23: =IF(MID(A23,7,1)="*","*","") -> * | C23: =IF(B23="*","gefährlich","nicht gefährlich") -> gefährlich | D23: 130802*/ andere Emulsionen | K23: =IFERROR(Tabelle27[[#This Row],[Menge (t/a)]]/Tabelle27[[#This Row],[Anzahl Transporte]],"") | N23: =IFERROR(VLOOKUP(Tabelle27[[#This Row],[Transportmittel]],Emissionsfaktoren!$N$2:$P$11,3,FALSE),"") | O23: https://www.hansewasser.de/service/downloads/2024-05_emissionsfaktoren_spezifisch.xlsx | P23: =IFERROR((Tabelle27[[#This Row],[Menge pro Transport (t)]]*Tabelle27[[#This Row],[Transportweg zur Entsorgungsanlage Hin und Rückweg (km)]]*Tabelle27[[#This Row],[Emissionsfaktor Transport (kg CO2 eq/tkm)]]/1000)*Tabelle27[[#This Row],[Anzahl Transporte]],"") | Q23: =IF(VLOOKUP(Tabelle27[[#This Row],[Abfallschlüssel-nummer]],Emissionsfaktoren!$A$2:$K$67,MATCH(Tabelle27[[#This Row],[Verwertung/ Beseitigung]],Emissionsfaktoren!$A$1:$K$1,0)+1,FALSE)=0,"",VLOOKUP(Tabelle27[[#This Row],[Abfallschlüssel-nummer]],Emissionsfaktoren!$A$2:$K$67,MATCH(Tabelle27[[#This Row],[Verwertung/ Beseitigung]],Emissionsfaktoren!$A$1:$K$1,0)+1,FALSE)) -> #N/A | R23: =IF(VLOOKUP(Tabelle27[[#This Row],[Abfallschlüssel-nummer]],Emissionsfaktoren!$A$2:$K$67,MATCH(Tabelle27[[#This Row],[Verwertung/ Beseitigung]],Emissionsfaktoren!$A$1:$K$1,0)+2,FALSE)=0,"",VLOOKUP(Tabelle27[[#This Row],[Abfallschlüssel-nummer]],Emissionsfaktoren!$A$2:$K$67,MATCH(Tabelle27[[#This Row],[Verwertung/ Beseitigung]],Emissionsfaktoren!$A$1:$K$1,0)+2,FALSE)) -> #N/A | S23: =IFERROR(Tabelle27[[#This Row],[Menge (t/a)]]*Tabelle27[[#This Row],[Emissionsfaktor Behandlung (t CO2 eq/t)]],"") | T23: =IF(Tabelle27[[#This Row],[Emissionen Behandlung (t CO2 eq/a)]]="",0,Tabelle27[[#This Row],[Emissionen Behandlung (t CO2 eq/a)]])+IF(Tabelle27[[#This Row],[Emissionen Transport (t CO2 eq/a)]]="",0,Tabelle27[[#This Row],[Emissionen Transport (t CO2 eq/a)]]) -> 0
A24: 150101 | B24: =IF(MID(A24,7,1)="*","*","") | C24: =IF(B24="*","gefährlich","nicht gefährlich") -> nicht gefährlich | D24: 150101/ Verpackungen aus Papier und Pappe | K24: =IFERROR(Tabelle27[[#This Row],[Menge (t/a)]]/Tabelle27[[#This Row],[Anzahl Transporte]],"") | N24: =IFERROR(VLOOKUP(Tabelle27[[#This Row],[Transportmittel]],Emissionsfaktoren!$N$2:$P$11,3,FALSE),"") | O24: https://www.hansewasser.de/service/downloads/2024-05_emissionsfaktoren_spezifisch.xlsx | P24: =IFERROR((Tabelle27[[#This Row],[Menge pro Transport (t)]]*Tabelle27[[#This Row],[Transportweg zur Entsorgungsanlage Hin und Rückweg (km)]]*Tabelle27[[#This Row],[Emissionsfaktor Transport (kg CO2 eq/tkm)]]/1000)*Tabelle27[[#This Row],[Anzahl Transporte]],"") | Q24: =IF(VLOOKUP(Tabelle27[[#This Row],[Abfallschlüssel-nummer]],Emissionsfaktoren!$A$2:$K$67,MATCH(Tabelle27[[#This Row],[Verwertung/ Beseitigung]],Emissionsfaktoren!$A$1:$K$1,0)+1,FALSE)=0,"",VLOOKUP(Tabelle27[[#This Row],[Abfallschlüssel-nummer]],Emissionsfaktoren!$A$2:$K$67,MATCH(Tabelle27[[#This Row],[Verwertung/ Beseitigung]],Emissionsfaktoren!$A$1:$K$1,0)+1,FALSE)) -> #N/A | R24: =IF(VLOOKUP(Tabelle27[[#This Row],[Abfallschlüssel-nummer]],Emissionsfaktoren!$A$2:$K$67,MATCH(Tabelle27[[#This Row],[Verwertung/ Beseitigung]],Emissionsfaktoren!$A$1:$K$1,0)+2,FALSE)=0,"",VLOOKUP(Tabelle27[[#This Row],[Abfallschlüssel-nummer]],Emissionsfaktoren!$A$2:$K$67,MATCH(Tabelle27[[#This Row],[Verwertung/ Beseitigung]],Emissionsfaktoren!$A$1:$K$1,0)+2,FALSE)) -> #N/A | S24: =IFERROR(Tabelle27[[#This Row],[Menge (t/a)]]*Tabelle27[[#This Row],[Emissionsfaktor Behandlung (t CO2 eq/t)]],"") | T24: =IF(Tabelle27[[#This Row],[Emissionen Behandlung (t CO2 eq/a)]]="",0,Tabelle27[[#This Row],[Emissionen Behandlung (t CO2 eq/a)]])+IF(Tabelle27[[#This Row],[Emissionen Transport (t CO2 eq/a)]]="",0,Tabelle27[[#This Row],[Emissionen Transport (t CO2 eq/a)]]) -> 0
A25: 150102 | B25: =IF(MID(A25,7,1)="*","*","") | C25: =IF(B25="*","gefährlich","nicht gefährlich") -> nicht gefährlich | D25: 150102/ Verpackungen aus Kunststoff | K25: =IFERROR(Tabelle27[[#This Row],[Menge (t/a)]]/Tabelle27[[#This Row],[Anzahl Transporte]],"") | N25: =IFERROR(VLOOKUP(Tabelle27[[#This Row],[Transportmittel]],Emissionsfaktoren!$N$2:$P$11,3,FALSE),"") | O25: https://www.hansewasser.de/service/downloads/2024-05_emissionsfaktoren_spezifisch.xlsx | P25: =IFERROR((Tabelle27[[#This Row],[Menge pro Transport (t)]]*Tabelle27[[#This Row],[Transportweg zur Entsorgungsanlage Hin und Rückweg (km)]]*Tabelle27[[#This Row],[Emissionsfaktor Transport (kg CO2 eq/tkm)]]/1000)*Tabelle27[[#This Row],[Anzahl Transporte]],"") | Q25: =IF(VLOOKUP(Tabelle27[[#This Row],[Abfallschlüssel-nummer]],Emissionsfaktoren!$A$2:$K$67,MATCH(Tabelle27[[#This Row],[Verwertung/ Beseitigung]],Emissionsfaktoren!$A$1:$K$1,0)+1,FALSE)=0,"",VLOOKUP(Tabelle27[[#This Row],[Abfallschlüssel-nummer]],Emissionsfaktoren!$A$2:$K$67,MATCH(Tabelle27[[#This Row],[Verwertung/ Beseitigung]],Emissionsfaktoren!$A$1:$K$1,0)+1,FALSE)) -> #N/A | R25: =IF(VLOOKUP(Tabelle27[[#This Row],[Abfallschlüssel-nummer]],Emissionsfaktoren!$A$2:$K$67,MATCH(Tabelle27[[#This Row],[Verwertung/ Beseitigung]],Emissionsfaktoren!$A$1:$K$1,0)+2,FALSE)=0,"",VLOOKUP(Tabelle27[[#This Row],[Abfallschlüssel-nummer]],Emissionsfaktoren!$A$2:$K$67,MATCH(Tabelle27[[#This Row],[Verwertung/ Beseitigung]],Emissionsfaktoren!$A$1:$K$1,0)+2,FALSE)) -> #N/A | S25: =IFERROR(Tabelle27[[#This Row],[Menge (t/a)]]*Tabelle27[[#This Row],[Emissionsfaktor Behandlung (t CO2 eq/t)]],"") | T25: =IF(Tabelle27[[#This Row],[Emissionen Behandlung (t CO2 eq/a)]]="",0,Tabelle27[[#This Row],[Emissionen Behandlung (t CO2 eq/a)]])+IF(Tabelle27[[#This Row],[Emissionen Transport (t CO2 eq/a)]]="",0,Tabelle27[[#This Row],[Emissionen Transport (t CO2 eq/a)]]) -> 0
A26: 150106 | B26: =IF(MID(A26,7,1)="*","*","") | C26: =IF(B26="*","gefährlich","nicht gefährlich") -> nicht gefährlich | D26: 150106/ gemischte Verpackungen | K26: =IFERROR(Tabelle27[[#This Row],[Menge (t/a)]]/Tabelle27[[#This Row],[Anzahl Transporte]],"") | N26: =IFERROR(VLOOKUP(Tabelle27[[#This Row],[Transportmittel]],Emissionsfaktoren!$N$2:$P$11,3,FALSE),"") | O26: https://www.hansewasser.de/service/downloads/2024-05_emissionsfaktoren_spezifisch.xlsx | P26: =IFERROR((Tabelle27[[#This Row],[Menge pro Transport (t)]]*Tabelle27[[#This Row],[Transportweg zur Entsorgungsanlage Hin und Rückweg (km)]]*Tabelle27[[#This Row],[Emissionsfaktor Transport (kg CO2 eq/tkm)]]/1000)*Tabelle27[[#This Row],[Anzahl Transporte]],"") | Q26: =IF(VLOOKUP(Tabelle27[[#This Row],[Abfallschlüssel-nummer]],Emissionsfaktoren!$A$2:$K$67,MATCH(Tabelle27[[#This Row],[Verwertung/ Beseitigung]],Emissionsfaktoren!$A$1:$K$1,0)+1,FALSE)=0,"",VLOOKUP(Tabelle27[[#This Row],[Abfallschlüssel-nummer]],Emissionsfaktoren!$A$2:$K$67,MATCH(Tabelle27[[#This Row],[Verwertung/ Beseitigung]],Emissionsfaktoren!$A$1:$K$1,0)+1,FALSE)) -> #N/A | R26: =IF(VLOOKUP(Tabelle27[[#This Row],[Abfallschlüssel-nummer]],Emissionsfaktoren!$A$2:$K$67,MATCH(Tabelle27[[#This Row],[Verwertung/ Beseitigung]],Emissionsfaktoren!$A$1:$K$1,0)+2,FALSE)=0,"",VLOOKUP(Tabelle27[[#This Row],[Abfallschlüssel-nummer]],Emissionsfaktoren!$A$2:$K$67,MATCH(Tabelle27[[#This Row],[Verwertung/ Beseitigung]],Emissionsfaktoren!$A$1:$K$1,0)+2,FALSE)) -> #N/A | S26: =IFERROR(Tabelle27[[#This Row],[Menge (t/a)]]*Tabelle27[[#This Row],[Emissionsfaktor Behandlung (t CO2 eq/t)]],"") | T26: =IF(Tabelle27[[#This Row],[Emissionen Behandlung (t CO2 eq/a)]]="",0,Tabelle27[[#This Row],[Emissionen Behandlung (t CO2 eq/a)]])+IF(Tabelle27[[#This Row],[Emissionen Transport (t CO2 eq/a)]]="",0,Tabelle27[[#This Row],[Emissionen Transport (t CO2 eq/a)]]) -> 0
A27: 150110* | B27: =IF(MID(A27,7,1)="*","*","") -> * | C27: =IF(B27="*","gefährlich","nicht gefährlich") -> gefährlich | D27: 150110*/ Verpackungen, die Rückstände gefährlicher Stoffe enthalten oder durch gefährliche Stoffe verunreinigt sind | K27: =IFERROR(Tabelle27[[#This Row],[Menge (t/a)]]/Tabelle27[[#This Row],[Anzahl Transporte]],"") | N27: =IFERROR(VLOOKUP(Tabelle27[[#This Row],[Transportmittel]],Emissionsfaktoren!$N$2:$P$11,3,FALSE),"") | O27: https://www.hansewasser.de/service/downloads/2024-05_emissionsfaktoren_spezifisch.xlsx | P27: =IFERROR((Tabelle27[[#This Row],[Menge pro Transport (t)]]*Tabelle27[[#This Row],[Transportweg zur Entsorgungsanlage Hin und Rückweg (km)]]*Tabelle27[[#This Row],[Emissionsfaktor Transport (kg CO2 eq/tkm)]]/1000)*Tabelle27[[#This Row],[Anzahl Transporte]],"") | Q27: =IF(VLOOKUP(Tabelle27[[#This Row],[Abfallschlüssel-nummer]],Emissionsfaktoren!$A$2:$K$67,MATCH(Tabelle27[[#This Row],[Verwertung/ Beseitigung]],Emissionsfaktoren!$A$1:$K$1,0)+1,FALSE)=0,"",VLOOKUP(Tabelle27[[#This Row],[Abfallschlüssel-nummer]],Emissionsfaktoren!$A$2:$K$67,MATCH(Tabelle27[[#This Row],[Verwertung/ Beseitigung]],Emissionsfaktoren!$A$1:$K$1,0)+1,FALSE)) -> #N/A | R27: =IF(VLOOKUP(Tabelle27[[#This Row],[Abfallschlüssel-nummer]],Emissionsfaktoren!$A$2:$K$67,MATCH(Tabelle27[[#This Row],[Verwertung/ Beseitigung]],Emissionsfaktoren!$A$1:$K$1,0)+2,FALSE)=0,"",VLOOKUP(Tabelle27[[#This Row],[Abfallschlüssel-nummer]],Emissionsfaktoren!$A$2:$K$67,MATCH(Tabelle27[[#This Row],[Verwertung/ Beseitigung]],Emissionsfaktoren!$A$1:$K$1,0)+2,FALSE)) -> #N/A | S27: =IFERROR(Tabelle27[[#This Row],[Menge (t/a)]]*Tabelle27[[#This Row],[Emissionsfaktor Behandlung (t CO2 eq/t)]],"") | T27: =IF(Tabelle27[[#This Row],[Emissionen Behandlung (t CO2 eq/a)]]="",0,Tabelle27[[#This Row],[Emissionen Behandlung (t CO2 eq/a)]])+IF(Tabelle27[[#This Row],[Emissionen Transport (t CO2 eq/a)]]="",0,Tabelle27[[#This Row],[Emissionen Transport (t CO2 eq/a)]]) -> 0
A28: 150111* | B28: =IF(MID(A28,7,1)="*","*","") -> * | C28: =IF(B28="*","gefährlich","nicht gefährlich") -> gefährlich | D28: 150111*/ Verpackungen aus Metall, die eine gefährliche feste poröse Matrix (z. B. Asbest) enthalten, einschliesslich geleerter Druckbehältnisse | K28: =IFERROR(Tabelle27[[#This Row],[Menge (t/a)]]/Tabelle27[[#This Row],[Anzahl Transporte]],"") | N28: =IFERROR(VLOOKUP(Tabelle27[[#This Row],[Transportmittel]],Emissionsfaktoren!$N$2:$P$11,3,FALSE),"") | O28: https://www.hansewasser.de/service/downloads/2024-05_emissionsfaktoren_spezifisch.xlsx | P28: =IFERROR((Tabelle27[[#This Row],[Menge pro Transport (t)]]*Tabelle27[[#This Row],[Transportweg zur Entsorgungsanlage Hin und Rückweg (km)]]*Tabelle27[[#This Row],[Emissionsfaktor Transport (kg CO2 eq/tkm)]]/1000)*Tabelle27[[#This Row],[Anzahl Transporte]],"") | Q28: =IF(VLOOKUP(Tabelle27[[#This Row],[Abfallschlüssel-nummer]],Emissionsfaktoren!$A$2:$K$67,MATCH(Tabelle27[[#This Row],[Verwertung/ Beseitigung]],Emissionsfaktoren!$A$1:$K$1,0)+1,FALSE)=0,"",VLOOKUP(Tabelle27[[#This Row],[Abfallschlüssel-nummer]],Emissionsfaktoren!$A$2:$K$67,MATCH(Tabelle27[[#This Row],[Verwertung/ Beseitigung]],Emissionsfaktoren!$A$1:$K$1,0)+1,FALSE)) -> #N/A | R28: =IF(VLOOKUP(Tabelle27[[#This Row],[Abfallschlüssel-nummer]],Emissionsfaktoren!$A$2:$K$67,MATCH(Tabelle27[[#This Row],[Verwertung/ Beseitigung]],Emissionsfaktoren!$A$1:$K$1,0)+2,FALSE)=0,"",VLOOKUP(Tabelle27[[#This Row],[Abfallschlüssel-nummer]],Emissionsfaktoren!$A$2:$K$67,MATCH(Tabelle27[[#This Row],[Verwertung/ Beseitigung]],Emissionsfaktoren!$A$1:$K$1,0)+2,FALSE)) -> #N/A | S28: =IFERROR(Tabelle27[[#This Row],[Menge (t/a)]]*Tabelle27[[#This Row],[Emissionsfaktor Behandlung (t CO2 eq/t)]],"") | T28: =IF(Tabelle27[[#This Row],[Emissionen Behandlung (t CO2 eq/a)]]="",0,Tabelle27[[#This Row],[Emissionen Behandlung (t CO2 eq/a)]])+IF(Tabelle27[[#This Row],[Emissionen Transport (t CO2 eq/a)]]="",0,Tabelle27[[#This Row],[Emissionen Transport (t CO2 eq/a)]]) -> 0
A29: 150202* | B29: =IF(MID(A29,7,1)="*","*","") -> * | C29: =IF(B29="*","gefährlich","nicht gefährlich") -> gefährlich | D29: 150202*/ Aufsaug- und Filtermaterialien (einschliesslich Ölfilter a. n. g.), Wischtücher und Schutzkleidung, die durch gefährliche Stoffe verunreinigt sind | K29: =IFERROR(Tabelle27[[#This Row],[Menge (t/a)]]/Tabelle27[[#This Row],[Anzahl Transporte]],"") | N29: =IFERROR(VLOOKUP(Tabelle27[[#This Row],[Transportmittel]],Emissionsfaktoren!$N$2:$P$11,3,FALSE),"") | O29: https://www.hansewasser.de/service/downloads/2024-05_emissionsfaktoren_spezifisch.xlsx | P29: =IFERROR((Tabelle27[[#This Row],[Menge pro Transport (t)]]*Tabelle27[[#This Row],[Transportweg zur Entsorgungsanlage Hin und Rückweg (km)]]*Tabelle27[[#This Row],[Emissionsfaktor Transport (kg CO2 eq/tkm)]]/1000)*Tabelle27[[#This Row],[Anzahl Transporte]],"") | Q29: =IF(VLOOKUP(Tabelle27[[#This Row],[Abfallschlüssel-nummer]],Emissionsfaktoren!$A$2:$K$67,MATCH(Tabelle27[[#This Row],[Verwertung/ Beseitigung]],Emissionsfaktoren!$A$1:$K$1,0)+1,FALSE)=0,"",VLOOKUP(Tabelle27[[#This Row],[Abfallschlüssel-nummer]],Emissionsfaktoren!$A$2:$K$67,MATCH(Tabelle27[[#This Row],[Verwertung/ Beseitigung]],Emissionsfaktoren!$A$1:$K$1,0)+1,FALSE)) -> #N/A | R29: =IF(VLOOKUP(Tabelle27[[#This Row],[Abfallschlüssel-nummer]],Emissionsfaktoren!$A$2:$K$67,MATCH(Tabelle27[[#This Row],[Verwertung/ Beseitigung]],Emissionsfaktoren!$A$1:$K$1,0)+2,FALSE)=0,"",VLOOKUP(Tabelle27[[#This Row],[Abfallschlüssel-nummer]],Emissionsfaktoren!$A$2:$K$67,MATCH(Tabelle27[[#This Row],[Verwertung/ Beseitigung]],Emissionsfaktoren!$A$1:$K$1,0)+2,FALSE)) -> #N/A | S29: =IFERROR(Tabelle27[[#This Row],[Menge (t/a)]]*Tabelle27[[#This Row],[Emissionsfaktor Behandlung (t CO2 eq/t)]],"") | T29: =IF(Tabelle27[[#This Row],[Emissionen Behandlung (t CO2 eq/a)]]="",0,Tabelle27[[#This Row],[Emissionen Behandlung (t CO2 eq/a)]])+IF(Tabelle27[[#This Row],[Emissionen Transport (t CO2 eq/a)]]="",0,Tabelle27[[#This Row],[Emissionen Transport (t CO2 eq/a)]]) -> 0
A30: 150203 | B30: =IF(MID(A30,7,1)="*","*","") | C30: =IF(B30="*","gefährlich","nicht gefährlich") -> nicht gefährlich | D30: 150203/ Aufsaug- und Filtermaterialien, Wischtücher und Schutzkleidung mit Ausnahme derjenigen, die unter 15 02 02 fallen | K30: =IFERROR(Tabelle27[[#This Row],[Menge (t/a)]]/Tabelle27[[#This Row],[Anzahl Transporte]],"") | N30: =IFERROR(VLOOKUP(Tabelle27[[#This Row],[Transportmittel]],Emissionsfaktoren!$N$2:$P$11,3,FALSE),"") | O30: https://www.hansewasser.de/service/downloads/2024-05_emissionsfaktoren_spezifisch.xlsx | P30: =IFERROR((Tabelle27[[#This Row],[Menge pro Transport (t)]]*Tabelle27[[#This Row],[Transportweg zur Entsorgungsanlage Hin und Rückweg (km)]]*Tabelle27[[#This Row],[Emissionsfaktor Transport (kg CO2 eq/tkm)]]/1000)*Tabelle27[[#This Row],[Anzahl Transporte]],"") | Q30: =IF(VLOOKUP(Tabelle27[[#This Row],[Abfallschlüssel-nummer]],Emissionsfaktoren!$A$2:$K$67,MATCH(Tabelle27[[#This Row],[Verwertung/ Beseitigung]],Emissionsfaktoren!$A$1:$K$1,0)+1,FALSE)=0,"",VLOOKUP(Tabelle27[[#This Row],[Abfallschlüssel-nummer]],Emissionsfaktoren!$A$2:$K$67,MATCH(Tabelle27[[#This Row],[Verwertung/ Beseitigung]],Emissionsfaktoren!$A$1:$K$1,0)+1,FALSE)) -> #N/A | R30: =IF(VLOOKUP(Tabelle27[[#This Row],[Abfallschlüssel-nummer]],Emissionsfaktoren!$A$2:$K$67,MATCH(Tabelle27[[#This Row],[Verwertung/ Beseitigung]],Emissionsfaktoren!$A$1:$K$1,0)+2,FALSE)=0,"",VLOOKUP(Tabelle27[[#This Row],[Abfallschlüssel-nummer]],Emissionsfaktoren!$A$2:$K$67,MATCH(Tabelle27[[#This Row],[Verwertung/ Beseitigung]],Emissionsfaktoren!$A$1:$K$1,0)+2,FALSE)) -> #N/A | S30: =IFERROR(Tabelle27[[#This Row],[Menge (t/a)]]*Tabelle27[[#This Row],[Emissionsfaktor Behandlung (t CO2 eq/t)]],"") | T30: =IF(Tabelle27[[#This Row],[Emissionen Behandlung (t CO2 eq/a)]]="",0,Tabelle27[[#This Row],[Emissionen Behandlung (t CO2 eq/a)]])+IF(Tabelle27[[#This Row],[Emissionen Transport (t CO2 eq/a)]]="",0,Tabelle27[[#This Row],[Emissionen Transport (t CO2 eq/a)]]) -> 0
A31: 160103 | B31: =IF(MID(A31,7,1)="*","*","") | C31: =IF(B31="*","gefährlich","nicht gefährlich") -> nicht gefährlich | D31: 160103/ Altreifen | K31: =IFERROR(Tabelle27[[#This Row],[Menge (t/a)]]/Tabelle27[[#This Row],[Anzahl Transporte]],"") | N31: =IFERROR(VLOOKUP(Tabelle27[[#This Row],[Transportmittel]],Emissionsfaktoren!$N$2:$P$11,3,FALSE),"") | O31: https://www.hansewasser.de/service/downloads/2024-05_emissionsfaktoren_spezifisch.xlsx | P31: =IFERROR((Tabelle27[[#This Row],[Menge pro Transport (t)]]*Tabelle27[[#This Row],[Transportweg zur Entsorgungsanlage Hin und Rückweg (km)]]*Tabelle27[[#This Row],[Emissionsfaktor Transport (kg CO2 eq/tkm)]]/1000)*Tabelle27[[#This Row],[Anzahl Transporte]],"") | Q31: =IF(VLOOKUP(Tabelle27[[#This Row],[Abfallschlüssel-nummer]],Emissionsfaktoren!$A$2:$K$67,MATCH(Tabelle27[[#This Row],[Verwertung/ Beseitigung]],Emissionsfaktoren!$A$1:$K$1,0)+1,FALSE)=0,"",VLOOKUP(Tabelle27[[#This Row],[Abfallschlüssel-nummer]],Emissionsfaktoren!$A$2:$K$67,MATCH(Tabelle27[[#This Row],[Verwertung/ Beseitigung]],Emissionsfaktoren!$A$1:$K$1,0)+1,FALSE)) -> #N/A | R31: =IF(VLOOKUP(Tabelle27[[#This Row],[Abfallschlüssel-nummer]],Emissionsfaktoren!$A$2:$K$67,MATCH(Tabelle27[[#This Row],[Verwertung/ Beseitigung]],Emissionsfaktoren!$A$1:$K$1,0)+2,FALSE)=0,"",VLOOKUP(Tabelle27[[#This Row],[Abfallschlüssel-nummer]],Emissionsfaktoren!$A$2:$K$67,MATCH(Tabelle27[[#This Row],[Verwertung/ Beseitigung]],Emissionsfaktoren!$A$1:$K$1,0)+2,FALSE)) -> #N/A | S31: =IFERROR(Tabelle27[[#This Row],[Menge (t/a)]]*Tabelle27[[#This Row],[Emissionsfaktor Behandlung (t CO2 eq/t)]],"") | T31: =IF(Tabelle27[[#This Row],[Emissionen Behandlung (t CO2 eq/a)]]="",0,Tabelle27[[#This Row],[Emissionen Behandlung (t CO2 eq/a)]])+IF(Tabelle27[[#This Row],[Emissionen Transport (t CO2 eq/a)]]="",0,Tabelle27[[#This Row],[Emissionen Transport (t CO2 eq/a)]]) -> 0
