Workbook

Sheet Deckblatt
C3: BILANZIERUNG VON SCOPE 3-EMISSIONEN
C4: Scope 3.2 Investitionsgüter
C6: Version: | D6: 3.0
C7: Datum: | D7: 46233
C9: Diese Handreichung ist das Ergebnis einer umfangreichen Zusammenarbeit der am Projekt beteiligten Betreiberunternehmen. Ziel war es, einen einheitlichen Standard zur Erstellung und kontinuierlichen Verbesserung von Scope-3-Klimabilanzen in den jeweiligen Organisationen zu entwickeln. Die erarbeiteten Methoden und Ergebnisse sind skalierbar und stehen allen Betreiberunternehmen der deutschen Wasserwirtschaft zur Verfügung. Diese sind ausdrücklich eingeladen, die Ansätze im eigenen Unternehmen anzuwenden. Rückmeldungen an die Arbeitsgruppe sind stets willkommen und leisten einen wichtigen Beitrag zur kontinuierlichen Weiterentwicklung und Vereinfachung der Methodik für die gesamte Branche. Die vorliegende Excel-Datei dient der Berechnung der Treibhausgasemissionen aus Scope 3.2 (Investitionsgüter). Sie unterstützt Anwenderinnen und Anwender bei der standardisierten Erfassung und Bilanzierung der entsprechenden Emissionen.
C19: KURZANLEITUNG
C21: NUTZUNG DER BERECHNUNGSTABELLE (Eingaben Hauptkanal) - Farbcodes
C22: Von Arbeitsgruppe vorgegeben: | J22: Von Benutzer*innen auszufüllen:
D23: Weiß hinterlegte Felder: Formeln und Zwischenrechnungen, die Eingaben und Faktoren verwenden | K23: Hellblau hinterlegte Felder: projektspezifische Daten eingeben
C25: berechnete Werte: | J25: Fehlerhafte oder fehlende Werte/Formeln:
C26: Zwischenergebnis | D26: Teil-Emissionen je Unterpunkt | K26: Anpassen einer Formel oder Nachtragen/Aktualisieren von Literaturwerten erforderlich
C27: Endergebnis | D27: Gesamtemissionen je Maßnahme und spezifische Emissionen je Maßnahme
C29: BITTE BEACHTEN
C30: Zur Kenntnisnahme | H30: Zu bearbeiten | M30: Nicht zu bearbeiten!
C32: Arbeitsmappen mit blauer Markierung enthalten Hinweise, die lediglich zur Kenntnisnahme dienen und keiner weiteren Bearbeitung bedürfen. | H32: Gelb markierte Arbeitsmappen sind aktiv zu bearbeiten. | M32: Arbeitsmappen in Grau beinhalten alle Listen, die in den gelb eingefärbten Arbeitsmappen als Faktoren oder Dropdown-Optionen verwendet werden. Diese sind i.d.R. nicht zur Bearbeitung vorgesehen! Lediglich einzelne Punkte (insbesondere die Stammdaten für Schächte) enthalten vereinzelt hellblaue Felder, die bei Bedarf ausgefüllt werden können (Standardwerte sind hinterlegt)
C38: INHALTE DER EXCEL
C39: Eingaben Hauptkanal | D39: Detaillierte Berechnung von THG-Emissionen bei Rohr- und Kanalbaumaßnahmen
C40: Dropdown Menüs | D40: Auflistung der Optionen für die Dropdown Menüs im Tabellenblatt "Eingaben Hauptkanal"
C41: Faktoren Abwasser | D41: Übersicht über getroffene Annahmen und die verwendenden Emissionfaktoren für die Bilanzierung von Scope 3.2. Sollten Werte angepasst werden, z.B. da aktualisierte Literaturwerte vorliegen, sollte das Datum in der Spalte "zuletzt aktualisiert" angepasst werden.
C42: Hilfsrechnungen & Baustelleninfo | D42: Es wird empfohlen, notwendige Nebenrechnungen oder Zwischenschritte lediglich auf diesem Tabellenblatt einzufügen. Es wird empfohlen, nach Möglichkeit keine weiteren Zeilen in der Haupttabelle einzufügen.
C43: Auswertung | D43: Auswertung der Emissionen
C45: HAFTUNGSAUSSCHLUSS/NUTZUNG DER ZUR VERFÜGUNGGESTELLTEN UNTERLAGEN
C46: Diese Excel-Datei ist ein Teilergebnis der AG Scope 3. Er stellt eine Fachmeinung dar und dient der allgemeinen Information und nicht der Beratung in konkreten Fällen. Die Mitglieder der Arbeitsgruppe sind bemüht, für die Richtigkeit und Aktualität aller in der Excel-Datei enthaltenen Informationen und Daten zu sorgen. Für die Korrektheit, Vollständigkeit, Aktualität oder Qualität der bereitgestellten Informationen und Daten wird jedoch keine Gewähr übernommen. Die Haftung für den Inhalt der abrufbaren Informationen wird ausgeschlossen, soweit es sich nicht um vorsätzliche oder grob fahrlässige Falschinformation handelt. Copyright: Alle Inhalte diese Excel-Datei, insbesondere Texte, Fotografien und Grafiken sind urheberrechtlich geschützt. Die Anwendung ist den Unternehmen und Organisationen der deutschen Wasserwirtschaft für den Eigenbedarf gestattet. Die Vervielfältigung, Bearbeitung, Verbreitung im Rahmen einer gewerblichen Nutzung bedürfen der schriftlichen Zustimmung.
C53: Download-Link:
C54: https://www.hansewasser.de/unternehmen/scope-3-leitfaden
C56: MITGLIEDER DER PROJEKTGRUPPE

Sheet Eingaben Hauptkanal
A2: Detaillierte Berechnung von THG-Emissionen bei Rohr- und Kanalbaumaßnahmen
A4: Daten der Baustelle
B5: Name/Ort der Baustelle, ggf. Kurzbeschreibung | F5: xyz
B6: Bearbeiter | F6: Name
B7: Zuletzt geändert am | F7: Datum
A9: A - Hauptkanal und Schächte
F10: Abschnitt/Maßnahme 1: Hauptkanal DN300 | G10: Abschnitt/Maßnahme 2: Anschlussleitungen | H10: Abschnitt/Maßnahme 3 | I10: Abschnitt/Maßnahme 4 | J10: Abschnitt/Maßnahme 5 | K10: GESAMT | L10: Einheit | N10: Kommentar
B11: Gesamtemissionen | F11: =F24+F27+F42+F123+F222 -> #N/A | G11: =G24+G27+G42+G123+G222 -> #N/A | H11: =SUM(H24,H27,H42,H123,H222) -> #N/A | I11: =SUM(I24,I27,I42,I123,I222) -> #N/A | J11: =SUM(J24,J27,J42,J123,J222) -> #N/A | K11: {=SUM(IF(ISNUMBER(F11:J11),F11:J11))} -> 0 | L11: kg CO2-Äqv.
B12: davon Scope 3.5 | F12: =SUM(F78,F188,F192,F212,F291,F296) -> #N/A
B13: Emissionen spezifisch pro gebautem Meter | F13: =F11/F21 -> #N/A | G13: =G11/G21 -> #N/A | H13: =H11/H21 -> #N/A | I13: =I11/I21 -> #N/A | J13: =J11/J21 -> #N/A | K13: =K11/K21 -> #DIV/0! | L13: kg CO2-Äqv./m
A15: 1. | B15: Allgemeine Angaben
B17: Bauweise | L17: -
B18: Art d. geschl. Bauweise | L18: -
B19: Durchmesser neues Rohr (DN) | L19: mm
B20: Material neues Rohr | L20: -
B21: Länge neues Rohr | K21: =SUM(F21:J21) -> 0 | L21: m
A24: 2. | B24: Baustelleneinrichtung | F24: =$E$25*F123 -> 0 | G24: =$E$25*G123 -> 0 | H24: =$E$25*H123 -> 0 | I24: =$E$25*I123 -> 0 | J24: =$E$25*J123 -> 0 | K24: =SUM(F24:J24) -> 0 | L24: kg CO2-Äqv. | N24: prozentual anhand des Verbaus bestimmt
D25: Aufschlag: | E25: 0.1
A27: 3. | B27: Pumpen Abwasser/Grundwasser | F27: =F29+F36 -> 0 | G27: =G29+G36 -> 0 | H27: =H29+H36 -> 0 | I27: =I29+I36 -> 0 | J27: =J29+J36 -> 0 | K27: {=SUM(IF(ISNUMBER(F27:J27),F27:J27))} -> 0 | L27: kg CO2-Äqv.
A29: 3.1 | B29: Abwasserumleitung mittels Pumpen | F29: =IF(F30="nein",0,F31*'Eingaben Hauptkanal'!F33*F32*'Faktoren Abwasser'!$B$6) -> 0 | G29: =IF(G30="nein",0,G31*'Eingaben Hauptkanal'!G33*G32*'Faktoren Abwasser'!$B$6) -> 0 | H29: =IF(H30="nein",0,H31*'Eingaben Hauptkanal'!H33*H32*'Faktoren Abwasser'!$B$6) -> 0 | I29: =IF(I30="nein",0,I31*'Eingaben Hauptkanal'!I33*I32*'Faktoren Abwasser'!$B$6) -> 0 | J29: =IF(J30="nein",0,J31*'Eingaben Hauptkanal'!J33*J32*'Faktoren Abwasser'!$B$6) -> 0 | K29: {=SUM(IF(ISNUMBER(F29:J29),F29:J29))} -> 0 | L29: kg CO2-Äqv.
B30: Umleitung vorhanden? | L30: -
B31: Fördermenge (mittel) | L31: m³/h
B32: Dauer der Umleitung | L32: h
B33: Dieselverbrauch pro m3 | L33: l/m³
A36: 3.2 | B36: Grundwasserabsenkung | F36: =IF(F37="nein",0,F38*'Eingaben Hauptkanal'!F40*F39*'Faktoren Abwasser'!$B$6) -> 0 | G36: =IF(G37="nein",0,G38*'Eingaben Hauptkanal'!G40*G39*'Faktoren Abwasser'!$B$6) -> 0 | H36: =IF(H37="nein",0,H38*'Eingaben Hauptkanal'!H40*H39*'Faktoren Abwasser'!$B$6) -> 0 | I36: =IF(I37="nein",0,I38*'Eingaben Hauptkanal'!I40*I39*'Faktoren Abwasser'!$B$6) -> 0 | J36: =IF(J37="nein",0,J38*'Eingaben Hauptkanal'!J40*J39*'Faktoren Abwasser'!$B$6) -> 0 | K36: {=SUM(IF(ISNUMBER(F36:J36),F36:J36))} -> 0 | L36: kg CO2-Äqv.
B37: Absenkung vorhanden? | L37: -
B38: Fördermenge (mittel) | L38: m³/h
B39: Dauer der Absenkung | L39: h
B40: Dieselverbrauch pro m3 | L40: l/m³
A42: 4. | B42: Straßenarbeiten | F42: =F65+F88 -> #N/A | G42: =G65+G88 -> #N/A | H42: =H65+H88 -> #N/A | I42: =I65+I88 -> #N/A | J42: =J65+J88 -> #N/A | K42: {=SUM(IF(ISNUMBER(F42:J42),F42:J42))} -> 0 | L42: kg CO2-Äqv.
A44: 4.1 | B44: Allgemeine Angaben
A45: 4.1.1 | B45: Straßenaufbau alt
B46: Material Deckschicht | L46: -
B47: Schichtdicke Deckschicht | L47: m
B48: Schichtdicke Pflasterbettung | L48: m
B49: Schichtdicke Asphaltbinder | L49: m
B50: Schichtdicke Asphalttragschicht (3. Tragschicht) | L50: m
B51: Schichtdicke Schottertragschicht (2. Tragschicht) | L51: m
B52: Schichtdicke Frostschutzschicht (1. Tragschicht) | L52: m
B53: Betrachtungsweise
...

Sheet Dropdown Menüs
A2: Auswahl für Dropdown-Listen
A4: Bauweise | B4: Art der geschlossenen Bauweise | C4: Material | D4: Umleitung vorhanden? | E4: Absenkung vorhanden? | F4: Material Deckschicht | G4: Betrachtungsweise Straßenaufbruch | H4: Verbauart | I4: Schachttypen | J4: Anteil Ersatz der Frostschutz- und Schottertragschicht bei Nachträgen | K4: Gewünschte Datenquelle
A5: 1. | B5: 1. | C5: 6.1 | D5: 3.1 | E5: 3.2 | F5: 4.1 | G5: 4.1 | H5: 5.1 | I5: 6.2.1 | K5: 6.2
A6: offene Bauweise | B6: Kölner Stollen im Stahlverzug | C6: Beton, unbewehrt | D6: ja | E6: ja | F6: Asphalt (Gussasphalt) | G6: lt. Vorplanung | H6: Trägerbohlenwand | I6: DN 1000 | K6: Tilia
A7: geschlossene Bauweise | B7: Pionierstollen | C7: Beton, bewehrt | D7: nein | E7: nein | F7: Beton (C30/37) / Betonasphalt | G7: real | H7: Plattenverbau/Gleitschienenverbau/Großflächenverbau | I7: DN 1200 | K7: Berding Beton
B8: Spritzbetonstollen | C8: Steinzeug | F8: Splittmastixasphalt (Walzasphalt) | H8: Spundwand/Spunddiele/Kanaldiele | I8: DN 1500 | K8: Eigene Eingabe
C9: Duktiles Gusseisen | F9: Pflaster | H9: Überschnittene Bohrpfahlwand
C10: PVC-U
C11: PP
C12: GFK
C13: PE

Sheet Faktoren Abwasser
A2: Emissionsfaktoren | C2: Die Spalte "Zuletzt aktualisiert" bezieht sich auf diese Tabelle, nicht auf die Datenbanken!
A4: Kraftstoffe
A5: Stoff | B5: THG-Potential | C5: Einheit | D5: Quelle | G5: Zuletzt aktualisiert
A6: Diesel | B6: 3.48 | C6: kg CO2-Äqv/l | D6: ecoinvent v3.10 (diesel, burned in building machine - GLO) | G6: 2025
A8: Straßenbau
A9: Material | B9: THG-Potential Herstellung | C9: THG-Potential Einbau | D9: Einheit | E9: Quelle | F9: Datensatz | G9: Zuletzt aktualisiert
A10: Asphalt (Gussaspahlt) | B10: 0.102 | C10: 0.0008388 | D10: kg CO2-Äqv/kg | E10: ökobaudat 2023-I | F10: Gussasphalt | G10: 2025
A11: Beton (C30/37) / Betonasphalt | B11: =258/2306 -> 0.11188205 | C11: 0.0005625 | D11: kg CO2-Äqv/kg | E11: ökobaudat 2023-I | F11: Transportbeton C30/37 | G11: 2025
A12: Splittmastixasphalt (Walzasphalt) | B12: 0.077 | C12: 0.0008388 | D12: kg CO2-Äqv/kg | E12: ökobaudat 2023-I | F12: Splittmastixasphalt (SMA) | G12: 2025
A13: Pflaster | B13: 0.109 | C13: =B13*0.09 -> 0.00981 | D13: kg CO2-Äqv/kg | E13: ökobaudat 2023-I | F13: A2-Betonpflaster- Standardstein grau mit Vorsatz | G13: 2025
A14: Pflasterbettung | B14: 0.01 | C14: =B162*B6/B118 -> 0.0001421438 | D14: kg CO2-Äqv/kg | E14: ökobaudat 2023-I | F14: Sand 0/2 (Schottertragschicht siehe unten) | G14: 2025
A15: Asphaltbinder | B15: 0.081 | C15: 0.0007237 | D15: kg CO2-Äqv/kg | E15: ökobaudat 2023-I | F15: Asphaltbinder | G15: 2025
A16: Asphalttragschicht | B16: 0.073 | C16: 0.0006414 | D16: kg CO2-Äqv/kg | E16: ökobaudat 2023-I | F16: Asphalttragschicht | G16: 2025
A17: Schottertragschicht | B17: 0.017 | C17: =B162*B6/B121 -> 0.00018275631 | D17: kg CO2-Äqv/kg | E17: ökobaudat 2023-I | F17: Schotter 16/32, Schotter 16/32 (getrocknet) | G17: 2025
A18: Frostschutzschicht | B18: 0.018 | C18: =B162*B6/B122 -> 0.00013830207 | D18: kg CO2-Äqv/kg | E18: ökobaudat 2023-I | F18: Kies 2/32, Kies 2/32 (getrocknet) | G18: 2025
A20: Entsorgung
A21: Material | B21: THG-Potential | C21: Einheit | D21: Quelle | G21: Zuletzt aktualisiert
A22: Deponie (Z1-Z2) | B22: 6.26 | C22: kg CO2-Äqv/t | D22: ecoinvent v3.10: treatment of inert waste, inert material landfill | G22: 2025
A23: Deponie (Z3) | B23: 10 | C23: kg CO2-Äqv/t | D23: ecoinvent v3.10: treatment of inert waste, sanitary landfill - RER | G23: 2025
A24: Recycling Beton/Inertabfälle | B24: 4.38 | C24: kg CO2-Äqv/t | D24: ecoinvent v3.10: treatment of waste concrete, not reinforced, recycling | G24: 2025
A25: Deponie für teerhaltige Bitumengemische | B25: 17.6 | C25: kg CO2-Äqv/t | D25: ecoinvent v3.10: treatment of waste asphalt, sanitary landfill | G25: 2025
A27: Rohrleitungen | J27: Quadratische Regression, um Emissionsfaktoren auch für DN außerhalb der Standardtabellenwerte zu erhalten.
A28: Material | B28: DN | C28: Spez. Gewicht (kg/m) | D28: THG-Potential kg CO2e/kg | E28: THG-Potential (kg CO2-Äqv.)/m | F28: Quelle | G28: Zuletzt aktualisiert | J28: x | K28: x^2 | L28: y | M28: m2 | N28: m1 | O28: b | P28: m2 (gerundet) | Q28: m1 (gerundet) | R28: b (gerundet)
A29: Beton, unbewehrt | B29: 300 | C29: =E29/D29 -> 232.43561 | D29: 0.1322 | E29: 30.727988 | G29: 2025 | J29: =B29 -> 300 | K29: =J29^2 -> 90000 | L29: =E29 -> 30.727988 | M29: {=LINEST(L29:L41,J29:K41,TRUE,TRUE)} -> 0.00023529811 | N29: -0.047960956 | O29: 21.252514 | P29: =ROUND(M29,4) -> 0.0002 | Q29: =ROUND(N29,4) -> -0.048 | R29: =ROUND(O29,4) -> 21.2525 | T29: Y= | U29: =CONCATENATE(P29,"x²+",Q29,"x+",R29) -> 0,0002x²+-0,048x+21,2525
A30: Beton, unbewehrt | B30: 400 | C30: =E30/D30 -> 287.70647 | D30: 0.1322 | E30: 38.034796 | G30: 2025 | J30: =B30 -> 400 | K30: =J30^2 -> 160000 | L30: =E30 -> 38.034796
A31: Beton, unbewehrt | B31: 500 | C31: =E31/D31 -> 411.65794 | D31: 0.1322 | E31: 54.42118 | G31: 2025 | J31: =B31 -> 500 | K31: =J31^2 -> 250000 | L31: =E31 -> 54.42118
A32: Beton, unbewehrt | B32: 600 | C32: =E32/D32 -> 559.44896 | D32: 0.1322 | E32: 73.959153 | G32: 2025 | J32: =B32 -> 600 | K32: =J32^2 -> 360000 | L32: =E32 -> 73.959153
A33: Beton, unbewehrt | B33: 700 | C33: =E33/D33 -> 803.23674 | D33: 0.1322 | E33: 106.1879 | G33: 2025 | J33: =B33 -> 700 | K33: =J33^2 -> 490000 | L33: =E33 -> 106.1879
A34: Beton, unbewehrt | B34: 800 | C34: =E34/D34 -> 1041.2775 | D34: 0.1322 | E34: 137.65688 | G34: 2025 | J34: =B34 -> 800 | K34: =J34^2 -> 640000 | L34: =E34 -> 137.65688
A35: Beton, unbewehrt | B35: 900 | C35: =E35/D35 -> 1250.5831 | D35: 0.1322 | E35: 165.32708 | G35: 2025 | J35: =B35 -> 900 | K35: =J35^2 -> 810000 | L35: =E35 -> 165.32708
A36: Beton, unbewehrt | B36: 1000 | C36: =E36/D36 -> 1575.5388 | D36: 0.1322 | E36: 208.28623 | G36: 2025 | J36: =B36 -> 1000 | K36: =J36^2 -> 1000000 | L36: =E36 -> 208.28623
A37: Beton, unbewehrt | B37: 1100 | C37: =E37/D37 -> 1949.8765 | D37: 0.1322 | E37: 257.77368 | G37: 2025 | J37: =B37 -> 1100 | K37: =J37^2 -> 1210000 | L37: =E37 -> 257.77368
A38: Beton, unbewehrt | B38: 1200 | C38: =E38/D38 -> 2133.9945 | D38: 0.1322 | E38: 282.11407 | G38: 2025 | J38: =B38 -> 1200 | K38: =J38^2 -> 1440000 | L38: =E38 -> 282.11407
A39: Beton, unbewehrt | B39: 1300 | C39: =E39/D39 -> 2817.8916 | D39: 0.1322 | E39: 372.52526 | G39: 2025 | J39: =B39 -> 1300 | K39: =J39^2 -> 1690000 | L39: =E39 -> 372.52526
A40: Beton, unbewehrt | B40: 1400 | C40: =E40/D40 -> 3214.8626 | D40: 0.1322 | E40: 425.00484 | G40: 2025 | J40: =B40 -> 1400 | K40: =J40^2 -> 1960000 | L40: =E40 -> 425.00484
A41: Beton, unbewehrt | B41: 1500 | C41: =E41/D41 -> 3548.0487 | D41: 0.1322 | E41: 469.05204 | G41: 2025 | J41: =B41 -> 1500 | K41: =J41^2 -> 2250000 | L41: =E41 -> 469.05204
A42: Beton, bewehrt | B42: 300 | C42: =E42/D42 -> 219.60865 | D42: 0.1417 | E42: 31.118546 | G42: 2025 | J42: =B42 -> 300 | K42: =J42^2 -> 90000 | L42: =E42 -> 31.118546 | M42: {=LINEST(L42:L54,J42:K54,TRUE,TRUE)} -> 9.6412566e-05 | N42: 0.069391296 | O42: -1.2474099 | P42: =ROUND(M42,4) -> 0.0001 | Q42: =ROUND(N42,4) -> 0.0694 | R42: =ROUND(O42,4) -> -1.2474
A43: Beton, bewehrt | B43: 400 | C43: =E43/D43 -> 300.99149 | D43: 0.1417 | E43: 42.650494 | G43: 2025 | J43: =B43 -> 400 | K43: =J43^2 -> 160000 | L43: =E43 -> 42.650494
A44: Beton, bewehrt | B44: 500 | C44: =E44/D44 -> 389.67707 | D44: 0.1417 | E44: 55.217241 | G44: 2025 | J44: =B44 -> 500 | K44: =J44^2 -> 250000 | L44: =E44 -> 55.217241
A45: Beton, bewehrt | B45: 600 | C45: =E45/D45 -> 519.61329 | D45: 0.1417 | E45: 73.629203 | G45: 2025 | J45: =B45 -> 600 | K45: =J45^2 -> 360000 | L45: =E45 -> 73.629203
...

Sheet Hilfsrechnungen&Baustelleninfo
A2: Nebenrechnungen
A3: Diese Nebenrechnungen können genutzt werden, wenn die Masse der zu entsorgenden Rohre und Schächte nicht bekannt ist.
A4: Achtung: DN und Länge der zu entsorgenden Rohre und Schächte entsprechen nicht zwingend denen der neu hergestellten. -> Projektdaten prüfen.
A6: Zu 6.4: Entsorgung
A7: Gewicht von zu entsorgenden Rohren:
A8: Spezifisches Gewicht | C8: kg/m | E8: Je nach Rohrmaterial und DN aus "Faktoren Abwasser ablesen"
A9: Länge | C9: m
A10: Gewicht | B10: =B8*B9 -> 0 | C10: kg/m | E10: in Eingaben Hauptkanal eingeben
A12: Gewicht von zu entsorgenden Schächten:
A13: Anzahl der Schächte
A14: Schachttyp
A15: Mittlere Tiefenlage | C15: m
A16: Gewünschte Datenquelle
A17: Gesamtgewicht | B17: =B13*'Hilfsrechnungen&Baustelleninfo'!G49 -> 0 | E17: in Eingaben Hauptkanal eingeben
A20: Zu 6.5: Verfüllung
A21: Bestandsrohr/-schacht verbleibt im Boden: Innendurchmesser di verwenden
A22: Bestandsrohr/-schacht wird ausgebaut: Außendurchmesser da verwenden
A24: Außendurchmesser = Innendurchmesser + 2 * Wandstärke
A25: Ggf. schätzen. Typische Wandstärken z.B. für Betonrohre: 100-120 mm für DN800, 120-150 mm für DN1000, 135-150 mm für DN1200
A27: Zu verfüllende Länge (Rohr) bzw. Höhe (Schacht): | C27: m
A28: di bzw. da | C28: mm
A29: Hohlraumvolumen | B29: =3.1415*(B28/2000)^2*B27 -> 0 | C29: m3
A30: Dichte Dämmer | B30: ='Faktoren Abwasser'!B148/'Faktoren Abwasser'!B149 -> 2278.5714 | C30: kg/m3 | D30: falls das genaue Material bekannt ist, hier Dichte eingeben
A31: Gewicht Dämmer | B31: =B29*B30 -> 0 | C31: kg | D31: in Eingaben Hauptkanal eingeben
A34: Zu 6.2 und 6.4: Gewicht von Schächten
A35: Zwischenrechnung Gewicht pro Schacht | H35: zieht Gewicht der Einzelteile aus 'Faktoren Abwasser'
B36: Abschnitt/ Maßnahme 1 | C36: Abschnitt/ Maßnahme 2 | D36: Abschnitt/ Maßnahme 3 | E36: Abschnitt/ Maßnahme 4 | F36: Abschnitt/ Maßnahme 5 | G36: Abbruch Bestand
A37: Schachtringe
A38: Erforderliche Höhe | B38: {=_xlfn.LET( _xlpm.DN,'Eingaben Hauptkanal'!F$241, _xlpm.Tiefe,'Eingaben Hauptkanal'!F$242, _xlpm.Quelle,'Eingaben Hauptkanal'!F$243, _xlpm.Basis,_xlfn.IFS( _xlpm.DN="DN 1000",230, _xlpm.DN="DN 1200",255, _xlpm.DN="DN 1500",280, TRUE,0 ), _xlpm.Spalte,_xlfn.IFS( _xlpm.Quelle="Tilia",2, _xlpm.Quelle="Berding Beton",3, _xlpm.Quelle="Eigene Eingabe",4, TRUE,0 ), IF( OR(_xlpm.DN="",_xlpm.Tiefe="",_xlpm.Quelle="",_xlpm.Basis=0,_xlpm.Spalte=0), 0, _xlfn.LET( _xlpm.HoeheUnterteil,INDEX('Faktoren Abwasser'!$A:$D,_xlpm.Basis+3,_xlpm.Spalte), _xlpm.HoeheHals,INDEX('Faktoren Abwasser'!$A:$D,_xlpm.Basis+8,_xlpm.Spalte), IF( AND(ISNUMBER(_xlpm.HoeheUnterteil),ISNUMBER(_xlpm.HoeheHals)), MAX(0,_xlpm.Tiefe-_xlpm.HoeheUnterteil-_xlpm.HoeheHals), NA() ) ) ) )} -> 0 | C38: {=_xlfn.LET( _xlpm.DN,'Eingaben Hauptkanal'!G$241, _xlpm.Tiefe,'Eingaben Hauptkanal'!G$242, _xlpm.Quelle,'Eingaben Hauptkanal'!G$243, _xlpm.Basis,_xlfn.IFS( _xlpm.DN="DN 1000",230, _xlpm.DN="DN 1200",255, _xlpm.DN="DN 1500",280, TRUE,0 ), _xlpm.Spalte,_xlfn.IFS( _xlpm.Quelle="Tilia",2, _xlpm.Quelle="Berding Beton",3, _xlpm.Quelle="Eigene Eingabe",4, TRUE,0 ), IF( OR(_xlpm.DN="",_xlpm.Tiefe="",_xlpm.Quelle="",_xlpm.Basis=0,_xlpm.Spalte=0), 0, _xlfn.LET( _xlpm.HoeheUnterteil,INDEX('Faktoren Abwasser'!$A:$D,_xlpm.Basis+3,_xlpm.Spalte), _xlpm.HoeheHals,INDEX('Faktoren Abwasser'!$A:$D,_xlpm.Basis+8,_xlpm.Spalte), IF( AND(ISNUMBER(_xlpm.HoeheUnterteil),ISNUMBER(_xlpm.HoeheHals)), MAX(0,_xlpm.Tiefe-_xlpm.HoeheUnterteil-_xlpm.HoeheHals), NA() ) ) ) )} -> 0 | D38: {=_xlfn.LET( _xlpm.DN,'Eingaben Hauptkanal'!H$241, _xlpm.Tiefe,'Eingaben Hauptkanal'!H$242, _xlpm.Quelle,'Eingaben Hauptkanal'!H$243, _xlpm.Basis,_xlfn.IFS( _xlpm.DN="DN 1000",230, _xlpm.DN="DN 1200",255, _xlpm.DN="DN 1500",280, TRUE,0 ), _xlpm.Spalte,_xlfn.IFS( _xlpm.Quelle="Tilia",2, _xlpm.Quelle="Berding Beton",3, _xlpm.Quelle="Eigene Eingabe",4, TRUE,0 ), IF( OR(_xlpm.DN="",_xlpm.Tiefe="",_xlpm.Quelle="",_xlpm.Basis=0,_xlpm.Spalte=0), 0, _xlfn.LET( _xlpm.HoeheUnterteil,INDEX('Faktoren Abwasser'!$A:$D,_xlpm.Basis+3,_xlpm.Spalte), _xlpm.HoeheHals,INDEX('Faktoren Abwasser'!$A:$D,_xlpm.Basis+8,_xlpm.Spalte), IF( AND(ISNUMBER(_xlpm.HoeheUnterteil),ISNUMBER(_xlpm.HoeheHals)), MAX(0,_xlpm.Tiefe-_xlpm.HoeheUnterteil-_xlpm.HoeheHals), NA() ) ) ) )} -> 0 | E38: {=_xlfn.LET( _xlpm.DN,'Eingaben Hauptkanal'!I$241, _xlpm.Tiefe,'Eingaben Hauptkanal'!I$242, _xlpm.Quelle,'Eingaben Hauptkanal'!I$243, _xlpm.Basis,_xlfn.IFS( _xlpm.DN="DN 1000",230, _xlpm.DN="DN 1200",255, _xlpm.DN="DN 1500",280, TRUE,0 ), _xlpm.Spalte,_xlfn.IFS( _xlpm.Quelle="Tilia",2, _xlpm.Quelle="Berding Beton",3, _xlpm.Quelle="Eigene Eingabe",4, TRUE,0 ), IF( OR(_xlpm.DN="",_xlpm.Tiefe="",_xlpm.Quelle="",_xlpm.Basis=0,_xlpm.Spalte=0), 0, _xlfn.LET( _xlpm.HoeheUnterteil,INDEX('Faktoren Abwasser'!$A:$D,_xlpm.Basis+3,_xlpm.Spalte), _xlpm.HoeheHals,INDEX('Faktoren Abwasser'!$A:$D,_xlpm.Basis+8,_xlpm.Spalte), IF( AND(ISNUMBER(_xlpm.HoeheUnterteil),ISNUMBER(_xlpm.HoeheHals)), MAX(0,_xlpm.Tiefe-_xlpm.HoeheUnterteil-_xlpm.HoeheHals), NA() ) ) ) )} -> 0 | F38: {=_xlfn.LET( _xlpm.DN,'Eingaben Hauptkanal'!J$241, _xlpm.Tiefe,'Eingaben Hauptkanal'!J$242, _xlpm.Quelle,'Eingaben Hauptkanal'!J$243, _xlpm.Basis,_xlfn.IFS( _xlpm.DN="DN 1000",230, _xlpm.DN="DN 1200",255, _xlpm.DN="DN 1500",280, TRUE,0 ), _xlpm.Spalte,_xlfn.IFS( _xlpm.Quelle="Tilia",2, _xlpm.Quelle="Berding Beton",3, _xlpm.Quelle="Eigene Eingabe",4, TRUE,0 ), IF( OR(_xlpm.DN="",_xlpm.Tiefe="",_xlpm.Quelle="",_xlpm.Basis=0,_xlpm.Spalte=0), 0, _xlfn.LET( _xlpm.HoeheUnterteil,INDEX('Faktoren Abwasser'!$A:$D,_xlpm.Basis+3,_xlpm.Spalte), _xlpm.HoeheHals,INDEX('Faktoren Abwasser'!$A:$D,_xlpm.Basis+8,_xlpm.Spalte), IF( AND(ISNUMBER(_xlpm.HoeheUnterteil),ISNUMBER(_xlpm.HoeheHals)), MAX(0,_xlpm.Tiefe-_xlpm.HoeheUnterteil-_xlpm.HoeheHals), NA() ) ) ) )} -> 0 | G38: {=_xlfn.LET( _xlpm.DN,'Hilfsrechnungen&Baustelleninfo'!B14, _xlpm.Tiefe,'Hilfsrechnungen&Baustelleninfo'!B15, _xlpm.Quelle,'Hilfsrechnungen&Baustelleninfo'!B16, _xlpm.Basis,_xlfn.IFS( _xlpm.DN="DN 1000",230, _xlpm.DN="DN 1200",255, _xlpm.DN="DN 1500",280, TRUE,0 ), _xlpm.Spalte,_xlfn.IFS( _xlpm.Quelle="Tilia",2, _xlpm.Quelle="Berding Beton",3, _xlpm.Quelle="Eigene Eingabe",4, TRUE,0 ), IF( OR(_xlpm.DN="",_xlpm.Tiefe="",_xlpm.Quelle="",_xlpm.Basis=0,_xlpm.Spalte=0), 0, _xlfn.LET( _xlpm.HoeheUnterteil,INDEX('Faktoren Abwasser'!$A:$D,_xlpm.Basis+3,_xlpm.Spalte), _xlpm.HoeheHals,INDEX('Faktoren Abwasser'!$A:$D,_xlpm.Basis+8,_xlpm.Spalte), IF( AND(ISNUMBER(_xlpm.HoeheUnterteil),ISNUMBER(_xlpm.HoeheHals)), MAX(0,_xlpm.Tiefe-_xlpm.HoeheUnterteil-_xlpm.HoeheHals), NA() ) ) ) )} -> 0
A39: Anzahl benötigter SR 1,0 m | B39: {=_xlfn.LET( _xlpm.DN,'Eingaben Hauptkanal'!F$241, _xlpm.Quelle,'Eingaben Hauptkanal'!F$243, _xlpm.Basis,_xlfn.IFS( _xlpm.DN="DN 1000",230, _xlpm.DN="DN 1200",255, _xlpm.DN="DN 1500",280, TRUE,0 ), _xlpm.Spalte,_xlfn.IFS( _xlpm.Quelle="Tilia",2, _xlpm.Quelle="Berding Beton",3, _xlpm.Quelle="Eigene Eingabe",4, TRUE,0 ), IF( OR(_xlpm.Basis=0,_xlpm.Spalte=0,B38<=0), 0, ROUNDDOWN( B38/INDEX('Faktoren Abwasser'!$A:$D,_xlpm.Basis+21,_xlpm.Spalte), 0 ) ) )} -> 0 | C39: {=_xlfn.LET( _xlpm.DN,'Eingaben Hauptkanal'!G$241, _xlpm.Quelle,'Eingaben Hauptkanal'!G$243, _xlpm.Basis,_xlfn.IFS( _xlpm.DN="DN 1000",230, _xlpm.DN="DN 1200",255, _xlpm.DN="DN 1500",280, TRUE,0 ), _xlpm.Spalte,_xlfn.IFS( _xlpm.Quelle="Tilia",2, _xlpm.Quelle="Berding Beton",3, _xlpm.Quelle="Eigene Eingabe",4, TRUE,0 ), IF( OR(_xlpm.Basis=0,_xlpm.Spalte=0,C38<=0), 0, ROUNDDOWN( C38/INDEX('Faktoren Abwasser'!$A:$D,_xlpm.Basis+21,_xlpm.Spalte), 0 ) ) )} -> 0 | D39: {=_xlfn.LET( _xlpm.DN,'Eingaben Hauptkanal'!H$241, _xlpm.Quelle,'Eingaben Hauptkanal'!H$243, _xlpm.Basis,_xlfn.IFS( _xlpm.DN="DN 1000",230, _xlpm.DN="DN 1200",255, _xlpm.DN="DN 1500",280, TRUE,0 ), _xlpm.Spalte,_xlfn.IFS( _xlpm.Quelle="Tilia",2, _xlpm.Quelle="Berding Beton",3, _xlpm.Quelle="Eigene Eingabe",4, TRUE,0 ), IF( OR(_xlpm.Basis=0,_xlpm.Spalte=0,D38<=0), 0, ROUNDDOWN( D38/INDEX('Faktoren Abwasser'!$A:$D,_xlpm.Basis+21,_xlpm.Spalte), 0 ) ) )} -> 0 | E39: {=_xlfn.LET( _xlpm.DN,'Eingaben Hauptkanal'!I$241, _xlpm.Quelle,'Eingaben Hauptkanal'!I$243, _xlpm.Basis,_xlfn.IFS( _xlpm.DN="DN 1000",230, _xlpm.DN="DN 1200",255, _xlpm.DN="DN 1500",280, TRUE,0 ), _xlpm.Spalte,_xlfn.IFS( _xlpm.Quelle="Tilia",2, _xlpm.Quelle="Berding Beton",3, _xlpm.Quelle="Eigene Eingabe",4, TRUE,0 ), IF( OR(_xlpm.Basis=0,_xlpm.Spalte=0,E38<=0), 0, ROUNDDOWN( E38/INDEX('Faktoren Abwasser'!$A:$D,_xlpm.Basis+21,_xlpm.Spalte), 0 ) ) )} -> 0 | F39: {=_xlfn.LET( _xlpm.DN,'Eingaben Hauptkanal'!J$241, _xlpm.Quelle,'Eingaben Hauptkanal'!J$243, _xlpm.Basis,_xlfn.IFS( _xlpm.DN="DN 1000",230, _xlpm.DN="DN 1200",255, _xlpm.DN="DN 1500",280, TRUE,0 ), _xlpm.Spalte,_xlfn.IFS( _xlpm.Quelle="Tilia",2, _xlpm.Quelle="Berding Beton",3, _xlpm.Quelle="Eigene Eingabe",4, TRUE,0 ), IF( OR(_xlpm.Basis=0,_xlpm.Spalte=0,F38<=0), 0, ROUNDDOWN( F38/INDEX('Faktoren Abwasser'!$A:$D,_xlpm.Basis+21,_xlpm.Spalte), 0 ) ) )} -> 0 | G39: {=_xlfn.LET( _xlpm.DN,'Hilfsrechnungen&Baustelleninfo'!B14, _xlpm.Quelle,'Hilfsrechnungen&Baustelleninfo'!B16, _xlpm.Basis,_xlfn.IFS( _xlpm.DN="DN 1000",230, _xlpm.DN="DN 1200",255, _xlpm.DN="DN 1500",280, TRUE,0 ), _xlpm.Spalte,_xlfn.IFS( _xlpm.Quelle="Tilia",2, _xlpm.Quelle="Berding Beton",3, _xlpm.Quelle="Eigene Eingabe",4, TRUE,0 ), IF( OR(_xlpm.Basis=0,_xlpm.Spalte=0,G38<=0), 0, ROUNDDOWN( G38/INDEX('Faktoren Abwasser'!$A:$D,_xlpm.Basis+21,_xlpm.Spalte), 0 ) ) )} -> 0
A40: Anzahl benötigter SR 0,5 m | B40: {=_xlfn.LET( _xlpm.DN,'Eingaben Hauptkanal'!F$241, _xlpm.Quelle,'Eingaben Hauptkanal'!F$243, _xlpm.Basis,_xlfn.IFS( _xlpm.DN="DN 1000",230, _xlpm.DN="DN 1200",255, _xlpm.DN="DN 1500",280, TRUE,0 ), _xlpm.Spalte,_xlfn.IFS( _xlpm.Quelle="Tilia",2, _xlpm.Quelle="Berding Beton",3, _xlpm.Quelle="Eigene Eingabe",4, TRUE,0 ), _xlpm.Hoehe1,INDEX('Faktoren Abwasser'!$A:$D,_xlpm.Basis+21,_xlpm.Spalte), _xlpm.Hoehe05,INDEX('Faktoren Abwasser'!$A:$D,_xlpm.Basis+18,_xlpm.Spalte), _xlpm.Resthoehe,B38-B39*_xlpm.Hoehe1, IF( OR(_xlpm.Basis=0,_xlpm.Spalte=0,B38<=0,NOT(ISNUMBER(_xlpm.Hoehe05)),_xlpm.Hoehe05<=0), 0, ROUNDDOWN(_xlpm.Resthoehe/_xlpm.Hoehe05,0) ) )} -> 0 | C40: {=_xlfn.LET( _xlpm.DN,'Eingaben Hauptkanal'!G$241, _xlpm.Quelle,'Eingaben Hauptkanal'!G$243, _xlpm.Basis,_xlfn.IFS( _xlpm.DN="DN 1000",230, _xlpm.DN="DN 1200",255, _xlpm.DN="DN 1500",280, TRUE,0 ), _xlpm.Spalte,_xlfn.IFS( _xlpm.Quelle="Tilia",2, _xlpm.Quelle="Berding Beton",3, _xlpm.Quelle="Eigene Eingabe",4, TRUE,0 ), _xlpm.Hoehe1,INDEX('Faktoren Abwasser'!$A:$D,_xlpm.Basis+21,_xlpm.Spalte), _xlpm.Hoehe05,INDEX('Faktoren Abwasser'!$A:$D,_xlpm.Basis+18,_xlpm.Spalte), _xlpm.Resthoehe,C38-C39*_xlpm.Hoehe1, IF( OR(_xlpm.Basis=0,_xlpm.Spalte=0,C38<=0,NOT(ISNUMBER(_xlpm.Hoehe05)),_xlpm.Hoehe05<=0), 0, ROUNDDOWN(_xlpm.Resthoehe/_xlpm.Hoehe05,0) ) )} -> 0 | D40: {=_xlfn.LET( _xlpm.DN,'Eingaben Hauptkanal'!H$241, _xlpm.Quelle,'Eingaben Hauptkanal'!H$243, _xlpm.Basis,_xlfn.IFS( _xlpm.DN="DN 1000",230, _xlpm.DN="DN 1200",255, _xlpm.DN="DN 1500",280, TRUE,0 ), _xlpm.Spalte,_xlfn.IFS( _xlpm.Quelle="Tilia",2, _xlpm.Quelle="Berding Beton",3, _xlpm.Quelle="Eigene Eingabe",4, TRUE,0 ), _xlpm.Hoehe1,INDEX('Faktoren Abwasser'!$A:$D,_xlpm.Basis+21,_xlpm.Spalte), _xlpm.Hoehe05,INDEX('Faktoren Abwasser'!$A:$D,_xlpm.Basis+18,_xlpm.Spalte), _xlpm.Resthoehe,D38-D39*_xlpm.Hoehe1, IF( OR(_xlpm.Basis=0,_xlpm.Spalte=0,D38<=0,NOT(ISNUMBER(_xlpm.Hoehe05)),_xlpm.Hoehe05<=0), 0, ROUNDDOWN(_xlpm.Resthoehe/_xlpm.Hoehe05,0) ) )} -> 0 | E40: {=_xlfn.LET( _xlpm.DN,'Eingaben Hauptkanal'!I$241, _xlpm.Quelle,'Eingaben Hauptkanal'!I$243, _xlpm.Basis,_xlfn.IFS( _xlpm.DN="DN 1000",230, _xlpm.DN="DN 1200",255, _xlpm.DN="DN 1500",280, TRUE,0 ), _xlpm.Spalte,_xlfn.IFS( _xlpm.Quelle="Tilia",2, _xlpm.Quelle="Berding Beton",3, _xlpm.Quelle="Eigene Eingabe",4, TRUE,0 ), _xlpm.Hoehe1,INDEX('Faktoren Abwasser'!$A:$D,_xlpm.Basis+21,_xlpm.Spalte), _xlpm.Hoehe05,INDEX('Faktoren Abwasser'!$A:$D,_xlpm.Basis+18,_xlpm.Spalte), _xlpm.Resthoehe,E38-E39*_xlpm.Hoehe1, IF( OR(_xlpm.Basis=0,_xlpm.Spalte=0,E38<=0,NOT(ISNUMBER(_xlpm.Hoehe05)),_xlpm.Hoehe05<=0), 0, ROUNDDOWN(_xlpm.Resthoehe/_xlpm.Hoehe05,0) ) )} -> 0 | F40: {=_xlfn.LET( _xlpm.DN,'Eingaben Hauptkanal'!J$241, _xlpm.Quelle,'Eingaben Hauptkanal'!J$243, _xlpm.Basis,_xlfn.IFS( _xlpm.DN="DN 1000",230, _xlpm.DN="DN 1200",255, _xlpm.DN="DN 1500",280, TRUE,0 ), _xlpm.Spalte,_xlfn.IFS( _xlpm.Quelle="Tilia",2, _xlpm.Quelle="Berding Beton",3, _xlpm.Quelle="Eigene Eingabe",4, TRUE,0 ), _xlpm.Hoehe1,INDEX('Faktoren Abwasser'!$A:$D,_xlpm.Basis+21,_xlpm.Spalte), _xlpm.Hoehe05,INDEX('Faktoren Abwasser'!$A:$D,_xlpm.Basis+18,_xlpm.Spalte), _xlpm.Resthoehe,F38-F39*_xlpm.Hoehe1, IF( OR(_xlpm.Basis=0,_xlpm.Spalte=0,F38<=0,NOT(ISNUMBER(_xlpm.Hoehe05)),_xlpm.Hoehe05<=0), 0, ROUNDDOWN(_xlpm.Resthoehe/_xlpm.Hoehe05,0) ) )} -> 0 | G40: {=_xlfn.LET( _xlpm.DN,'Hilfsrechnungen&Baustelleninfo'!B14, _xlpm.Quelle,'Hilfsrechnungen&Baustelleninfo'!B16, _xlpm.Basis,_xlfn.IFS( _xlpm.DN="DN 1000",230, _xlpm.DN="DN 1200",255, _xlpm.DN="DN 1500",280, TRUE,0 ), _xlpm.Spalte,_xlfn.IFS( _xlpm.Quelle="Tilia",2, _xlpm.Quelle="Berding Beton",3, _xlpm.Quelle="Eigene Eingabe",4, TRUE,0 ), _xlpm.Hoehe1,INDEX('Faktoren Abwasser'!$A:$D,_xlpm.Basis+21,_xlpm.Spalte), _xlpm.Hoehe05,INDEX('Faktoren Abwasser'!$A:$D,_xlpm.Basis+18,_xlpm.Spalte), _xlpm.Resthoehe,G38-G39*_xlpm.Hoehe1, IF( OR(_xlpm.Basis=0,_xlpm.Spalte=0,G38<=0,NOT(ISNUMBER(_xlpm.Hoehe05)),_xlpm.Hoehe05<=0), 0, ROUNDDOWN(_xlpm.Resthoehe/_xlpm.Hoehe05,0) ) )} -> 0
A41: Anzahl benötigter SR 0,25 m | B41: {=_xlfn.LET( _xlpm.DN,'Eingaben Hauptkanal'!F$241, _xlpm.Quelle,'Eingaben Hauptkanal'!F$243, _xlpm.Basis,_xlfn.IFS( _xlpm.DN="DN 1000",230, _xlpm.DN="DN 1200",255, _xlpm.DN="DN 1500",280, TRUE,0 ), _xlpm.Spalte,_xlfn.IFS( _xlpm.Quelle="Tilia",2, _xlpm.Quelle="Berding Beton",3, _xlpm.Quelle="Eigene Eingabe",4, TRUE,0 ), _xlpm.Hoehe1,INDEX('Faktoren Abwasser'!$A:$D,_xlpm.Basis+21,_xlpm.Spalte), _xlpm.Hoehe05,INDEX('Faktoren Abwasser'!$A:$D,_xlpm.Basis+18,_xlpm.Spalte), _xlpm.Hoehe025,INDEX('Faktoren Abwasser'!$A:$D,_xlpm.Basis+15,_xlpm.Spalte), _xlpm.Resthoehe,B38-B39*_xlpm.Hoehe1-B40*_xlpm.Hoehe05, IF( OR( _xlpm.Basis=0, _xlpm.Spalte=0, B38<=0, NOT(ISNUMBER(_xlpm.Hoehe025)), _xlpm.Hoehe025<=0 ), 0, ROUNDDOWN(_xlpm.Resthoehe/_xlpm.Hoehe025,0) ) )} -> 0 | C41: {=_xlfn.LET( _xlpm.DN,'Eingaben Hauptkanal'!G$241, _xlpm.Quelle,'Eingaben Hauptkanal'!G$243, _xlpm.Basis,_xlfn.IFS( _xlpm.DN="DN 1000",230, _xlpm.DN="DN 1200",255, _xlpm.DN="DN 1500",280, TRUE,0 ), _xlpm.Spalte,_xlfn.IFS( _xlpm.Quelle="Tilia",2, _xlpm.Quelle="Berding Beton",3, _xlpm.Quelle="Eigene Eingabe",4, TRUE,0 ), _xlpm.Hoehe1,INDEX('Faktoren Abwasser'!$A:$D,_xlpm.Basis+21,_xlpm.Spalte), _xlpm.Hoehe05,INDEX('Faktoren Abwasser'!$A:$D,_xlpm.Basis+18,_xlpm.Spalte), _xlpm.Hoehe025,INDEX('Faktoren Abwasser'!$A:$D,_xlpm.Basis+15,_xlpm.Spalte), _xlpm.Resthoehe,C38-C39*_xlpm.Hoehe1-C40*_xlpm.Hoehe05, IF( OR( _xlpm.Basis=0, _xlpm.Spalte=0, C38<=0, NOT(ISNUMBER(_xlpm.Hoehe025)), _xlpm.Hoehe025<=0 ), 0, ROUNDDOWN(_xlpm.Resthoehe/_xlpm.Hoehe025,0) ) )} -> 0 | D41: {=_xlfn.LET( _xlpm.DN,'Eingaben Hauptkanal'!H$241, _xlpm.Quelle,'Eingaben Hauptkanal'!H$243, _xlpm.Basis,_xlfn.IFS( _xlpm.DN="DN 1000",230, _xlpm.DN="DN 1200",255, _xlpm.DN="DN 1500",280, TRUE,0 ), _xlpm.Spalte,_xlfn.IFS( _xlpm.Quelle="Tilia",2, _xlpm.Quelle="Berding Beton",3, _xlpm.Quelle="Eigene Eingabe",4, TRUE,0 ), _xlpm.Hoehe1,INDEX('Faktoren Abwasser'!$A:$D,_xlpm.Basis+21,_xlpm.Spalte), _xlpm.Hoehe05,INDEX('Faktoren Abwasser'!$A:$D,_xlpm.Basis+18,_xlpm.Spalte), _xlpm.Hoehe025,INDEX('Faktoren Abwasser'!$A:$D,_xlpm.Basis+15,_xlpm.Spalte), _xlpm.Resthoehe,D38-D39*_xlpm.Hoehe1-D40*_xlpm.Hoehe05, IF( OR( _xlpm.Basis=0, _xlpm.Spalte=0, D38<=0, NOT(ISNUMBER(_xlpm.Hoehe025)), _xlpm.Hoehe025<=0 ), 0, ROUNDDOWN(_xlpm.Resthoehe/_xlpm.Hoehe025,0) ) )} -> 0 | E41: {=_xlfn.LET( _xlpm.DN,'Eingaben Hauptkanal'!I$241, _xlpm.Quelle,'Eingaben Hauptkanal'!I$243, _xlpm.Basis,_xlfn.IFS( _xlpm.DN="DN 1000",230, _xlpm.DN="DN 1200",255, _xlpm.DN="DN 1500",280, TRUE,0 ), _xlpm.Spalte,_xlfn.IFS( _xlpm.Quelle="Tilia",2, _xlpm.Quelle="Berding Beton",3, _xlpm.Quelle="Eigene Eingabe",4, TRUE,0 ), _xlpm.Hoehe1,INDEX('Faktoren Abwasser'!$A:$D,_xlpm.Basis+21,_xlpm.Spalte), _xlpm.Hoehe05,INDEX('Faktoren Abwasser'!$A:$D,_xlpm.Basis+18,_xlpm.Spalte), _xlpm.Hoehe025,INDEX('Faktoren Abwasser'!$A:$D,_xlpm.Basis+15,_xlpm.Spalte), _xlpm.Resthoehe,E38-E39*_xlpm.Hoehe1-E40*_xlpm.Hoehe05, IF( OR( _xlpm.Basis=0, _xlpm.Spalte=0, E38<=0, NOT(ISNUMBER(_xlpm.Hoehe025)), _xlpm.Hoehe025<=0 ), 0, ROUNDDOWN(_xlpm.Resthoehe/_xlpm.Hoehe025,0) ) )} -> 0 | F41: {=_xlfn.LET( _xlpm.DN,'Eingaben Hauptkanal'!J$241, _xlpm.Quelle,'Eingaben Hauptkanal'!J$243, _xlpm.Basis,_xlfn.IFS( _xlpm.DN="DN 1000",230, _xlpm.DN="DN 1200",255, _xlpm.DN="DN 1500",280, TRUE,0 ), _xlpm.Spalte,_xlfn.IFS( _xlpm.Quelle="Tilia",2, _xlpm.Quelle="Berding Beton",3, _xlpm.Quelle="Eigene Eingabe",4, TRUE,0 ), _xlpm.Hoehe1,INDEX('Faktoren Abwasser'!$A:$D,_xlpm.Basis+21,_xlpm.Spalte), _xlpm.Hoehe05,INDEX('Faktoren Abwasser'!$A:$D,_xlpm.Basis+18,_xlpm.Spalte), _xlpm.Hoehe025,INDEX('Faktoren Abwasser'!$A:$D,_xlpm.Basis+15,_xlpm.Spalte), _xlpm.Resthoehe,F38-F39*_xlpm.Hoehe1-F40*_xlpm.Hoehe05, IF( OR( _xlpm.Basis=0, _xlpm.Spalte=0, F38<=0, NOT(ISNUMBER(_xlpm.Hoehe025)), _xlpm.Hoehe025<=0 ), 0, ROUNDDOWN(_xlpm.Resthoehe/_xlpm.Hoehe025,0) ) )} -> 0 | G41: {=_xlfn.LET( _xlpm.DN,'Hilfsrechnungen&Baustelleninfo'!B14, _xlpm.Quelle,'Hilfsrechnungen&Baustelleninfo'!B16, _xlpm.Basis,_xlfn.IFS( _xlpm.DN="DN 1000",230, _xlpm.DN="DN 1200",255, _xlpm.DN="DN 1500",280, TRUE,0 ), _xlpm.Spalte,_xlfn.IFS( _xlpm.Quelle="Tilia",2, _xlpm.Quelle="Berding Beton",3, _xlpm.Quelle="Eigene Eingabe",4, TRUE,0 ), _xlpm.Hoehe1,INDEX('Faktoren Abwasser'!$A:$D,_xlpm.Basis+21,_xlpm.Spalte), _xlpm.Hoehe05,INDEX('Faktoren Abwasser'!$A:$D,_xlpm.Basis+18,_xlpm.Spalte), _xlpm.Hoehe025,INDEX('Faktoren Abwasser'!$A:$D,_xlpm.Basis+15,_xlpm.Spalte), _xlpm.Resthoehe,G38-G39*_xlpm.Hoehe1-G40*_xlpm.Hoehe05, IF( OR( _xlpm.Basis=0, _xlpm.Spalte=0, G38<=0, NOT(ISNUMBER(_xlpm.Hoehe025)), _xlpm.Hoehe025<=0 ), 0, ROUNDDOWN(_xlpm.Resthoehe/_xlpm.Hoehe025,0) ) )} -> 0
A42: Gewicht SR je Schacht | B42: {=_xlfn.LET( _xlpm.DN,'Eingaben Hauptkanal'!F$241, _xlpm.Quelle,'Eingaben Hauptkanal'!F$243, _xlpm.Basis,_xlfn.IFS( _xlpm.DN="DN 1000",230, _xlpm.DN="DN 1200",255, _xlpm.DN="DN 1500",280, TRUE,0 ), _xlpm.Spalte,_xlfn.IFS( _xlpm.Quelle="Tilia",2, _xlpm.Quelle="Berding Beton",3, _xlpm.Quelle="Eigene Eingabe",4, TRUE,0 ), _xlpm.Gewicht1,INDEX('Faktoren Abwasser'!$A:$D,_xlpm.Basis+20,_xlpm.Spalte), _xlpm.Gewicht05,INDEX('Faktoren Abwasser'!$A:$D,_xlpm.Basis+17,_xlpm.Spalte), _xlpm.Gewicht025,INDEX('Faktoren Abwasser'!$A:$D,_xlpm.Basis+14,_xlpm.Spalte), IF( OR(_xlpm.Basis=0,_xlpm.Spalte=0), 0, B39*_xlpm.Gewicht1+B40*_xlpm.Gewicht05+B41*_xlpm.Gewicht025 ) )} -> 0 | C42: {=_xlfn.LET( _xlpm.DN,'Eingaben Hauptkanal'!G$241, _xlpm.Quelle,'Eingaben Hauptkanal'!G$243, _xlpm.Basis,_xlfn.IFS( _xlpm.DN="DN 1000",230, _xlpm.DN="DN 1200",255, _xlpm.DN="DN 1500",280, TRUE,0 ), _xlpm.Spalte,_xlfn.IFS( _xlpm.Quelle="Tilia",2, _xlpm.Quelle="Berding Beton",3, _xlpm.Quelle="Eigene Eingabe",4, TRUE,0 ), _xlpm.Gewicht1,INDEX('Faktoren Abwasser'!$A:$D,_xlpm.Basis+20,_xlpm.Spalte), _xlpm.Gewicht05,INDEX('Faktoren Abwasser'!$A:$D,_xlpm.Basis+17,_xlpm.Spalte), _xlpm.Gewicht025,INDEX('Faktoren Abwasser'!$A:$D,_xlpm.Basis+14,_xlpm.Spalte), IF( OR(_xlpm.Basis=0,_xlpm.Spalte=0), 0, C39*_xlpm.Gewicht1+C40*_xlpm.Gewicht05+C41*_xlpm.Gewicht025 ) )} -> 0 | D42: {=_xlfn.LET( _xlpm.DN,'Eingaben Hauptkanal'!H$241, _xlpm.Quelle,'Eingaben Hauptkanal'!H$243, _xlpm.Basis,_xlfn.IFS( _xlpm.DN="DN 1000",230, _xlpm.DN="DN 1200",255, _xlpm.DN="DN 1500",280, TRUE,0 ), _xlpm.Spalte,_xlfn.IFS( _xlpm.Quelle="Tilia",2, _xlpm.Quelle="Berding Beton",3, _xlpm.Quelle="Eigene Eingabe",4, TRUE,0 ), _xlpm.Gewicht1,INDEX('Faktoren Abwasser'!$A:$D,_xlpm.Basis+20,_xlpm.Spalte), _xlpm.Gewicht05,INDEX('Faktoren Abwasser'!$A:$D,_xlpm.Basis+17,_xlpm.Spalte), _xlpm.Gewicht025,INDEX('Faktoren Abwasser'!$A:$D,_xlpm.Basis+14,_xlpm.Spalte), IF( OR(_xlpm.Basis=0,_xlpm.Spalte=0), 0, D39*_xlpm.Gewicht1+D40*_xlpm.Gewicht05+D41*_xlpm.Gewicht025 ) )} -> 0 | E42: {=_xlfn.LET( _xlpm.DN,'Eingaben Hauptkanal'!I$241, _xlpm.Quelle,'Eingaben Hauptkanal'!I$243, _xlpm.Basis,_xlfn.IFS( _xlpm.DN="DN 1000",230, _xlpm.DN="DN 1200",255, _xlpm.DN="DN 1500",280, TRUE,0 ), _xlpm.Spalte,_xlfn.IFS( _xlpm.Quelle="Tilia",2, _xlpm.Quelle="Berding Beton",3, _xlpm.Quelle="Eigene Eingabe",4, TRUE,0 ), _xlpm.Gewicht1,INDEX('Faktoren Abwasser'!$A:$D,_xlpm.Basis+20,_xlpm.Spalte), _xlpm.Gewicht05,INDEX('Faktoren Abwasser'!$A:$D,_xlpm.Basis+17,_xlpm.Spalte), _xlpm.Gewicht025,INDEX('Faktoren Abwasser'!$A:$D,_xlpm.Basis+14,_xlpm.Spalte), IF( OR(_xlpm.Basis=0,_xlpm.Spalte=0), 0, E39*_xlpm.Gewicht1+E40*_xlpm.Gewicht05+E41*_xlpm.Gewicht025 ) )} -> 0 | F42: {=_xlfn.LET( _xlpm.DN,'Eingaben Hauptkanal'!J$241, _xlpm.Quelle,'Eingaben Hauptkanal'!J$243, _xlpm.Basis,_xlfn.IFS( _xlpm.DN="DN 1000",230, _xlpm.DN="DN 1200",255, _xlpm.DN="DN 1500",280, TRUE,0 ), _xlpm.Spalte,_xlfn.IFS( _xlpm.Quelle="Tilia",2, _xlpm.Quelle="Berding Beton",3, _xlpm.Quelle="Eigene Eingabe",4, TRUE,0 ), _xlpm.Gewicht1,INDEX('Faktoren Abwasser'!$A:$D,_xlpm.Basis+20,_xlpm.Spalte), _xlpm.Gewicht05,INDEX('Faktoren Abwasser'!$A:$D,_xlpm.Basis+17,_xlpm.Spalte), _xlpm.Gewicht025,INDEX('Faktoren Abwasser'!$A:$D,_xlpm.Basis+14,_xlpm.Spalte), IF( OR(_xlpm.Basis=0,_xlpm.Spalte=0), 0, F39*_xlpm.Gewicht1+F40*_xlpm.Gewicht05+F41*_xlpm.Gewicht025 ) )} -> 0 | G42: {=_xlfn.LET( _xlpm.DN,'Hilfsrechnungen&Baustelleninfo'!B14, _xlpm.Quelle,'Hilfsrechnungen&Baustelleninfo'!B16, _xlpm.Basis,_xlfn.IFS( _xlpm.DN="DN 1000",230, _xlpm.DN="DN 1200",255, _xlpm.DN="DN 1500",280, TRUE,0 ), _xlpm.Spalte,_xlfn.IFS( _xlpm.Quelle="Tilia",2, _xlpm.Quelle="Berding Beton",3, _xlpm.Quelle="Eigene Eingabe",4, TRUE,0 ), _xlpm.Gewicht1,INDEX('Faktoren Abwasser'!$A:$D,_xlpm.Basis+20,_xlpm.Spalte), _xlpm.Gewicht05,INDEX('Faktoren Abwasser'!$A:$D,_xlpm.Basis+17,_xlpm.Spalte), _xlpm.Gewicht025,INDEX('Faktoren Abwasser'!$A:$D,_xlpm.Basis+14,_xlpm.Spalte), IF( OR(_xlpm.Basis=0,_xlpm.Spalte=0), 0, G39*_xlpm.Gewicht1+G40*_xlpm.Gewicht05+G41*_xlpm.Gewicht025 ) )} -> 0
A44: Steighilfen
A45: Erforderliche Länge | B45: ='Eingaben Hauptkanal'!F242 -> 0 | C45: ='Eingaben Hauptkanal'!G242 -> 0 | D45: ='Eingaben Hauptkanal'!H242 -> 0 | E45: ='Eingaben Hauptkanal'!I242 -> 0 | F45: ='Eingaben Hauptkanal'!J242 -> 0 | G45: ='Hilfsrechnungen&Baustelleninfo'!B15 -> 0
A46: Erforderliche Anzahl | B46: =ROUNDUP(B45*4,0) -> 0 | C46: =ROUNDUP(C45*4,0) -> 0 | D46: =ROUNDUP(D45*4,0) -> 0 | E46: =ROUNDUP(E45*4,0) -> 0 | F46: =ROUNDUP(F45*4,0) -> 0 | G46: =ROUNDUP(G45*4,0) -> 0
A47: Gewicht der Steighilfen | B47: {=_xlfn.LET( _xlpm.Quelle,'Eingaben Hauptkanal'!F$243, _xlpm.Spalte,_xlfn.IFS( _xlpm.Quelle="Tilia",2, _xlpm.Quelle="Berding Beton",3, _xlpm.Quelle="Eigene Eingabe",4, TRUE,0 ), IF( OR(_xlpm.Spalte=0,B46=0), 0, B46*INDEX('Faktoren Abwasser'!$A:$D,311,_xlpm.Spalte) ) )} -> 0 | C47: {=_xlfn.LET( _xlpm.Quelle,'Eingaben Hauptkanal'!G$243, _xlpm.Spalte,_xlfn.IFS( _xlpm.Quelle="Tilia",2, _xlpm.Quelle="Berding Beton",3, _xlpm.Quelle="Eigene Eingabe",4, TRUE,0 ), IF( OR(_xlpm.Spalte=0,C46=0), 0, C46*INDEX('Faktoren Abwasser'!$A:$D,311,_xlpm.Spalte) ) )} -> 0 | D47: {=_xlfn.LET( _xlpm.Quelle,'Eingaben Hauptkanal'!H$243, _xlpm.Spalte,_xlfn.IFS( _xlpm.Quelle="Tilia",2, _xlpm.Quelle="Berding Beton",3, _xlpm.Quelle="Eigene Eingabe",4, TRUE,0 ), IF( OR(_xlpm.Spalte=0,D46=0), 0, D46*INDEX('Faktoren Abwasser'!$A:$D,311,_xlpm.Spalte) ) )} -> 0 | E47: {=_xlfn.LET( _xlpm.Quelle,'Eingaben Hauptkanal'!I$243, _xlpm.Spalte,_xlfn.IFS( _xlpm.Quelle="Tilia",2, _xlpm.Quelle="Berding Beton",3, _xlpm.Quelle="Eigene Eingabe",4, TRUE,0 ), IF( OR(_xlpm.Spalte=0,E46=0), 0, E46*INDEX('Faktoren Abwasser'!$A:$D,311,_xlpm.Spalte) ) )} -> 0 | F47: {=_xlfn.LET( _xlpm.Quelle,'Eingaben Hauptkanal'!J$243, _xlpm.Spalte,_xlfn.IFS( _xlpm.Quelle="Tilia",2, _xlpm.Quelle="Berding Beton",3, _xlpm.Quelle="Eigene Eingabe",4, TRUE,0 ), IF( OR(_xlpm.Spalte=0,F46=0), 0, F46*INDEX('Faktoren Abwasser'!$A:$D,311,_xlpm.Spalte) ) )} -> 0 | G47: {=_xlfn.LET( _xlpm.Quelle,'Hilfsrechnungen&Baustelleninfo'!B16, _xlpm.Spalte,_xlfn.IFS( _xlpm.Quelle="Tilia",2, _xlpm.Quelle="Berding Beton",3, _xlpm.Quelle="Eigene Eingabe",4, TRUE,0 ), IF( OR(_xlpm.Spalte=0,G46=0), 0, G46*INDEX('Faktoren Abwasser'!$A:$D,311,_xlpm.Spalte) ) )} -> 0
A49: Gesamtgewicht 1 Schacht | B49: {=_xlfn.LET( _xlpm.DN,'Eingaben Hauptkanal'!F$241, _xlpm.Quelle,'Eingaben Hauptkanal'!F$243, _xlpm.Basis,_xlfn.IFS( _xlpm.DN="DN 1000",230, _xlpm.DN="DN 1200",255, _xlpm.DN="DN 1500",280, TRUE,0 ), _xlpm.Spalte,_xlfn.IFS( _xlpm.Quelle="Tilia",2, _xlpm.Quelle="Berding Beton",3, _xlpm.Quelle="Eigene Eingabe",4, TRUE,0 ), IF( OR(_xlpm.Basis=0,_xlpm.Spalte=0), 0, INDEX('Faktoren Abwasser'!$A:$D,307,_xlpm.Spalte) +B47 +INDEX('Faktoren Abwasser'!$A:$D,_xlpm.Basis+7,_xlpm.Spalte) +B42 +INDEX('Faktoren Abwasser'!$A:$D,_xlpm.Basis+2,_xlpm.Spalte) ) )} -> 0 | C49: {=_xlfn.LET( _xlpm.DN,'Eingaben Hauptkanal'!G$241, _xlpm.Quelle,'Eingaben Hauptkanal'!G$243, _xlpm.Basis,_xlfn.IFS( _xlpm.DN="DN 1000",230, _xlpm.DN="DN 1200",255, _xlpm.DN="DN 1500",280, TRUE,0 ), _xlpm.Spalte,_xlfn.IFS( _xlpm.Quelle="Tilia",2, _xlpm.Quelle="Berding Beton",3, _xlpm.Quelle="Eigene Eingabe",4, TRUE,0 ), IF( OR(_xlpm.Basis=0,_xlpm.Spalte=0), 0, INDEX('Faktoren Abwasser'!$A:$D,307,_xlpm.Spalte) +C47 +INDEX('Faktoren Abwasser'!$A:$D,_xlpm.Basis+7,_xlpm.Spalte) +C42 +INDEX('Faktoren Abwasser'!$A:$D,_xlpm.Basis+2,_xlpm.Spalte) ) )} -> 0 | D49: {=_xlfn.LET( _xlpm.DN,'Eingaben Hauptkanal'!H$241, _xlpm.Quelle,'Eingaben Hauptkanal'!H$243, _xlpm.Basis,_xlfn.IFS( _xlpm.DN="DN 1000",230, _xlpm.DN="DN 1200",255, _xlpm.DN="DN 1500",280, TRUE,0 ), _xlpm.Spalte,_xlfn.IFS( _xlpm.Quelle="Tilia",2, _xlpm.Quelle="Berding Beton",3, _xlpm.Quelle="Eigene Eingabe",4, TRUE,0 ), IF( OR(_xlpm.Basis=0,_xlpm.Spalte=0), 0, INDEX('Faktoren Abwasser'!$A:$D,307,_xlpm.Spalte) +D47 +INDEX('Faktoren Abwasser'!$A:$D,_xlpm.Basis+7,_xlpm.Spalte) +D42 +INDEX('Faktoren Abwasser'!$A:$D,_xlpm.Basis+2,_xlpm.Spalte) ) )} -> 0 | E49: {=_xlfn.LET( _xlpm.DN,'Eingaben Hauptkanal'!I$241, _xlpm.Quelle,'Eingaben Hauptkanal'!I$243, _xlpm.Basis,_xlfn.IFS( _xlpm.DN="DN 1000",230, _xlpm.DN="DN 1200",255, _xlpm.DN="DN 1500",280, TRUE,0 ), _xlpm.Spalte,_xlfn.IFS( _xlpm.Quelle="Tilia",2, _xlpm.Quelle="Berding Beton",3, _xlpm.Quelle="Eigene Eingabe",4, TRUE,0 ), IF( OR(_xlpm.Basis=0,_xlpm.Spalte=0), 0, INDEX('Faktoren Abwasser'!$A:$D,307,_xlpm.Spalte) +E47 +INDEX('Faktoren Abwasser'!$A:$D,_xlpm.Basis+7,_xlpm.Spalte) +E42 +INDEX('Faktoren Abwasser'!$A:$D,_xlpm.Basis+2,_xlpm.Spalte) ) )} -> 0 | F49: {=_xlfn.LET( _xlpm.DN,'Eingaben Hauptkanal'!J$241, _xlpm.Quelle,'Eingaben Hauptkanal'!J$243, _xlpm.Basis,_xlfn.IFS( _xlpm.DN="DN 1000",230, _xlpm.DN="DN 1200",255, _xlpm.DN="DN 1500",280, TRUE,0 ), _xlpm.Spalte,_xlfn.IFS( _xlpm.Quelle="Tilia",2, _xlpm.Quelle="Berding Beton",3, _xlpm.Quelle="Eigene Eingabe",4, TRUE,0 ), IF( OR(_xlpm.Basis=0,_xlpm.Spalte=0), 0, INDEX('Faktoren Abwasser'!$A:$D,307,_xlpm.Spalte) +F47 +INDEX('Faktoren Abwasser'!$A:$D,_xlpm.Basis+7,_xlpm.Spalte) +F42 +INDEX('Faktoren Abwasser'!$A:$D,_xlpm.Basis+2,_xlpm.Spalte) ) )} -> 0 | G49: {=_xlfn.LET( _xlpm.DN,'Hilfsrechnungen&Baustelleninfo'!B14, _xlpm.Quelle,'Hilfsrechnungen&Baustelleninfo'!B16, _xlpm.Basis,_xlfn.IFS( _xlpm.DN="DN 1000",230, _xlpm.DN="DN 1200",255, _xlpm.DN="DN 1500",280, TRUE,0 ), _xlpm.Spalte,_xlfn.IFS( _xlpm.Quelle="Tilia",2, _xlpm.Quelle="Berding Beton",3, _xlpm.Quelle="Eigene Eingabe",4, TRUE,0 ), IF( OR(_xlpm.Basis=0,_xlpm.Spalte=0), 0, INDEX('Faktoren Abwasser'!$A:$D,307,_xlpm.Spalte) +G47 +INDEX('Faktoren Abwasser'!$A:$D,_xlpm.Basis+7,_xlpm.Spalte) +G42 +INDEX('Faktoren Abwasser'!$A:$D,_xlpm.Basis+2,_xlpm.Spalte) ) )} -> 0
A85: Nebenrechnung CO2e geschl. Bauweisen
A87: Bauweise | B87: ='Eingaben Hauptkanal'!F17 -> 0 | C87: ='Eingaben Hauptkanal'!G17 -> 0 | D87: ='Eingaben Hauptkanal'!H17 -> 0 | E87: ='Eingaben Hauptkanal'!I17 -> 0 | F87: ='Eingaben Hauptkanal'!J17 -> 0
...

Sheet Auswertung
B1: Berechnung der THG-Emissionen in t CO2e
C2: ='Eingaben Hauptkanal'!F10 -> Abschnitt/Maßnahme 1: Hauptkanal DN300 | D2: ='Eingaben Hauptkanal'!G10 -> Abschnitt/Maßnahme 2: Anschlussleitungen | E2: ='Eingaben Hauptkanal'!H10 -> Abschnitt/Maßnahme 3 | F2: ='Eingaben Hauptkanal'!I10 -> Abschnitt/Maßnahme 4 | G2: ='Eingaben Hauptkanal'!J10 -> Abschnitt/Maßnahme 5 | H2: Gesamt | I2: Relativ
B3: ='Eingaben Hauptkanal'!B24 -> Baustelleneinrichtung | C3: ='Eingaben Hauptkanal'!F24 -> 0 | D3: ='Eingaben Hauptkanal'!G24 -> 0 | E3: ='Eingaben Hauptkanal'!H24 -> 0 | F3: ='Eingaben Hauptkanal'!I24 -> 0 | G3: ='Eingaben Hauptkanal'!J24 -> 0 | H3: {=SUM(IF(ISNUMBER(C3:G3),C3:G3))} -> 0 | I3: =H3/$H$8 -> #DIV/0!
B4: ='Eingaben Hauptkanal'!B27 -> Pumpen Abwasser/Grundwasser | C4: ='Eingaben Hauptkanal'!F27 -> 0 | D4: ='Eingaben Hauptkanal'!G27 -> 0 | E4: ='Eingaben Hauptkanal'!H27 -> 0 | F4: ='Eingaben Hauptkanal'!I27 -> 0 | G4: ='Eingaben Hauptkanal'!J27 -> 0 | H4: {=SUM(IF(ISNUMBER(C4:G4),C4:G4))} -> 0 | I4: =H4/$H$8 -> #DIV/0!
B5: ='Eingaben Hauptkanal'!B42 -> Straßenarbeiten | C5: ='Eingaben Hauptkanal'!F42 -> #N/A | D5: ='Eingaben Hauptkanal'!G42 -> #N/A | E5: ='Eingaben Hauptkanal'!H42 -> #N/A | F5: ='Eingaben Hauptkanal'!I42 -> #N/A | G5: ='Eingaben Hauptkanal'!J42 -> #N/A | H5: {=SUM(IF(ISNUMBER(C5:G5),C5:G5))} -> 0 | I5: =H5/$H$8 -> #DIV/0!
B6: ='Eingaben Hauptkanal'!B123 -> Verbau + Bodenaushub | C6: ='Eingaben Hauptkanal'!F123 -> 0 | D6: ='Eingaben Hauptkanal'!G123 -> 0 | E6: ='Eingaben Hauptkanal'!H123 -> 0 | F6: ='Eingaben Hauptkanal'!I123 -> 0 | G6: ='Eingaben Hauptkanal'!J123 -> 0 | H6: {=SUM(IF(ISNUMBER(C6:G6),C6:G6))} -> 0 | I6: =H6/$H$8 -> #DIV/0!
B7: ='Eingaben Hauptkanal'!B222 -> Rohre + Schächte | C7: ='Eingaben Hauptkanal'!F222 -> 0 | D7: ='Eingaben Hauptkanal'!G222 -> 0 | E7: ='Eingaben Hauptkanal'!H222 -> 0 | F7: ='Eingaben Hauptkanal'!I222 -> 0 | G7: ='Eingaben Hauptkanal'!J222 -> 0 | H7: {=SUM(IF(ISNUMBER(C7:G7),C7:G7))} -> 0 | I7: =H7/$H$8 -> #DIV/0!
B8: Summe | C8: =SUM(C3:C7) -> #N/A | D8: =SUM(D3:D7) -> #N/A | E8: =SUM(E3:E7) -> #N/A | F8: =SUM(F3:F7) -> #N/A | G8: =SUM(G3:G7) -> #N/A | H8: {=SUM(IF(ISNUMBER(C8:G8),C8:G8))} -> 0 | I8: =H8/$H$8 -> #DIV/0!
B11: Länge der Leitungen | C11: ='Eingaben Hauptkanal'!F21 -> 0 | D11: ='Eingaben Hauptkanal'!G21 -> 0 | E11: ='Eingaben Hauptkanal'!H21 -> 0 | F11: ='Eingaben Hauptkanal'!I21 -> 0 | G11: ='Eingaben Hauptkanal'!J21 -> 0 | H11: =SUM(C11:G11) -> 0
B13: Berechung der THG-Emissionen in kg CO2e/m
C14: ='Eingaben Hauptkanal'!F10 -> Abschnitt/Maßnahme 1: Hauptkanal DN300 | D14: ='Eingaben Hauptkanal'!G10 -> Abschnitt/Maßnahme 2: Anschlussleitungen | E14: ='Eingaben Hauptkanal'!H10 -> Abschnitt/Maßnahme 3 | F14: ='Eingaben Hauptkanal'!I10 -> Abschnitt/Maßnahme 4 | G14: ='Eingaben Hauptkanal'!J10 -> Abschnitt/Maßnahme 5 | H14: Gesamt | I14: Relativ
B15: ='Eingaben Hauptkanal'!B24 -> Baustelleneinrichtung | C15: =C3/C$11 -> #DIV/0! | D15: =D3/D$11 -> #DIV/0! | E15: =E3/E$11 -> #DIV/0! | F15: =F3/F$11 -> #DIV/0! | G15: =G3/G$11 -> #DIV/0! | H15: =H3/H$11 -> #DIV/0! | I15: =I3 -> #DIV/0!
B16: ='Eingaben Hauptkanal'!B27 -> Pumpen Abwasser/Grundwasser | C16: =C4/C$11 -> #DIV/0! | D16: =D4/D$11 -> #DIV/0! | E16: =E4/E$11 -> #DIV/0! | F16: =F4/F$11 -> #DIV/0! | G16: =G4/G$11 -> #DIV/0! | H16: =H4/H$11 -> #DIV/0! | I16: =I4 -> #DIV/0!
B17: ='Eingaben Hauptkanal'!B42 -> Straßenarbeiten | C17: =C5/C$11 -> #N/A | D17: =D5/D$11 -> #N/A | E17: =E5/E$11 -> #N/A | F17: =F5/F$11 -> #N/A | G17: =G5/G$11 -> #N/A | H17: =H5/H$11 -> #DIV/0! | I17: =I5 -> #DIV/0!
B18: ='Eingaben Hauptkanal'!B123 -> Verbau + Bodenaushub | C18: =C6/C$11 -> #DIV/0! | D18: =D6/D$11 -> #DIV/0! | E18: =E6/E$11 -> #DIV/0! | F18: =F6/F$11 -> #DIV/0! | G18: =G6/G$11 -> #DIV/0! | H18: =H6/H$11 -> #DIV/0! | I18: =I6 -> #DIV/0!
B19: ='Eingaben Hauptkanal'!B222 -> Rohre + Schächte | C19: =C7/C$11 -> #DIV/0! | D19: =D7/D$11 -> #DIV/0! | E19: =E7/E$11 -> #DIV/0! | F19: =F7/F$11 -> #DIV/0! | G19: =G7/G$11 -> #DIV/0! | H19: =H7/H$11 -> #DIV/0! | I19: =I7 -> #DIV/0!
B20: Summe | C20: =SUM(C15:C19) -> #DIV/0! | D20: =SUM(D15:D19) -> #DIV/0! | E20: =SUM(E15:E19) -> #DIV/0! | F20: =SUM(F15:F19) -> #DIV/0! | G20: =SUM(G15:G19) -> #DIV/0! | H20: =SUM(H15:H19) -> #DIV/0! | I20: =I8 -> #DIV/0!
