Workbook

Sheet Deckblatt
C3: BILANZIERUNG VON SCOPE 3-EMISSIONEN
C4: Scope 3.2 Investitionsgüter
C6: Version: | D6: 3.0
C7: Datum: | D7: 46233
C9: Diese Handreichung ist das Ergebnis einer umfangreichen Zusammenarbeit der am Projekt beteiligten Betreiberunternehmen. Ziel war es, einen einheitlichen Standard zur Erstellung und kontinuierlichen Verbesserung von Scope-3-Klimabilanzen in den jeweiligen Organisationen zu entwickeln. Die erarbeiteten Methoden und Ergebnisse sind skalierbar und stehen allen Betreiberunternehmen der deutschen Wasserwirtschaft zur Verfügung. Diese sind ausdrücklich eingeladen, die Ansätze im eigenen Unternehmen anzuwenden. Rückmeldungen an die Arbeitsgruppe sind stets willkommen und leisten einen wichtigen Beitrag zur kontinuierlichen Weiterentwicklung und Vereinfachung der Methodik für die gesamte Branche. Die vorliegende Excel-Datei dient der Berechnung der Treibhausgasemissionen aus Scope 3.2 (Investitionsgüter). Sie unterstützt Anwenderinnen und Anwender bei der standardisierten Erfassung und Bilanzierung der entsprechenden Emissionen.
C19: KURZANLEITUNG
C21: NUTZUNG DER BERECHNUNGSTABELLE (Eingaben Hauptkanal) - Farbcodes
C22: Von Arbeitsgruppe vorgegeben: | J22: Von Benutzer*innen auszufüllen:
D23: Weiß hinterlegte Felder: Formeln und Zwischenrechnungen, die Eingaben und Faktoren verwenden | K23: Hellblau hinterlegte Felder: projektspezifische Daten eingeben
C25: berechnete Werte: | J25: Fehlerhafte oder fehlende Werte/Formeln:
C26: Zwischenergebnis | D26: Teil-Emissionen je Unterpunkt | K26: Anpassen einer Formel oder Nachtragen/Aktualisieren von Literaturwerten erforderlich
C27: Endergebnis | D27: Gesamtemissionen je Maßnahme und spezifische Emissionen je Maßnahme
C29: BITTE BEACHTEN
C30: Zur Kenntnisnahme | H30: Zu bearbeiten | M30: Nicht zu bearbeiten!
C32: Arbeitsmappen mit blauer Markierung enthalten Hinweise, die lediglich zur Kenntnisnahme dienen und keiner weiteren Bearbeitung bedürfen. | H32: Gelb markierte Arbeitsmappen sind aktiv zu bearbeiten. | M32: Arbeitsmappen in Grau beinhalten alle Listen, die in den gelb eingefärbten Arbeitsmappen als Faktoren oder Dropdown-Optionen verwendet werden. Diese sind i.d.R. nicht zur Bearbeitung vorgesehen! Lediglich einzelne Punkte (insbesondere die Stammdaten für Schächte) enthalten vereinzelt hellblaue Felder, die bei Bedarf ausgefüllt werden können (Standardwerte sind hinterlegt)
C38: INHALTE DER EXCEL
C39: Eingaben Hauptkanal | D39: Detaillierte Berechnung von THG-Emissionen bei Rohr- und Kanalbaumaßnahmen
C40: Dropdown Menüs | D40: Auflistung der Optionen für die Dropdown Menüs im Tabellenblatt "Eingaben Hauptkanal"
C41: Faktoren Abwasser | D41: Übersicht über getroffene Annahmen und die verwendenden Emissionfaktoren für die Bilanzierung von Scope 3.2. Sollten Werte angepasst werden, z.B. da aktualisierte Literaturwerte vorliegen, sollte das Datum in der Spalte "zuletzt aktualisiert" angepasst werden.
C42: Hilfsrechnungen & Baustelleninfo | D42: Es wird empfohlen, notwendige Nebenrechnungen oder Zwischenschritte lediglich auf diesem Tabellenblatt einzufügen. Es wird empfohlen, nach Möglichkeit keine weiteren Zeilen in der Haupttabelle einzufügen.
C43: Auswertung | D43: Auswertung der Emissionen
C45: HAFTUNGSAUSSCHLUSS/NUTZUNG DER ZUR VERFÜGUNGGESTELLTEN UNTERLAGEN
C46: Diese Excel-Datei ist ein Teilergebnis der AG Scope 3. Er stellt eine Fachmeinung dar und dient der allgemeinen Information und nicht der Beratung in konkreten Fällen. Die Mitglieder der Arbeitsgruppe sind bemüht, für die Richtigkeit und Aktualität aller in der Excel-Datei enthaltenen Informationen und Daten zu sorgen. Für die Korrektheit, Vollständigkeit, Aktualität oder Qualität der bereitgestellten Informationen und Daten wird jedoch keine Gewähr übernommen. Die Haftung für den Inhalt der abrufbaren Informationen wird ausgeschlossen, soweit es sich nicht um vorsätzliche oder grob fahrlässige Falschinformation handelt. Copyright: Alle Inhalte diese Excel-Datei, insbesondere Texte, Fotografien und Grafiken sind urheberrechtlich geschützt. Die Anwendung ist den Unternehmen und Organisationen der deutschen Wasserwirtschaft für den Eigenbedarf gestattet. Die Vervielfältigung, Bearbeitung, Verbreitung im Rahmen einer gewerblichen Nutzung bedürfen der schriftlichen Zustimmung.
C53: Download-Link:
C54: https://www.hansewasser.de/unternehmen/scope-3-leitfaden
C56: MITGLIEDER DER PROJEKTGRUPPE

Sheet Eingaben Hauptkanal
A2: Detaillierte Berechnung von THG-Emissionen bei Rohr- und Kanalbaumaßnahmen
A4: Daten der Baustelle
B5: Name/Ort der Baustelle, ggf. Kurzbeschreibung | F5: xyz
B6: Bearbeiter | F6: Name
B7: Zuletzt geändert am | F7: Datum
A9: A - Hauptkanal und Schächte
F10: Abschnitt/Maßnahme 1: Hauptkanal DN300 | G10: Abschnitt/Maßnahme 2: Anschlussleitungen | H10: Abschnitt/Maßnahme 3 | I10: Abschnitt/Maßnahme 4 | J10: Abschnitt/Maßnahme 5 | K10: GESAMT | L10: Einheit | N10: Kommentar
B11: Gesamtemissionen | F11: =F24+F27+F42+F123+F222 -> #N/A | G11: =G24+G27+G42+G123+G222 -> #N/A | H11: =SUM(H24,H27,H42,H123,H222) -> #N/A | I11: =SUM(I24,I27,I42,I123,I222) -> #N/A | J11: =SUM(J24,J27,J42,J123,J222) -> #N/A | K11: {=SUM(IF(ISNUMBER(F11:J11),F11:J11))} -> 0 | L11: kg CO2-Äqv.
B12: davon Scope 3.5 | F12: =SUM(F78,F188,F192,F212,F291,F296) -> #N/A
B13: Emissionen spezifisch pro gebautem Meter | F13: =F11/F21 -> #N/A | G13: =G11/G21 -> #N/A | H13: =H11/H21 -> #N/A | I13: =I11/I21 -> #N/A | J13: =J11/J21 -> #N/A | K13: =K11/K21 -> #DIV/0! | L13: kg CO2-Äqv./m
A15: 1. | B15: Allgemeine Angaben
B17: Bauweise | L17: -
B18: Art d. geschl. Bauweise | L18: -
B19: Durchmesser neues Rohr (DN) | L19: mm
B20: Material neues Rohr | L20: -
B21: Länge neues Rohr | K21: =SUM(F21:J21) -> 0 | L21: m
A24: 2. | B24: Baustelleneinrichtung | F24: =$E$25*F123 -> 0 | G24: =$E$25*G123 -> 0 | H24: =$E$25*H123 -> 0 | I24: =$E$25*I123 -> 0 | J24: =$E$25*J123 -> 0 | K24: =SUM(F24:J24) -> 0 | L24: kg CO2-Äqv. | N24: prozentual anhand des Verbaus bestimmt
D25: Aufschlag: | E25: 0.1
A27: 3. | B27: Pumpen Abwasser/Grundwasser | F27: =F29+F36 -> 0 | G27: =G29+G36 -> 0 | H27: =H29+H36 -> 0 | I27: =I29+I36 -> 0 | J27: =J29+J36 -> 0 | K27: {=SUM(IF(ISNUMBER(F27:J27),F27:J27))} -> 0 | L27: kg CO2-Äqv.
A29: 3.1 | B29: Abwasserumleitung mittels Pumpen | F29: =IF(F30="nein",0,F31*'Eingaben Hauptkanal'!F33*F32*'Faktoren Abwasser'!$B$6) -> 0 | G29: =IF(G30="nein",0,G31*'Eingaben Hauptkanal'!G33*G32*'Faktoren Abwasser'!$B$6) -> 0 | H29: =IF(H30="nein",0,H31*'Eingaben Hauptkanal'!H33*H32*'Faktoren Abwasser'!$B$6) -> 0 | I29: =IF(I30="nein",0,I31*'Eingaben Hauptkanal'!I33*I32*'Faktoren Abwasser'!$B$6) -> 0 | J29: =IF(J30="nein",0,J31*'Eingaben Hauptkanal'!J33*J32*'Faktoren Abwasser'!$B$6) -> 0 | K29: {=SUM(IF(ISNUMBER(F29:J29),F29:J29))} -> 0 | L29: kg CO2-Äqv.
B30: Umleitung vorhanden? | L30: -
B31: Fördermenge (mittel) | L31: m³/h
B32: Dauer der Umleitung | L32: h
B33: Dieselverbrauch pro m3 | L33: l/m³
A36: 3.2 | B36: Grundwasserabsenkung | F36: =IF(F37="nein",0,F38*'Eingaben Hauptkanal'!F40*F39*'Faktoren Abwasser'!$B$6) -> 0 | G36: =IF(G37="nein",0,G38*'Eingaben Hauptkanal'!G40*G39*'Faktoren Abwasser'!$B$6) -> 0 | H36: =IF(H37="nein",0,H38*'Eingaben Hauptkanal'!H40*H39*'Faktoren Abwasser'!$B$6) -> 0 | I36: =IF(I37="nein",0,I38*'Eingaben Hauptkanal'!I40*I39*'Faktoren Abwasser'!$B$6) -> 0 | J36: =IF(J37="nein",0,J38*'Eingaben Hauptkanal'!J40*J39*'Faktoren Abwasser'!$B$6) -> 0 | K36: {=SUM(IF(ISNUMBER(F36:J36),F36:J36))} -> 0 | L36: kg CO2-Äqv.
B37: Absenkung vorhanden? | L37: -
B38: Fördermenge (mittel) | L38: m³/h
B39: Dauer der Absenkung | L39: h
B40: Dieselverbrauch pro m3 | L40: l/m³
A42: 4. | B42: Straßenarbeiten | F42: =F65+F88 -> #N/A | G42: =G65+G88 -> #N/A | H42: =H65+H88 -> #N/A | I42: =I65+I88 -> #N/A | J42: =J65+J88 -> #N/A | K42: {=SUM(IF(ISNUMBER(F42:J42),F42:J42))} -> 0 | L42: kg CO2-Äqv.
A44: 4.1 | B44: Allgemeine Angaben
A45: 4.1.1 | B45: Straßenaufbau alt
B46: Material Deckschicht | L46: -
B47: Schichtdicke Deckschicht | L47: m
B48: Schichtdicke Pflasterbettung | L48: m
B49: Schichtdicke Asphaltbinder | L49: m
B50: Schichtdicke Asphalttragschicht (3. Tragschicht) | L50: m
B51: Schichtdicke Schottertragschicht (2. Tragschicht) | L51: m
B52: Schichtdicke Frostschutzschicht (1. Tragschicht) | L52: m
B53: Betrachtungsweise
A55: 4.1.2 | B55: Straßenaufbau neu (kann identisch 4.1.1 sein oder abweichen)
B56: Material Deckschicht | L56: -
B57: Schichtdicke Deckschicht | L57: m
B58: Schichtdicke Pflasterbettung | L58: m
B59: Schichtdicke Asphaltbinder | L59: m
B60: Schichtdicke Asphalttragschicht (3. Tragschicht) | L60: m
B61: Schichtdicke Schottertragschicht (2. Tragschicht) | L61: m
B62: Schichtdicke Frostschutzschicht (1. Tragschicht) | L62: m
B63: Betrachtungsweise
A65: 4.2 | B65: Straßenaufbruch | F65: =F66+F78 -> #N/A | G65: =G66+G78 -> #N/A | H65: =H66+H78 -> #N/A | I65: =I66+I78 -> #N/A | J65: =J66+J78 -> #N/A | K65: {=SUM(IF(ISNUMBER(F65:J65),F65:J65))} -> 0 | L65: kg CO2-Äqv.
A66: 4.2.1 | B66: Asphalt fräsen | F66: =IF(F53='Dropdown Menüs'!$G$6,F67*F$47*'Faktoren Abwasser'!$B$179*'Faktoren Abwasser'!$B$178*'Faktoren Abwasser'!$B$6,IF(F53='Dropdown Menüs'!$G$7,F68*F$47*'Faktoren Abwasser'!$B$179*'Faktoren Abwasser'!$B$178*'Faktoren Abwasser'!$B$6)) -> FALSE | G66: =IF(G53='Dropdown Menüs'!$G$6,G67*G$47*'Faktoren Abwasser'!$B$179*'Faktoren Abwasser'!$B$178*'Faktoren Abwasser'!$B$6,IF(G53='Dropdown Menüs'!$G$7,G68*G$47*'Faktoren Abwasser'!$B$179*'Faktoren Abwasser'!$B$178*'Faktoren Abwasser'!$B$6)) -> FALSE | H66: =IF(H53='Dropdown Menüs'!$G$6,H67*H$47*'Faktoren Abwasser'!$B$179*'Faktoren Abwasser'!$B$178*'Faktoren Abwasser'!$B$6,IF(H53='Dropdown Menüs'!$G$7,H68*H$47*'Faktoren Abwasser'!$B$179*'Faktoren Abwasser'!$B$178*'Faktoren Abwasser'!$B$6)) -> FALSE | I66: =IF(I53='Dropdown Menüs'!$G$6,I67*I$47*'Faktoren Abwasser'!$B$179*'Faktoren Abwasser'!$B$178*'Faktoren Abwasser'!$B$6,IF(I53='Dropdown Menüs'!$G$7,I68*I$47*'Faktoren Abwasser'!$B$179*'Faktoren Abwasser'!$B$178*'Faktoren Abwasser'!$B$6)) -> FALSE | J66: =IF(J53='Dropdown Menüs'!$G$6,J67*J$47*'Faktoren Abwasser'!$B$179*'Faktoren Abwasser'!$B$178*'Faktoren Abwasser'!$B$6,IF(J53='Dropdown Menüs'!$G$7,J68*J$47*'Faktoren Abwasser'!$B$179*'Faktoren Abwasser'!$B$178*'Faktoren Abwasser'!$B$6)) -> FALSE | K66: =SUM(F66:J66) -> 0
B67: Fläche Aufbruch und Wiederherstellung (lt. Planung ohne Nachträge) | L67: m²
B68: Fläche Aufbruch und Wiederherstellung (real inkl. Nachträge) | L68: m²
B70: Mengen Aufbruch
B71: Deckschicht | F71: =F$47 * F$68 * INDEX('Faktoren Abwasser'!$B$114:$B$117, MATCH(F$46, 'Dropdown Menüs'!$F$6:$F$9, 0) ) / 1000 -> #N/A | G71: =G47 * G68 * INDEX('Faktoren Abwasser'!$B$114:$B$117, MATCH(G46, 'Dropdown Menüs'!$F$6:$F$9, 0) ) / 1000 -> #N/A | H71: =H47 * H68 * INDEX('Faktoren Abwasser'!$B$114:$B$117, MATCH(H46, 'Dropdown Menüs'!$F$6:$F$9, 0) ) / 1000 -> #N/A | I71: =I47 * I68 * INDEX('Faktoren Abwasser'!$B$114:$B$117, MATCH(I46, 'Dropdown Menüs'!$F$6:$F$9, 0) ) / 1000 -> #N/A | J71: =J47 * J68 * INDEX('Faktoren Abwasser'!$B$114:$B$117, MATCH(J46, 'Dropdown Menüs'!$F$6:$F$9, 0) ) / 1000 -> #N/A | K71: {=SUM(IF(ISNUMBER(F71:J71),F71:J71))} -> 0 | L71: t
B72: Pflasterbettung | F72: =IF(F$53='Dropdown Menüs'!$G$6,F$48*F$67*'Faktoren Abwasser'!$B$118/1000,IF(F$53='Dropdown Menüs'!$G$7,(F$48*F$67*'Faktoren Abwasser'!$B$118/1000)+(F$48*(F$68-F$67)*'Faktoren Abwasser'!$B$118/1000*0.2))) -> FALSE | G72: =IF(G$53='Dropdown Menüs'!$G$6,G48*G$67*'Faktoren Abwasser'!$B$118/1000,IF(G$53='Dropdown Menüs'!$G$7,(G48*G$67*'Faktoren Abwasser'!$B$118/1000)+(G48*(G$68-G$67)*'Faktoren Abwasser'!$B$118/1000*0.2))) -> FALSE | H72: =IF(H$53='Dropdown Menüs'!$G$6,H48*H$67*'Faktoren Abwasser'!$B$118/1000,IF(H$53='Dropdown Menüs'!$G$7,(H48*H$67*'Faktoren Abwasser'!$B$118/1000)+(H48*(H$68-H$67)*'Faktoren Abwasser'!$B$118/1000*0.2))) -> FALSE | I72: =IF(I$53='Dropdown Menüs'!$G$6,I48*I$67*'Faktoren Abwasser'!$B$118/1000,IF(I$53='Dropdown Menüs'!$G$7,(I48*I$67*'Faktoren Abwasser'!$B$118/1000)+(I48*(I$68-I$67)*'Faktoren Abwasser'!$B$118/1000*0.2))) -> FALSE | J72: =IF(J$53='Dropdown Menüs'!$G$6,J48*J$67*'Faktoren Abwasser'!$B$118/1000,IF(J$53='Dropdown Menüs'!$G$7,(J48*J$67*'Faktoren Abwasser'!$B$118/1000)+(J48*(J$68-J$67)*'Faktoren Abwasser'!$B$118/1000*0.2))) -> FALSE | K72: {=SUM(IF(ISNUMBER(F72:J72),F72:J72))} -> 0 | L72: t
B73: Asphaltbinder | F73: =IF(F$53='Dropdown Menüs'!$G$6,F$49*F$67*'Faktoren Abwasser'!$B$119/1000,IF(F$53='Dropdown Menüs'!$G$7,(F$49*F$67*'Faktoren Abwasser'!$B$119/1000)+(F$49*(F$68-F$67)*'Faktoren Abwasser'!$B$119/1000*0.2))) -> FALSE | G73: =IF(G$53='Dropdown Menüs'!$G$6,G49*G$67*'Faktoren Abwasser'!$B$119/1000,IF(G$53='Dropdown Menüs'!$G$7,(G49*G$67*'Faktoren Abwasser'!$B$119/1000)+(G49*(G$68-G$67)*'Faktoren Abwasser'!$B$119/1000*0.2))) -> FALSE | H73: =IF(H$53='Dropdown Menüs'!$G$6,H49*H$67*'Faktoren Abwasser'!$B$119/1000,IF(H$53='Dropdown Menüs'!$G$7,(H49*H$67*'Faktoren Abwasser'!$B$119/1000)+(H49*(H$68-H$67)*'Faktoren Abwasser'!$B$119/1000*0.2))) -> FALSE | I73: =IF(I$53='Dropdown Menüs'!$G$6,I49*I$67*'Faktoren Abwasser'!$B$119/1000,IF(I$53='Dropdown Menüs'!$G$7,(I49*I$67*'Faktoren Abwasser'!$B$119/1000)+(I49*(I$68-I$67)*'Faktoren Abwasser'!$B$119/1000*0.2))) -> FALSE | J73: =IF(J$53='Dropdown Menüs'!$G$6,J49*J$67*'Faktoren Abwasser'!$B$119/1000,IF(J$53='Dropdown Menüs'!$G$7,(J49*J$67*'Faktoren Abwasser'!$B$119/1000)+(J49*(J$68-J$67)*'Faktoren Abwasser'!$B$119/1000*0.2))) -> FALSE | K73: {=SUM(IF(ISNUMBER(F73:J73),F73:J73))} -> 0 | L73: t
B74: Asphalttragschicht | F74: =IF(F$53='Dropdown Menüs'!$G$6,F$50*F$67*'Faktoren Abwasser'!$B$120/1000,IF(F$53='Dropdown Menüs'!$G$7,(F$50*F$67*'Faktoren Abwasser'!$B$120/1000)+(F$50*(F$68-F$67)*'Faktoren Abwasser'!$B$120/1000*0.2))) -> FALSE | G74: =IF(G$53='Dropdown Menüs'!$G$6,G50*G$67*'Faktoren Abwasser'!$B$120/1000,IF(G$53='Dropdown Menüs'!$G$7,(G50*G$67*'Faktoren Abwasser'!$B$120/1000)+(G50*(G$68-G$67)*'Faktoren Abwasser'!$B$120/1000*0.2))) -> FALSE | H74: =IF(H$53='Dropdown Menüs'!$G$6,H50*H$67*'Faktoren Abwasser'!$B$120/1000,IF(H$53='Dropdown Menüs'!$G$7,(H50*H$67*'Faktoren Abwasser'!$B$120/1000)+(H50*(H$68-H$67)*'Faktoren Abwasser'!$B$120/1000*0.2))) -> FALSE | I74: =IF(I$53='Dropdown Menüs'!$G$6,I50*I$67*'Faktoren Abwasser'!$B$120/1000,IF(I$53='Dropdown Menüs'!$G$7,(I50*I$67*'Faktoren Abwasser'!$B$120/1000)+(I50*(I$68-I$67)*'Faktoren Abwasser'!$B$120/1000*0.2))) -> FALSE | J74: =IF(J$53='Dropdown Menüs'!$G$6,J50*J$67*'Faktoren Abwasser'!$B$120/1000,IF(J$53='Dropdown Menüs'!$G$7,(J50*J$67*'Faktoren Abwasser'!$B$120/1000)+(J50*(J$68-J$67)*'Faktoren Abwasser'!$B$120/1000*0.2))) -> FALSE | K74: {=SUM(IF(ISNUMBER(F74:J74),F74:J74))} -> 0 | L74: t
B75: Schottertragschicht | F75: =IF(F$53='Dropdown Menüs'!$G$6,F$51*F$67*'Faktoren Abwasser'!$B$121/1000,IF(F$53='Dropdown Menüs'!$G$7,(F$51*F$67*'Faktoren Abwasser'!$B$121/1000)+(F$51*(F$68-F$67)*'Faktoren Abwasser'!$B$121/1000*0.2))) -> FALSE | G75: =IF(G$53='Dropdown Menüs'!$G$6,G51*G$67*'Faktoren Abwasser'!$B$121/1000,IF(G$53='Dropdown Menüs'!$G$7,(G51*G$67*'Faktoren Abwasser'!$B$121/1000)+(G51*(G$68-G$67)*'Faktoren Abwasser'!$B$121/1000*0.2))) -> FALSE | H75: =IF(H$53='Dropdown Menüs'!$G$6,H51*H$67*'Faktoren Abwasser'!$B$121/1000,IF(H$53='Dropdown Menüs'!$G$7,(H51*H$67*'Faktoren Abwasser'!$B$121/1000)+(H51*(H$68-H$67)*'Faktoren Abwasser'!$B$121/1000*0.2))) -> FALSE | I75: =IF(I$53='Dropdown Menüs'!$G$6,I51*I$67*'Faktoren Abwasser'!$B$121/1000,IF(I$53='Dropdown Menüs'!$G$7,(I51*I$67*'Faktoren Abwasser'!$B$121/1000)+(I51*(I$68-I$67)*'Faktoren Abwasser'!$B$121/1000*0.2))) -> FALSE | J75: =IF(J$53='Dropdown Menüs'!$G$6,J51*J$67*'Faktoren Abwasser'!$B$121/1000,IF(J$53='Dropdown Menüs'!$G$7,(J51*J$67*'Faktoren Abwasser'!$B$121/1000)+(J51*(J$68-J$67)*'Faktoren Abwasser'!$B$121/1000*0.2))) -> FALSE | K75: {=SUM(IF(ISNUMBER(F75:J75),F75:J75))} -> 0 | L75: t
B76: Frostschutzschicht | F76: =IF(F$53='Dropdown Menüs'!$G$6,F$52*F$67*'Faktoren Abwasser'!$B$122/1000,IF(F$53='Dropdown Menüs'!$G$7,(F$52*F$67*'Faktoren Abwasser'!$B$122/1000)+(F$52*(F$68-F$67)*'Faktoren Abwasser'!$B$122/1000*0.2))) -> FALSE | G76: =IF(G$53='Dropdown Menüs'!$G$6,G52*G$67*'Faktoren Abwasser'!$B$122/1000,IF(G$53='Dropdown Menüs'!$G$7,(G52*G$67*'Faktoren Abwasser'!$B$122/1000)+(G52*(G$68-G$67)*'Faktoren Abwasser'!$B$122/1000*0.2))) -> FALSE | H76: =IF(H$53='Dropdown Menüs'!$G$6,H52*H$67*'Faktoren Abwasser'!$B$122/1000,IF(H$53='Dropdown Menüs'!$G$7,(H52*H$67*'Faktoren Abwasser'!$B$122/1000)+(H52*(H$68-H$67)*'Faktoren Abwasser'!$B$122/1000*0.2))) -> FALSE | I76: =IF(I$53='Dropdown Menüs'!$G$6,I52*I$67*'Faktoren Abwasser'!$B$122/1000,IF(I$53='Dropdown Menüs'!$G$7,(I52*I$67*'Faktoren Abwasser'!$B$122/1000)+(I52*(I$68-I$67)*'Faktoren Abwasser'!$B$122/1000*0.2))) -> FALSE | J76: =IF(J$53='Dropdown Menüs'!$G$6,J52*J$67*'Faktoren Abwasser'!$B$122/1000,IF(J$53='Dropdown Menüs'!$G$7,(J52*J$67*'Faktoren Abwasser'!$B$122/1000)+(J52*(J$68-J$67)*'Faktoren Abwasser'!$B$122/1000*0.2))) -> FALSE | K76: {=SUM(IF(ISNUMBER(F76:J76),F76:J76))} -> 0 | L76: t
A78: 4.2.2 | B78: Verladen und Abtransportieren | F78: =SUM(F80:F85) -> #N/A | G78: =SUM(G80:G85) -> #N/A | H78: =SUM(H80:H85) -> #N/A | I78: =SUM(I80:I85) -> #N/A | J78: =SUM(J80:J85) -> #N/A | K78: {=SUM(IF(ISNUMBER(F78:J78),F78:J78))} -> 0 | L78: kg CO2-Äqv.
B79: Entfernung Baustelle - Recyclinghof (x2) | L79: km
B80: =B71 -> Deckschicht | F80: =F71*F$79*'Faktoren Abwasser'!$B$155 -> #N/A | G80: =G71*G$79*'Faktoren Abwasser'!$B$155 -> #N/A | H80: =H71*H$79*'Faktoren Abwasser'!$B$155 -> #N/A | I80: =I71*I$79*'Faktoren Abwasser'!$B$155 -> #N/A | J80: =J71*J$79*'Faktoren Abwasser'!$B$155 -> #N/A | K80: {=SUM(IF(ISNUMBER(F80:J80),F80:J80))} -> 0 | L80: kg CO2-Äqv.
B81: =B72 -> Pflasterbettung | F81: =F72*F$79*'Faktoren Abwasser'!$B$155 -> 0 | G81: =G72*G$79*'Faktoren Abwasser'!$B$155 -> 0 | H81: =H72*H$79*'Faktoren Abwasser'!$B$155 -> 0 | I81: =I72*I$79*'Faktoren Abwasser'!$B$155 -> 0 | J81: =J72*J$79*'Faktoren Abwasser'!$B$155 -> 0 | K81: {=SUM(IF(ISNUMBER(F81:J81),F81:J81))} -> 0 | L81: kg CO2-Äqv.
B82: =B73 -> Asphaltbinder | F82: =F73*F$79*'Faktoren Abwasser'!$B$155 -> 0 | G82: =G73*G$79*'Faktoren Abwasser'!$B$155 -> 0 | H82: =H73*H$79*'Faktoren Abwasser'!$B$155 -> 0 | I82: =I73*I$79*'Faktoren Abwasser'!$B$155 -> 0 | J82: =J73*J$79*'Faktoren Abwasser'!$B$155 -> 0 | K82: {=SUM(IF(ISNUMBER(F82:J82),F82:J82))} -> 0 | L82: kg CO2-Äqv.
B83: =B74 -> Asphalttragschicht | F83: =F74*F$79*'Faktoren Abwasser'!$B$155 -> 0 | G83: =G74*G$79*'Faktoren Abwasser'!$B$155 -> 0 | H83: =H74*H$79*'Faktoren Abwasser'!$B$155 -> 0 | I83: =I74*I$79*'Faktoren Abwasser'!$B$155 -> 0 | J83: =J74*J$79*'Faktoren Abwasser'!$B$155 -> 0 | K83: {=SUM(IF(ISNUMBER(F83:J83),F83:J83))} -> 0 | L83: kg CO2-Äqv.
B84: Schottertragschicht | F84: =F75*F$79*'Faktoren Abwasser'!$B$155 -> 0 | G84: =G75*G$79*'Faktoren Abwasser'!$B$155 -> 0 | H84: =H75*H$79*'Faktoren Abwasser'!$B$155 -> 0 | I84: =I75*I$79*'Faktoren Abwasser'!$B$155 -> 0 | J84: =J75*J$79*'Faktoren Abwasser'!$B$155 -> 0 | K84: {=SUM(IF(ISNUMBER(F84:J84),F84:J84))} -> 0 | L84: kg CO2-Äqv.
B85: Frostschutzschicht | F85: =F76*F$79*'Faktoren Abwasser'!$B$155 -> 0 | G85: =G76*G$79*'Faktoren Abwasser'!$B$155 -> 0 | H85: =H76*H$79*'Faktoren Abwasser'!$B$155 -> 0 | I85: =I76*I$79*'Faktoren Abwasser'!$B$155 -> 0 | J85: =J76*J$79*'Faktoren Abwasser'!$B$155 -> 0 | K85: {=SUM(IF(ISNUMBER(F85:J85),F85:J85))} -> 0 | L85: kg CO2-Äqv.
A88: 4.3 | B88: Herstellung der Oberfläche | F88: =F97+F106+F115 -> #N/A | G88: =G97+G106+G115 -> #N/A | H88: =H97+H106+H115 -> #N/A | I88: =I97+I106+I115 -> #N/A | J88: =J97+J106+J115 -> #N/A | K88: =K97+K106+K115 -> 0 | L88: kg CO2-Äqv.
B89: Mengen Herstellung
B90: =B80 -> Deckschicht | F90: =F$57 * F$68 * INDEX('Faktoren Abwasser'!$B$114:$B$117, MATCH(F$56, 'Dropdown Menüs'!$F$6:$F$9, 0) ) / 1000 -> #N/A | G90: =G$57 * G$68 * INDEX('Faktoren Abwasser'!$B$114:$B$117, MATCH(G$56, 'Dropdown Menüs'!$F$6:$F$9, 0) ) / 1000 -> #N/A | H90: =H$57 * H$68 * INDEX('Faktoren Abwasser'!$B$114:$B$117, MATCH(H$56, 'Dropdown Menüs'!$F$6:$F$9, 0) ) / 1000 -> #N/A | I90: =I$57 * I$68 * INDEX('Faktoren Abwasser'!$B$114:$B$117, MATCH(I$56, 'Dropdown Menüs'!$F$6:$F$9, 0) ) / 1000 -> #N/A | J90: =J$57 * J$68 * INDEX('Faktoren Abwasser'!$B$114:$B$117, MATCH(J$56, 'Dropdown Menüs'!$F$6:$F$9, 0) ) / 1000 -> #N/A | K90: {=SUM(IF(ISNUMBER(F90:J90),F90:J90))} -> 0 | L90: t
B91: =B81 -> Pflasterbettung | F91: =IF(F$63='Dropdown Menüs'!$G$6,F$58*F$67*'Faktoren Abwasser'!$B$118/1000,IF(F$63='Dropdown Menüs'!$G$7,(F$58*F$67*'Faktoren Abwasser'!$B$118/1000)+(F$58*(F$68-F$67)*'Faktoren Abwasser'!$B$118/1000*0.2))) -> FALSE | G91: =IF(G$63='Dropdown Menüs'!$G$6,G$58*G$67*'Faktoren Abwasser'!$B$118/1000,IF(G$63='Dropdown Menüs'!$G$7,(G$58*G$67*'Faktoren Abwasser'!$B$118/1000)+(G$58*(G$68-G$67)*'Faktoren Abwasser'!$B$118/1000*0.2))) -> FALSE | H91: =IF(H$63='Dropdown Menüs'!$G$6,H$58*H$67*'Faktoren Abwasser'!$B$118/1000,IF(H$63='Dropdown Menüs'!$G$7,(H$58*H$67*'Faktoren Abwasser'!$B$118/1000)+(H$58*(H$68-H$67)*'Faktoren Abwasser'!$B$118/1000*0.2))) -> FALSE | I91: =IF(I$63='Dropdown Menüs'!$G$6,I$58*I$67*'Faktoren Abwasser'!$B$118/1000,IF(I$63='Dropdown Menüs'!$G$7,(I$58*I$67*'Faktoren Abwasser'!$B$118/1000)+(I$58*(I$68-I$67)*'Faktoren Abwasser'!$B$118/1000*0.2))) -> FALSE | J91: =IF(J$63='Dropdown Menüs'!$G$6,J$58*J$67*'Faktoren Abwasser'!$B$118/1000,IF(J$63='Dropdown Menüs'!$G$7,(J$58*J$67*'Faktoren Abwasser'!$B$118/1000)+(J$58*(J$68-J$67)*'Faktoren Abwasser'!$B$118/1000*0.2))) -> FALSE | K91: {=SUM(IF(ISNUMBER(F91:J91),F91:J91))} -> 0 | L91: t
B92: =B82 -> Asphaltbinder | F92: =IF(F$63='Dropdown Menüs'!$G$6,F$59*F$67*'Faktoren Abwasser'!$B$119/1000,IF(F$63='Dropdown Menüs'!$G$7,(F$59*F$67*'Faktoren Abwasser'!$B$119/1000)+(F$59*(F$68-F$67)*'Faktoren Abwasser'!$B$119/1000*0.2))) -> FALSE | G92: =IF(G$63='Dropdown Menüs'!$G$6,G$59*G$67*'Faktoren Abwasser'!$B$119/1000,IF(G$63='Dropdown Menüs'!$G$7,(G$59*G$67*'Faktoren Abwasser'!$B$119/1000)+(G$59*(G$68-G$67)*'Faktoren Abwasser'!$B$119/1000*0.2))) -> FALSE | H92: =IF(H$63='Dropdown Menüs'!$G$6,H$59*H$67*'Faktoren Abwasser'!$B$119/1000,IF(H$63='Dropdown Menüs'!$G$7,(H$59*H$67*'Faktoren Abwasser'!$B$119/1000)+(H$59*(H$68-H$67)*'Faktoren Abwasser'!$B$119/1000*0.2))) -> FALSE | I92: =IF(I$63='Dropdown Menüs'!$G$6,I$59*I$67*'Faktoren Abwasser'!$B$119/1000,IF(I$63='Dropdown Menüs'!$G$7,(I$59*I$67*'Faktoren Abwasser'!$B$119/1000)+(I$59*(I$68-I$67)*'Faktoren Abwasser'!$B$119/1000*0.2))) -> FALSE | J92: =IF(J$63='Dropdown Menüs'!$G$6,J$59*J$67*'Faktoren Abwasser'!$B$119/1000,IF(J$63='Dropdown Menüs'!$G$7,(J$59*J$67*'Faktoren Abwasser'!$B$119/1000)+(J$59*(J$68-J$67)*'Faktoren Abwasser'!$B$119/1000*0.2))) -> FALSE | K92: {=SUM(IF(ISNUMBER(F92:J92),F92:J92))} -> 0 | L92: t
B93: =B83 -> Asphalttragschicht | F93: =IF(F$63='Dropdown Menüs'!$G$6,F$60*F$67*'Faktoren Abwasser'!$B$120/1000,IF(F$63='Dropdown Menüs'!$G$7,(F$60*F$67*'Faktoren Abwasser'!$B$120/1000)+(F$60*(F$68-F$67)*'Faktoren Abwasser'!$B$120/1000*0.2))) -> FALSE | G93: =IF(G$63='Dropdown Menüs'!$G$6,G$60*G$67*'Faktoren Abwasser'!$B$120/1000,IF(G$63='Dropdown Menüs'!$G$7,(G$60*G$67*'Faktoren Abwasser'!$B$120/1000)+(G$60*(G$68-G$67)*'Faktoren Abwasser'!$B$120/1000*0.2))) -> FALSE | H93: =IF(H$63='Dropdown Menüs'!$G$6,H$60*H$67*'Faktoren Abwasser'!$B$120/1000,IF(H$63='Dropdown Menüs'!$G$7,(H$60*H$67*'Faktoren Abwasser'!$B$120/1000)+(H$60*(H$68-H$67)*'Faktoren Abwasser'!$B$120/1000*0.2))) -> FALSE | I93: =IF(I$63='Dropdown Menüs'!$G$6,I$60*I$67*'Faktoren Abwasser'!$B$120/1000,IF(I$63='Dropdown Menüs'!$G$7,(I$60*I$67*'Faktoren Abwasser'!$B$120/1000)+(I$60*(I$68-I$67)*'Faktoren Abwasser'!$B$120/1000*0.2))) -> FALSE | J93: =IF(J$63='Dropdown Menüs'!$G$6,J$60*J$67*'Faktoren Abwasser'!$B$120/1000,IF(J$63='Dropdown Menüs'!$G$7,(J$60*J$67*'Faktoren Abwasser'!$B$120/1000)+(J$60*(J$68-J$67)*'Faktoren Abwasser'!$B$120/1000*0.2))) -> FALSE | K93: {=SUM(IF(ISNUMBER(F93:J93),F93:J93))} -> 0 | L93: t
B94: Schottertragschicht | F94: =IF(F$63='Dropdown Menüs'!$G$6,F$61*F$67*'Faktoren Abwasser'!$B$121/1000,IF(F$63='Dropdown Menüs'!$G$7,(F$61*F$67*'Faktoren Abwasser'!$B$121/1000)+(F$61*(F$68-F$67)*'Faktoren Abwasser'!$B$121/1000*0.2))) -> FALSE | G94: =IF(G$63='Dropdown Menüs'!$G$6,G$61*G$67*'Faktoren Abwasser'!$B$121/1000,IF(G$63='Dropdown Menüs'!$G$7,(G$61*G$67*'Faktoren Abwasser'!$B$121/1000)+(G$61*(G$68-G$67)*'Faktoren Abwasser'!$B$121/1000*0.2))) -> FALSE | H94: =IF(H$63='Dropdown Menüs'!$G$6,H$61*H$67*'Faktoren Abwasser'!$B$121/1000,IF(H$63='Dropdown Menüs'!$G$7,(H$61*H$67*'Faktoren Abwasser'!$B$121/1000)+(H$61*(H$68-H$67)*'Faktoren Abwasser'!$B$121/1000*0.2))) -> FALSE | I94: =IF(I$63='Dropdown Menüs'!$G$6,I$61*I$67*'Faktoren Abwasser'!$B$121/1000,IF(I$63='Dropdown Menüs'!$G$7,(I$61*I$67*'Faktoren Abwasser'!$B$121/1000)+(I$61*(I$68-I$67)*'Faktoren Abwasser'!$B$121/1000*0.2))) -> FALSE | J94: =IF(J$63='Dropdown Menüs'!$G$6,J$61*J$67*'Faktoren Abwasser'!$B$121/1000,IF(J$63='Dropdown Menüs'!$G$7,(J$61*J$67*'Faktoren Abwasser'!$B$121/1000)+(J$61*(J$68-J$67)*'Faktoren Abwasser'!$B$121/1000*0.2))) -> FALSE | K94: {=SUM(IF(ISNUMBER(F94:J94),F94:J94))} -> 0 | L94: t
B95: Frostschutzschicht | F95: =IF(F$63='Dropdown Menüs'!$G$6,F$62*F$67*'Faktoren Abwasser'!$B$122/1000,IF(F$63='Dropdown Menüs'!$G$7,(F$62*F$67*'Faktoren Abwasser'!$B$122/1000)+(F$62*(F$68-F$67)*'Faktoren Abwasser'!$B$122/1000*0.2))) -> FALSE | G95: =IF(G$63='Dropdown Menüs'!$G$6,G$62*G$67*'Faktoren Abwasser'!$B$122/1000,IF(G$63='Dropdown Menüs'!$G$7,(G$62*G$67*'Faktoren Abwasser'!$B$122/1000)+(G$62*(G$68-G$67)*'Faktoren Abwasser'!$B$122/1000*0.2))) -> FALSE | H95: =IF(H$63='Dropdown Menüs'!$G$6,H$62*H$67*'Faktoren Abwasser'!$B$122/1000,IF(H$63='Dropdown Menüs'!$G$7,(H$62*H$67*'Faktoren Abwasser'!$B$122/1000)+(H$62*(H$68-H$67)*'Faktoren Abwasser'!$B$122/1000*0.2))) -> FALSE | I95: =IF(I$63='Dropdown Menüs'!$G$6,I$62*I$67*'Faktoren Abwasser'!$B$122/1000,IF(I$63='Dropdown Menüs'!$G$7,(I$62*I$67*'Faktoren Abwasser'!$B$122/1000)+(I$62*(I$68-I$67)*'Faktoren Abwasser'!$B$122/1000*0.2))) -> FALSE | J95: =IF(J$63='Dropdown Menüs'!$G$6,J$62*J$67*'Faktoren Abwasser'!$B$122/1000,IF(J$63='Dropdown Menüs'!$G$7,(J$62*J$67*'Faktoren Abwasser'!$B$122/1000)+(J$62*(J$68-J$67)*'Faktoren Abwasser'!$B$122/1000*0.2))) -> FALSE | K95: {=SUM(IF(ISNUMBER(F95:J95),F95:J95))} -> 0 | L95: t
A97: 4.3.1 | B97: Herstellung der Bauprodukte | F97: =SUM(F98:F103) -> 0 | G97: =SUM(G98:G103) -> 0 | H97: =SUM(H98:H103) -> 0 | I97: =SUM(I98:I103) -> 0 | J97: =SUM(J98:J103) -> 0 | K97: {=SUM(IF(ISNUMBER(F97:J97),F97:J97))} -> 0 | L97: kg CO2-Äqv.
B98: =B90 -> Deckschicht | F98: =IFERROR((F90*1000*VLOOKUP(F$46,'Faktoren Abwasser'!$A$10:$C$18,2)),0) -> 0 | G98: =IFERROR((G90*1000*VLOOKUP(G$46,'Faktoren Abwasser'!$A$10:$C$18,2)),0) -> 0 | H98: =IFERROR((H90*1000*VLOOKUP(H$46,'Faktoren Abwasser'!$A$10:$C$18,2)),0) -> 0 | I98: =IFERROR((I90*1000*VLOOKUP(I$46,'Faktoren Abwasser'!$A$10:$C$18,2)),0) -> 0 | J98: =IFERROR((J90*1000*VLOOKUP(J$46,'Faktoren Abwasser'!$A$10:$C$18,2)),0) -> 0 | K98: {=SUM(IF(ISNUMBER(F98:J98),F98:J98))} -> 0 | L98: kg CO2-Äqv.
B99: =B91 -> Pflasterbettung | F99: =F91*1000*'Faktoren Abwasser'!$B14 -> 0 | G99: =G91*1000*'Faktoren Abwasser'!$B14 -> 0 | H99: =H91*1000*'Faktoren Abwasser'!$B14 -> 0 | I99: =I91*1000*'Faktoren Abwasser'!$B14 -> 0 | J99: =J91*1000*'Faktoren Abwasser'!$B14 -> 0 | K99: {=SUM(IF(ISNUMBER(F99:J99),F99:J99))} -> 0 | L99: kg CO2-Äqv.
B100: =B92 -> Asphaltbinder | F100: =F92*1000*'Faktoren Abwasser'!$B15 -> 0 | G100: =G92*1000*'Faktoren Abwasser'!$B15 -> 0 | H100: =H92*1000*'Faktoren Abwasser'!$B15 -> 0 | I100: =I92*1000*'Faktoren Abwasser'!$B15 -> 0 | J100: =J92*1000*'Faktoren Abwasser'!$B15 -> 0 | K100: {=SUM(IF(ISNUMBER(F100:J100),F100:J100))} -> 0 | L100: kg CO2-Äqv.
B101: =B93 -> Asphalttragschicht | F101: =F93*1000*'Faktoren Abwasser'!$B16 -> 0 | G101: =G93*1000*'Faktoren Abwasser'!$B16 -> 0 | H101: =H93*1000*'Faktoren Abwasser'!$B16 -> 0 | I101: =I93*1000*'Faktoren Abwasser'!$B16 -> 0 | J101: =J93*1000*'Faktoren Abwasser'!$B16 -> 0 | K101: {=SUM(IF(ISNUMBER(F101:J101),F101:J101))} -> 0 | L101: kg CO2-Äqv.
B102: Schottertragschicht | F102: =F94*1000*'Faktoren Abwasser'!$B17 -> 0 | G102: =G94*1000*'Faktoren Abwasser'!$B17 -> 0 | H102: =H94*1000*'Faktoren Abwasser'!$B17 -> 0 | I102: =I94*1000*'Faktoren Abwasser'!$B17 -> 0 | J102: =J94*1000*'Faktoren Abwasser'!$B17 -> 0 | K102: {=SUM(IF(ISNUMBER(F102:J102),F102:J102))} -> 0 | L102: kg CO2-Äqv.
B103: Frostschutzschicht | F103: =F95*1000*'Faktoren Abwasser'!$B18 -> 0 | G103: =G95*1000*'Faktoren Abwasser'!$B18 -> 0 | H103: =H95*1000*'Faktoren Abwasser'!$B18 -> 0 | I103: =I95*1000*'Faktoren Abwasser'!$B18 -> 0 | J103: =J95*1000*'Faktoren Abwasser'!$B18 -> 0 | K103: {=SUM(IF(ISNUMBER(F103:J103),F103:J103))} -> 0 | L103: kg CO2-Äqv.
A106: 4.3.2 | B106: Transport Bauprodukt zur Baustelle | F106: =SUM(F108:F113) -> #N/A | G106: =SUM(G108:G113) -> #N/A | H106: =SUM(H108:H113) -> #N/A | I106: =SUM(I108:I113) -> #N/A | J106: =SUM(J108:J113) -> #N/A | K106: {=SUM(IF(ISNUMBER(F106:J106),F106:J106))} -> 0 | L106: kg CO2-Äqv.
B107: Entfernung Bauprodukt - Baustelle | L107: km
B108: =B98 -> Deckschicht | F108: =F90*F$107*'Faktoren Abwasser'!$B$155 -> #N/A | G108: =G90*G$107*'Faktoren Abwasser'!$B$155 -> #N/A | H108: =H90*H$107*'Faktoren Abwasser'!$B$155 -> #N/A | I108: =I90*I$107*'Faktoren Abwasser'!$B$155 -> #N/A | J108: =J90*J$107*'Faktoren Abwasser'!$B$155 -> #N/A | K108: {=SUM(IF(ISNUMBER(F108:J108),F108:J108))} -> 0 | L108: kg CO2-Äqv.
B109: =B99 -> Pflasterbettung | F109: =F91*F$107*'Faktoren Abwasser'!$B$155 -> 0 | G109: =G91*G$107*'Faktoren Abwasser'!$B$155 -> 0 | H109: =H91*H$107*'Faktoren Abwasser'!$B$155 -> 0 | I109: =I91*I$107*'Faktoren Abwasser'!$B$155 -> 0 | J109: =J91*J$107*'Faktoren Abwasser'!$B$155 -> 0 | K109: {=SUM(IF(ISNUMBER(F109:J109),F109:J109))} -> 0 | L109: kg CO2-Äqv.
B110: =B100 -> Asphaltbinder | F110: =F92*F$107*'Faktoren Abwasser'!$B$155 -> 0 | G110: =G92*G$107*'Faktoren Abwasser'!$B$155 -> 0 | H110: =H92*H$107*'Faktoren Abwasser'!$B$155 -> 0 | I110: =I92*I$107*'Faktoren Abwasser'!$B$155 -> 0 | J110: =J92*J$107*'Faktoren Abwasser'!$B$155 -> 0 | K110: {=SUM(IF(ISNUMBER(F110:J110),F110:J110))} -> 0 | L110: kg CO2-Äqv.
B111: =B101 -> Asphalttragschicht | F111: =F93*F$107*'Faktoren Abwasser'!$B$155 -> 0 | G111: =G93*G$107*'Faktoren Abwasser'!$B$155 -> 0 | H111: =H93*H$107*'Faktoren Abwasser'!$B$155 -> 0 | I111: =I93*I$107*'Faktoren Abwasser'!$B$155 -> 0 | J111: =J93*J$107*'Faktoren Abwasser'!$B$155 -> 0 | K111: {=SUM(IF(ISNUMBER(F111:J111),F111:J111))} -> 0 | L111: kg CO2-Äqv.
B112: Schottertragschicht | F112: =F94*F$107*'Faktoren Abwasser'!$B$155 -> 0 | G112: =G94*G$107*'Faktoren Abwasser'!$B$155 -> 0 | H112: =H94*H$107*'Faktoren Abwasser'!$B$155 -> 0 | I112: =I94*I$107*'Faktoren Abwasser'!$B$155 -> 0 | J112: =J94*J$107*'Faktoren Abwasser'!$B$155 -> 0 | K112: {=SUM(IF(ISNUMBER(F112:J112),F112:J112))} -> 0 | L112: kg CO2-Äqv.
B113: Frotschutzschicht | F113: =F95*F$107*'Faktoren Abwasser'!$B$155 -> 0 | G113: =G95*G$107*'Faktoren Abwasser'!$B$155 -> 0 | H113: =H95*H$107*'Faktoren Abwasser'!$B$155 -> 0 | I113: =I95*I$107*'Faktoren Abwasser'!$B$155 -> 0 | J113: =J95*J$107*'Faktoren Abwasser'!$B$155 -> 0 | K113: {=SUM(IF(ISNUMBER(F113:J113),F113:J113))} -> 0 | L113: kg CO2-Äqv.
A115: 4.3.3 | B115: Einbau | F115: =SUM(F116:F121) -> 0 | G115: =SUM(G116:G121) -> 0 | H115: =SUM(H116:H121) -> 0 | I115: =SUM(I116:I121) -> 0 | J115: =SUM(J116:J121) -> 0 | K115: {=SUM(IF(ISNUMBER(F115:J115),F115:J115))} -> 0 | L115: kg CO2-Äqv.
B116: =B108 -> Deckschicht | F116: =IF(F63='Dropdown Menüs'!$G$6,IF(F56='Dropdown Menüs'!$F$6,F57*F67*'Faktoren Abwasser'!$B$114*'Faktoren Abwasser'!$C$10,IF(F56='Dropdown Menüs'!$F$7,F57*F67*'Faktoren Abwasser'!$B$115*'Faktoren Abwasser'!$C$11,IF(F56='Dropdown Menüs'!$F$8,F57*F67*'Faktoren Abwasser'!$B$116*'Faktoren Abwasser'!$C$12,IF(F56='Dropdown Menüs'!$F$9,F57*F67*'Faktoren Abwasser'!$B$117*'Faktoren Abwasser'!$C$13)))),IF(F63='Dropdown Menüs'!$G$7,IF(F56='Dropdown Menüs'!$F$6,F57*F68*'Faktoren Abwasser'!$B$114*'Faktoren Abwasser'!$C$10,IF(F56='Dropdown Menüs'!$F$7,F57*F68*'Faktoren Abwasser'!$B$115*'Faktoren Abwasser'!$C$11,IF(F56='Dropdown Menüs'!$F$8,F57*F68*'Faktoren Abwasser'!$B$116*'Faktoren Abwasser'!$C$12,IF(F56='Dropdown Menüs'!$F$9,F57*F68*'Faktoren Abwasser'!$B$117*'Faktoren Abwasser'!$C$13)))))) -> FALSE | G116: =IF(G63='Dropdown Menüs'!$G$6,IF(G56='Dropdown Menüs'!$F$6,G57*G67*'Faktoren Abwasser'!$B$114*'Faktoren Abwasser'!$C$10,IF(G56='Dropdown Menüs'!$F$7,G57*G67*'Faktoren Abwasser'!$B$115*'Faktoren Abwasser'!$C$11,IF(G56='Dropdown Menüs'!$F$8,G57*G67*'Faktoren Abwasser'!$B$116*'Faktoren Abwasser'!$C$12,IF(G56='Dropdown Menüs'!$F$9,G57*G67*'Faktoren Abwasser'!$B$117*'Faktoren Abwasser'!$C$13)))),IF(G63='Dropdown Menüs'!$G$7,IF(G56='Dropdown Menüs'!$F$6,G57*G68*'Faktoren Abwasser'!$B$114*'Faktoren Abwasser'!$C$10,IF(G56='Dropdown Menüs'!$F$7,G57*G68*'Faktoren Abwasser'!$B$115*'Faktoren Abwasser'!$C$11,IF(G56='Dropdown Menüs'!$F$8,G57*G68*'Faktoren Abwasser'!$B$116*'Faktoren Abwasser'!$C$12,IF(G56='Dropdown Menüs'!$F$9,G57*G68*'Faktoren Abwasser'!$B$117*'Faktoren Abwasser'!$C$13)))))) -> FALSE | H116: =IF(H63='Dropdown Menüs'!$G$6,IF(H56='Dropdown Menüs'!$F$6,H57*H67*'Faktoren Abwasser'!$B$114*'Faktoren Abwasser'!$C$10,IF(H56='Dropdown Menüs'!$F$7,H57*H67*'Faktoren Abwasser'!$B$115*'Faktoren Abwasser'!$C$11,IF(H56='Dropdown Menüs'!$F$8,H57*H67*'Faktoren Abwasser'!$B$116*'Faktoren Abwasser'!$C$12,IF(H56='Dropdown Menüs'!$F$9,H57*H67*'Faktoren Abwasser'!$B$117*'Faktoren Abwasser'!$C$13)))),IF(H63='Dropdown Menüs'!$G$7,IF(H56='Dropdown Menüs'!$F$6,H57*H68*'Faktoren Abwasser'!$B$114*'Faktoren Abwasser'!$C$10,IF(H56='Dropdown Menüs'!$F$7,H57*H68*'Faktoren Abwasser'!$B$115*'Faktoren Abwasser'!$C$11,IF(H56='Dropdown Menüs'!$F$8,H57*H68*'Faktoren Abwasser'!$B$116*'Faktoren Abwasser'!$C$12,IF(H56='Dropdown Menüs'!$F$9,H57*H68*'Faktoren Abwasser'!$B$117*'Faktoren Abwasser'!$C$13)))))) -> FALSE | I116: =IF(I63='Dropdown Menüs'!$G$6,IF(I56='Dropdown Menüs'!$F$6,I57*I67*'Faktoren Abwasser'!$B$114*'Faktoren Abwasser'!$C$10,IF(I56='Dropdown Menüs'!$F$7,I57*I67*'Faktoren Abwasser'!$B$115*'Faktoren Abwasser'!$C$11,IF(I56='Dropdown Menüs'!$F$8,I57*I67*'Faktoren Abwasser'!$B$116*'Faktoren Abwasser'!$C$12,IF(I56='Dropdown Menüs'!$F$9,I57*I67*'Faktoren Abwasser'!$B$117*'Faktoren Abwasser'!$C$13)))),IF(I63='Dropdown Menüs'!$G$7,IF(I56='Dropdown Menüs'!$F$6,I57*I68*'Faktoren Abwasser'!$B$114*'Faktoren Abwasser'!$C$10,IF(I56='Dropdown Menüs'!$F$7,I57*I68*'Faktoren Abwasser'!$B$115*'Faktoren Abwasser'!$C$11,IF(I56='Dropdown Menüs'!$F$8,I57*I68*'Faktoren Abwasser'!$B$116*'Faktoren Abwasser'!$C$12,IF(I56='Dropdown Menüs'!$F$9,I57*I68*'Faktoren Abwasser'!$B$117*'Faktoren Abwasser'!$C$13)))))) -> FALSE | J116: =IF(J63='Dropdown Menüs'!$G$6,IF(J56='Dropdown Menüs'!$F$6,J57*J67*'Faktoren Abwasser'!$B$114*'Faktoren Abwasser'!$C$10,IF(J56='Dropdown Menüs'!$F$7,J57*J67*'Faktoren Abwasser'!$B$115*'Faktoren Abwasser'!$C$11,IF(J56='Dropdown Menüs'!$F$8,J57*J67*'Faktoren Abwasser'!$B$116*'Faktoren Abwasser'!$C$12,IF(J56='Dropdown Menüs'!$F$9,J57*J67*'Faktoren Abwasser'!$B$117*'Faktoren Abwasser'!$C$13)))),IF(J63='Dropdown Menüs'!$G$7,IF(J56='Dropdown Menüs'!$F$6,J57*J68*'Faktoren Abwasser'!$B$114*'Faktoren Abwasser'!$C$10,IF(J56='Dropdown Menüs'!$F$7,J57*J68*'Faktoren Abwasser'!$B$115*'Faktoren Abwasser'!$C$11,IF(J56='Dropdown Menüs'!$F$8,J57*J68*'Faktoren Abwasser'!$B$116*'Faktoren Abwasser'!$C$12,IF(J56='Dropdown Menüs'!$F$9,J57*J68*'Faktoren Abwasser'!$B$117*'Faktoren Abwasser'!$C$13)))))) -> FALSE | K116: {=SUM(IF(ISNUMBER(F116:J116),F116:J116))} -> 0 | L116: kg CO2-Äqv.
B117: =B109 -> Pflasterbettung | D117: Ersatzanteil | E117: 0.2 | F117: =IF(F$63='Dropdown Menüs'!$G$6,(F58*F$67*'Faktoren Abwasser'!$B$162*'Faktoren Abwasser'!$B$6),IF(F$63='Dropdown Menüs'!$G$7,(F58*F$67*'Faktoren Abwasser'!$B$6*'Faktoren Abwasser'!$B$162)+((F58*(F$68-F$67)*'Faktoren Abwasser'!$B$162*'Faktoren Abwasser'!$B$6*'Eingaben Hauptkanal'!$E$117)))) -> FALSE | G117: =IF(G$63='Dropdown Menüs'!$G$6,(G58*G$67*'Faktoren Abwasser'!$B$162*'Faktoren Abwasser'!$B$6),IF(G$63='Dropdown Menüs'!$G$7,(G58*G$67*'Faktoren Abwasser'!$B$6*'Faktoren Abwasser'!$B$162)+((G58*(G$68-G$67)*'Faktoren Abwasser'!$B$162*'Faktoren Abwasser'!$B$6*'Eingaben Hauptkanal'!$E$117)))) -> FALSE | H117: =IF(H$63='Dropdown Menüs'!$G$6,(H58*H$67*'Faktoren Abwasser'!$B$162*'Faktoren Abwasser'!$B$6),IF(H$63='Dropdown Menüs'!$G$7,(H58*H$67*'Faktoren Abwasser'!$B$6*'Faktoren Abwasser'!$B$162)+((H58*(H$68-H$67)*'Faktoren Abwasser'!$B$162*'Faktoren Abwasser'!$B$6*'Eingaben Hauptkanal'!$E$117)))) -> FALSE | I117: =IF(I$63='Dropdown Menüs'!$G$6,(I58*I$67*'Faktoren Abwasser'!$B$162*'Faktoren Abwasser'!$B$6),IF(I$63='Dropdown Menüs'!$G$7,(I58*I$67*'Faktoren Abwasser'!$B$6*'Faktoren Abwasser'!$B$162)+((I58*(I$68-I$67)*'Faktoren Abwasser'!$B$162*'Faktoren Abwasser'!$B$6*'Eingaben Hauptkanal'!$E$117)))) -> FALSE | J117: =IF(J$63='Dropdown Menüs'!$G$6,(J58*J$67*'Faktoren Abwasser'!$B$162*'Faktoren Abwasser'!$B$6),IF(J$63='Dropdown Menüs'!$G$7,(J58*J$67*'Faktoren Abwasser'!$B$6*'Faktoren Abwasser'!$B$162)+((J58*(J$68-J$67)*'Faktoren Abwasser'!$B$162*'Faktoren Abwasser'!$B$6*'Eingaben Hauptkanal'!$E$117)))) -> FALSE | K117: {=SUM(IF(ISNUMBER(F117:J117),F117:J117))} -> 0 | L117: kg CO2-Äqv. | N117: Ersatzanteil der Frostschutz- und Schottertragschicht bei Nachträgen
B118: =B110 -> Asphaltbinder | F118: =IF(F$63='Dropdown Menüs'!$G$6,(F59*F$67*'Faktoren Abwasser'!$B$162*'Faktoren Abwasser'!$B$6),IF(F$63='Dropdown Menüs'!$G$7,(F59*F$67*'Faktoren Abwasser'!$B$6*'Faktoren Abwasser'!$B$162)+((F59*(F$68-F$67)*'Faktoren Abwasser'!$B$162*'Faktoren Abwasser'!$B$6*'Eingaben Hauptkanal'!$E$117)))) -> FALSE | G118: =IF(G$63='Dropdown Menüs'!$G$6,(G59*G$67*'Faktoren Abwasser'!$B$162*'Faktoren Abwasser'!$B$6),IF(G$63='Dropdown Menüs'!$G$7,(G59*G$67*'Faktoren Abwasser'!$B$6*'Faktoren Abwasser'!$B$162)+((G59*(G$68-G$67)*'Faktoren Abwasser'!$B$162*'Faktoren Abwasser'!$B$6*'Eingaben Hauptkanal'!$E$117)))) -> FALSE | H118: =IF(H$63='Dropdown Menüs'!$G$6,(H59*H$67*'Faktoren Abwasser'!$B$162*'Faktoren Abwasser'!$B$6),IF(H$63='Dropdown Menüs'!$G$7,(H59*H$67*'Faktoren Abwasser'!$B$6*'Faktoren Abwasser'!$B$162)+((H59*(H$68-H$67)*'Faktoren Abwasser'!$B$162*'Faktoren Abwasser'!$B$6*'Eingaben Hauptkanal'!$E$117)))) -> FALSE | I118: =IF(I$63='Dropdown Menüs'!$G$6,(I59*I$67*'Faktoren Abwasser'!$B$162*'Faktoren Abwasser'!$B$6),IF(I$63='Dropdown Menüs'!$G$7,(I59*I$67*'Faktoren Abwasser'!$B$6*'Faktoren Abwasser'!$B$162)+((I59*(I$68-I$67)*'Faktoren Abwasser'!$B$162*'Faktoren Abwasser'!$B$6*'Eingaben Hauptkanal'!$E$117)))) -> FALSE | J118: =IF(J$63='Dropdown Menüs'!$G$6,(J59*J$67*'Faktoren Abwasser'!$B$162*'Faktoren Abwasser'!$B$6),IF(J$63='Dropdown Menüs'!$G$7,(J59*J$67*'Faktoren Abwasser'!$B$6*'Faktoren Abwasser'!$B$162)+((J59*(J$68-J$67)*'Faktoren Abwasser'!$B$162*'Faktoren Abwasser'!$B$6*'Eingaben Hauptkanal'!$E$117)))) -> FALSE | K118: {=SUM(IF(ISNUMBER(F118:J118),F118:J118))} -> 0 | L118: kg CO2-Äqv.
B119: =B111 -> Asphalttragschicht | F119: =IF(F$63='Dropdown Menüs'!$G$6,(F60*F$67*'Faktoren Abwasser'!$B$162*'Faktoren Abwasser'!$B$6),IF(F$63='Dropdown Menüs'!$G$7,(F60*F$67*'Faktoren Abwasser'!$B$6*'Faktoren Abwasser'!$B$162)+((F60*(F$68-F$67)*'Faktoren Abwasser'!$B$162*'Faktoren Abwasser'!$B$6*'Eingaben Hauptkanal'!$E$117)))) -> FALSE | G119: =IF(G$63='Dropdown Menüs'!$G$6,(G60*G$67*'Faktoren Abwasser'!$B$162*'Faktoren Abwasser'!$B$6),IF(G$63='Dropdown Menüs'!$G$7,(G60*G$67*'Faktoren Abwasser'!$B$6*'Faktoren Abwasser'!$B$162)+((G60*(G$68-G$67)*'Faktoren Abwasser'!$B$162*'Faktoren Abwasser'!$B$6*'Eingaben Hauptkanal'!$E$117)))) -> FALSE | H119: =IF(H$63='Dropdown Menüs'!$G$6,(H60*H$67*'Faktoren Abwasser'!$B$162*'Faktoren Abwasser'!$B$6),IF(H$63='Dropdown Menüs'!$G$7,(H60*H$67*'Faktoren Abwasser'!$B$6*'Faktoren Abwasser'!$B$162)+((H60*(H$68-H$67)*'Faktoren Abwasser'!$B$162*'Faktoren Abwasser'!$B$6*'Eingaben Hauptkanal'!$E$117)))) -> FALSE | I119: =IF(I$63='Dropdown Menüs'!$G$6,(I60*I$67*'Faktoren Abwasser'!$B$162*'Faktoren Abwasser'!$B$6),IF(I$63='Dropdown Menüs'!$G$7,(I60*I$67*'Faktoren Abwasser'!$B$6*'Faktoren Abwasser'!$B$162)+((I60*(I$68-I$67)*'Faktoren Abwasser'!$B$162*'Faktoren Abwasser'!$B$6*'Eingaben Hauptkanal'!$E$117)))) -> FALSE | J119: =IF(J$63='Dropdown Menüs'!$G$6,(J60*J$67*'Faktoren Abwasser'!$B$162*'Faktoren Abwasser'!$B$6),IF(J$63='Dropdown Menüs'!$G$7,(J60*J$67*'Faktoren Abwasser'!$B$6*'Faktoren Abwasser'!$B$162)+((J60*(J$68-J$67)*'Faktoren Abwasser'!$B$162*'Faktoren Abwasser'!$B$6*'Eingaben Hauptkanal'!$E$117)))) -> FALSE | K119: {=SUM(IF(ISNUMBER(F119:J119),F119:J119))} -> 0 | L119: kg CO2-Äqv.
B120: Schottertragschicht | F120: =IF(F$63='Dropdown Menüs'!$G$6,(F61*F$67*'Faktoren Abwasser'!$B$162*'Faktoren Abwasser'!$B$6),IF(F$63='Dropdown Menüs'!$G$7,(F61*F$67*'Faktoren Abwasser'!$B$6*'Faktoren Abwasser'!$B$162)+((F61*(F$68-F$67)*'Faktoren Abwasser'!$B$162*'Faktoren Abwasser'!$B$6*'Eingaben Hauptkanal'!$E$117)))) -> FALSE | G120: =IF(G$63='Dropdown Menüs'!$G$6,(G61*G$67*'Faktoren Abwasser'!$B$162*'Faktoren Abwasser'!$B$6),IF(G$63='Dropdown Menüs'!$G$7,(G61*G$67*'Faktoren Abwasser'!$B$6*'Faktoren Abwasser'!$B$162)+((G61*(G$68-G$67)*'Faktoren Abwasser'!$B$162*'Faktoren Abwasser'!$B$6*'Eingaben Hauptkanal'!$E$117)))) -> FALSE | H120: =IF(H$63='Dropdown Menüs'!$G$6,(H61*H$67*'Faktoren Abwasser'!$B$162*'Faktoren Abwasser'!$B$6),IF(H$63='Dropdown Menüs'!$G$7,(H61*H$67*'Faktoren Abwasser'!$B$6*'Faktoren Abwasser'!$B$162)+((H61*(H$68-H$67)*'Faktoren Abwasser'!$B$162*'Faktoren Abwasser'!$B$6*'Eingaben Hauptkanal'!$E$117)))) -> FALSE | I120: =IF(I$63='Dropdown Menüs'!$G$6,(I61*I$67*'Faktoren Abwasser'!$B$162*'Faktoren Abwasser'!$B$6),IF(I$63='Dropdown Menüs'!$G$7,(I61*I$67*'Faktoren Abwasser'!$B$6*'Faktoren Abwasser'!$B$162)+((I61*(I$68-I$67)*'Faktoren Abwasser'!$B$162*'Faktoren Abwasser'!$B$6*'Eingaben Hauptkanal'!$E$117)))) -> FALSE | J120: =IF(J$63='Dropdown Menüs'!$G$6,(J61*J$67*'Faktoren Abwasser'!$B$162*'Faktoren Abwasser'!$B$6),IF(J$63='Dropdown Menüs'!$G$7,(J61*J$67*'Faktoren Abwasser'!$B$6*'Faktoren Abwasser'!$B$162)+((J61*(J$68-J$67)*'Faktoren Abwasser'!$B$162*'Faktoren Abwasser'!$B$6*'Eingaben Hauptkanal'!$E$117)))) -> FALSE | K120: {=SUM(IF(ISNUMBER(F120:J120),F120:J120))} -> 0 | L120: kg CO2-Äqv.
B121: Frostschutzschicht | F121: =IF(F$63='Dropdown Menüs'!$G$6,(F62*F$67*'Faktoren Abwasser'!$B$162*'Faktoren Abwasser'!$B$6),IF(F$63='Dropdown Menüs'!$G$7,(F62*F$67*'Faktoren Abwasser'!$B$6*'Faktoren Abwasser'!$B$162)+((F62*(F$68-F$67)*'Faktoren Abwasser'!$B$162*'Faktoren Abwasser'!$B$6*'Eingaben Hauptkanal'!$E$117)))) -> FALSE | G121: =IF(G$63='Dropdown Menüs'!$G$6,(G62*G$67*'Faktoren Abwasser'!$B$162*'Faktoren Abwasser'!$B$6),IF(G$63='Dropdown Menüs'!$G$7,(G62*G$67*'Faktoren Abwasser'!$B$6*'Faktoren Abwasser'!$B$162)+((G62*(G$68-G$67)*'Faktoren Abwasser'!$B$162*'Faktoren Abwasser'!$B$6*'Eingaben Hauptkanal'!$E$117)))) -> FALSE | H121: =IF(H$63='Dropdown Menüs'!$G$6,(H62*H$67*'Faktoren Abwasser'!$B$162*'Faktoren Abwasser'!$B$6),IF(H$63='Dropdown Menüs'!$G$7,(H62*H$67*'Faktoren Abwasser'!$B$6*'Faktoren Abwasser'!$B$162)+((H62*(H$68-H$67)*'Faktoren Abwasser'!$B$162*'Faktoren Abwasser'!$B$6*'Eingaben Hauptkanal'!$E$117)))) -> FALSE | I121: =IF(I$63='Dropdown Menüs'!$G$6,(I62*I$67*'Faktoren Abwasser'!$B$162*'Faktoren Abwasser'!$B$6),IF(I$63='Dropdown Menüs'!$G$7,(I62*I$67*'Faktoren Abwasser'!$B$6*'Faktoren Abwasser'!$B$162)+((I62*(I$68-I$67)*'Faktoren Abwasser'!$B$162*'Faktoren Abwasser'!$B$6*'Eingaben Hauptkanal'!$E$117)))) -> FALSE | J121: =IF(J$63='Dropdown Menüs'!$G$6,(J62*J$67*'Faktoren Abwasser'!$B$162*'Faktoren Abwasser'!$B$6),IF(J$63='Dropdown Menüs'!$G$7,(J62*J$67*'Faktoren Abwasser'!$B$6*'Faktoren Abwasser'!$B$162)+((J62*(J$68-J$67)*'Faktoren Abwasser'!$B$162*'Faktoren Abwasser'!$B$6*'Eingaben Hauptkanal'!$E$117)))) -> FALSE | K121: {=SUM(IF(ISNUMBER(F121:J121),F121:J121))} -> 0 | L121: kg CO2-Äqv.
A123: 5. | B123: Verbau + Bodenaushub | F123: =F125+F183+F207+F216+F219 -> 0 | G123: =G125+G183+G207+G216+G219 -> 0 | H123: =H125+H183+H207+H216+H219 -> 0 | I123: =I125+I183+I207+I216+I219 -> 0 | J123: =J125+J183+J207+J216+J219 -> 0 | K123: {=SUM(IF(ISNUMBER(F123:J123),F123:J123))} -> 0 | L123: kg CO2-Äqv.
F124: =F123/F21 -> #DIV/0! | G124: =G123/G21 -> #DIV/0! | H124: =H123/H21 -> #DIV/0! | I124: =I123/I21 -> #DIV/0! | J124: =J123/J21 -> #DIV/0!
...

Sheet Dropdown Menüs
A2: Auswahl für Dropdown-Listen
A4: Bauweise | B4: Art der geschlossenen Bauweise | C4: Material | D4: Umleitung vorhanden? | E4: Absenkung vorhanden? | F4: Material Deckschicht | G4: Betrachtungsweise Straßenaufbruch | H4: Verbauart | I4: Schachttypen | J4: Anteil Ersatz der Frostschutz- und Schottertragschicht bei Nachträgen | K4: Gewünschte Datenquelle
A5: 1. | B5: 1. | C5: 6.1 | D5: 3.1 | E5: 3.2 | F5: 4.1 | G5: 4.1 | H5: 5.1 | I5: 6.2.1 | K5: 6.2
A6: offene Bauweise | B6: Kölner Stollen im Stahlverzug | C6: Beton, unbewehrt | D6: ja | E6: ja | F6: Asphalt (Gussasphalt) | G6: lt. Vorplanung | H6: Trägerbohlenwand | I6: DN 1000 | K6: Tilia
A7: geschlossene Bauweise | B7: Pionierstollen | C7: Beton, bewehrt | D7: nein | E7: nein | F7: Beton (C30/37) / Betonasphalt | G7: real | H7: Plattenverbau/Gleitschienenverbau/Großflächenverbau | I7: DN 1200 | K7: Berding Beton
B8: Spritzbetonstollen | C8: Steinzeug | F8: Splittmastixasphalt (Walzasphalt) | H8: Spundwand/Spunddiele/Kanaldiele | I8: DN 1500 | K8: Eigene Eingabe
C9: Duktiles Gusseisen | F9: Pflaster | H9: Überschnittene Bohrpfahlwand
C10: PVC-U
C11: PP
C12: GFK
C13: PE

Sheet Faktoren Abwasser
A2: Emissionsfaktoren | C2: Die Spalte "Zuletzt aktualisiert" bezieht sich auf diese Tabelle, nicht auf die Datenbanken!
A4: Kraftstoffe
A5: Stoff | B5: THG-Potential | C5: Einheit | D5: Quelle | G5: Zuletzt aktualisiert
A6: Diesel | B6: 3.48 | C6: kg CO2-Äqv/l | D6: ecoinvent v3.10 (diesel, burned in building machine - GLO) | G6: 2025
A8: Straßenbau
A9: Material | B9: THG-Potential Herstellung | C9: THG-Potential Einbau | D9: Einheit | E9: Quelle | F9: Datensatz | G9: Zuletzt aktualisiert
A10: Asphalt (Gussaspahlt) | B10: 0.102 | C10: 0.0008388 | D10: kg CO2-Äqv/kg | E10: ökobaudat 2023-I | F10: Gussasphalt | G10: 2025
A11: Beton (C30/37) / Betonasphalt | B11: =258/2306 -> 0.11188205 | C11: 0.0005625 | D11: kg CO2-Äqv/kg | E11: ökobaudat 2023-I | F11: Transportbeton C30/37 | G11: 2025
A12: Splittmastixasphalt (Walzasphalt) | B12: 0.077 | C12: 0.0008388 | D12: kg CO2-Äqv/kg | E12: ökobaudat 2023-I | F12: Splittmastixasphalt (SMA) | G12: 2025
A13: Pflaster | B13: 0.109 | C13: =B13*0.09 -> 0.00981 | D13: kg CO2-Äqv/kg | E13: ökobaudat 2023-I | F13: A2-Betonpflaster- Standardstein grau mit Vorsatz | G13: 2025
A14: Pflasterbettung | B14: 0.01 | C14: =B162*B6/B118 -> 0.0001421438 | D14: kg CO2-Äqv/kg | E14: ökobaudat 2023-I | F14: Sand 0/2 (Schottertragschicht siehe unten) | G14: 2025
A15: Asphaltbinder | B15: 0.081 | C15: 0.0007237 | D15: kg CO2-Äqv/kg | E15: ökobaudat 2023-I | F15: Asphaltbinder | G15: 2025
A16: Asphalttragschicht | B16: 0.073 | C16: 0.0006414 | D16: kg CO2-Äqv/kg | E16: ökobaudat 2023-I | F16: Asphalttragschicht | G16: 2025
A17: Schottertragschicht | B17: 0.017 | C17: =B162*B6/B121 -> 0.00018275631 | D17: kg CO2-Äqv/kg | E17: ökobaudat 2023-I | F17: Schotter 16/32, Schotter 16/32 (getrocknet) | G17: 2025
A18: Frostschutzschicht | B18: 0.018 | C18: =B162*B6/B122 -> 0.00013830207 | D18: kg CO2-Äqv/kg | E18: ökobaudat 2023-I | F18: Kies 2/32, Kies 2/32 (getrocknet) | G18: 2025
A20: Entsorgung
A21: Material | B21: THG-Potential | C21: Einheit | D21: Quelle | G21: Zuletzt aktualisiert
A22: Deponie (Z1-Z2) | B22: 6.26 | C22: kg CO2-Äqv/t | D22: ecoinvent v3.10: treatment of inert waste, inert material landfill | G22: 2025
A23: Deponie (Z3) | B23: 10 | C23: kg CO2-Äqv/t | D23: ecoinvent v3.10: treatment of inert waste, sanitary landfill - RER | G23: 2025
A24: Recycling Beton/Inertabfälle | B24: 4.38 | C24: kg CO2-Äqv/t | D24: ecoinvent v3.10: treatment of waste concrete, not reinforced, recycling | G24: 2025
A25: Deponie für teerhaltige Bitumengemische | B25: 17.6 | C25: kg CO2-Äqv/t | D25: ecoinvent v3.10: treatment of waste asphalt, sanitary landfill | G25: 2025
A27: Rohrleitungen | J27: Quadratische Regression, um Emissionsfaktoren auch für DN außerhalb der Standardtabellenwerte zu erhalten.
A28: Material | B28: DN | C28: Spez. Gewicht (kg/m) | D28: THG-Potential kg CO2e/kg | E28: THG-Potential (kg CO2-Äqv.)/m | F28: Quelle | G28: Zuletzt aktualisiert | J28: x | K28: x^2 | L28: y | M28: m2 | N28: m1 | O28: b | P28: m2 (gerundet) | Q28: m1 (gerundet) | R28: b (gerundet)
A29: Beton, unbewehrt | B29: 300 | C29: =E29/D29 -> 232.43561 | D29: 0.1322 | E29: 30.727988 | G29: 2025 | J29: =B29 -> 300 | K29: =J29^2 -> 90000 | L29: =E29 -> 30.727988 | M29: {=LINEST(L29:L41,J29:K41,TRUE,TRUE)} -> 0.00023529811 | N29: -0.047960956 | O29: 21.252514 | P29: =ROUND(M29,4) -> 0.0002 | Q29: =ROUND(N29,4) -> -0.048 | R29: =ROUND(O29,4) -> 21.2525 | T29: Y= | U29: =CONCATENATE(P29,"x²+",Q29,"x+",R29) -> 0,0002x²+-0,048x+21,2525
A30: Beton, unbewehrt | B30: 400 | C30: =E30/D30 -> 287.70647 | D30: 0.1322 | E30: 38.034796 | G30: 2025 | J30: =B30 -> 400 | K30: =J30^2 -> 160000 | L30: =E30 -> 38.034796
A31: Beton, unbewehrt | B31: 500 | C31: =E31/D31 -> 411.65794 | D31: 0.1322 | E31: 54.42118 | G31: 2025 | J31: =B31 -> 500 | K31: =J31^2 -> 250000 | L31: =E31 -> 54.42118
A32: Beton, unbewehrt | B32: 600 | C32: =E32/D32 -> 559.44896 | D32: 0.1322 | E32: 73.959153 | G32: 2025 | J32: =B32 -> 600 | K32: =J32^2 -> 360000 | L32: =E32 -> 73.959153
A33: Beton, unbewehrt | B33: 700 | C33: =E33/D33 -> 803.23674 | D33: 0.1322 | E33: 106.1879 | G33: 2025 | J33: =B33 -> 700 | K33: =J33^2 -> 490000 | L33: =E33 -> 106.1879
A34: Beton, unbewehrt | B34: 800 | C34: =E34/D34 -> 1041.2775 | D34: 0.1322 | E34: 137.65688 | G34: 2025 | J34: =B34 -> 800 | K34: =J34^2 -> 640000 | L34: =E34 -> 137.65688
A35: Beton, unbewehrt | B35: 900 | C35: =E35/D35 -> 1250.5831 | D35: 0.1322 | E35: 165.32708 | G35: 2025 | J35: =B35 -> 900 | K35: =J35^2 -> 810000 | L35: =E35 -> 165.32708
A36: Beton, unbewehrt | B36: 1000 | C36: =E36/D36 -> 1575.5388 | D36: 0.1322 | E36: 208.28623 | G36: 2025 | J36: =B36 -> 1000 | K36: =J36^2 -> 1000000 | L36: =E36 -> 208.28623
A37: Beton, unbewehrt | B37: 1100 | C37: =E37/D37 -> 1949.8765 | D37: 0.1322 | E37: 257.77368 | G37: 2025 | J37: =B37 -> 1100 | K37: =J37^2 -> 1210000 | L37: =E37 -> 257.77368
A38: Beton, unbewehrt | B38: 1200 | C38: =E38/D38 -> 2133.9945 | D38: 0.1322 | E38: 282.11407 | G38: 2025 | J38: =B38 -> 1200 | K38: =J38^2 -> 1440000 | L38: =E38 -> 282.11407
A39: Beton, unbewehrt | B39: 1300 | C39: =E39/D39 -> 2817.8916 | D39: 0.1322 | E39: 372.52526 | G39: 2025 | J39: =B39 -> 1300 | K39: =J39^2 -> 1690000 | L39: =E39 -> 372.52526
A40: Beton, unbewehrt | B40: 1400 | C40: =E40/D40 -> 3214.8626 | D40: 0.1322 | E40: 425.00484 | G40: 2025 | J40: =B40 -> 1400 | K40: =J40^2 -> 1960000 | L40: =E40 -> 425.00484
A41: Beton, unbewehrt | B41: 1500 | C41: =E41/D41 -> 3548.0487 | D41: 0.1322 | E41: 469.05204 | G41: 2025 | J41: =B41 -> 1500 | K41: =J41^2 -> 2250000 | L41: =E41 -> 469.05204
A42: Beton, bewehrt | B42: 300 | C42: =E42/D42 -> 219.60865 | D42: 0.1417 | E42: 31.118546 | G42: 2025 | J42: =B42 -> 300 | K42: =J42^2 -> 90000 | L42: =E42 -> 31.118546 | M42: {=LINEST(L42:L54,J42:K54,TRUE,TRUE)} -> 9.6412566e-05 | N42: 0.069391296 | O42: -1.2474099 | P42: =ROUND(M42,4) -> 0.0001 | Q42: =ROUND(N42,4) -> 0.0694 | R42: =ROUND(O42,4) -> -1.2474
A43: Beton, bewehrt | B43: 400 | C43: =E43/D43 -> 300.99149 | D43: 0.1417 | E43: 42.650494 | G43: 2025 | J43: =B43 -> 400 | K43: =J43^2 -> 160000 | L43: =E43 -> 42.650494
A44: Beton, bewehrt | B44: 500 | C44: =E44/D44 -> 389.67707 | D44: 0.1417 | E44: 55.217241 | G44: 2025 | J44: =B44 -> 500 | K44: =J44^2 -> 250000 | L44: =E44 -> 55.217241
A45: Beton, bewehrt | B45: 600 | C45: =E45/D45 -> 519.61329 | D45: 0.1417 | E45: 73.629203 | G45: 2025 | J45: =B45 -> 600 | K45: =J45^2 -> 360000 | L45: =E45 -> 73.629203
A46: Beton, bewehrt | B46: 700 | C46: =E46/D46 -> 641.58885 | D46: 0.1417 | E46: 90.91314 | G46: 2025 | J46: =B46 -> 700 | K46: =J46^2 -> 490000 | L46: =E46 -> 90.91314
A47: Beton, bewehrt | B47: 800 | C47: =E47/D47 -> 818.23632 | D47: 0.1417 | E47: 115.94409 | G47: 2025 | J47: =B47 -> 800 | K47: =J47^2 -> 640000 | L47: =E47 -> 115.94409
A48: Beton, bewehrt | B48: 900 | C48: =E48/D48 -> 992.12058 | D48: 0.1417 | E48: 140.58349 | G48: 2025 | J48: =B48 -> 900 | K48: =J48^2 -> 810000 | L48: =E48 -> 140.58349
A49: Beton, bewehrt | B49: 1000 | C49: =E49/D49 -> 1138.8334 | D49: 0.1417 | E49: 161.37269 | G49: 2025 | J49: =B49 -> 1000 | K49: =J49^2 -> 1000000 | L49: =E49 -> 161.37269
A50: Beton, bewehrt | B50: 1100 | C50: =E50/D50 -> 1406.2059 | D50: 0.1417 | E50: 199.25938 | G50: 2025 | J50: =B50 -> 1100 | K50: =J50^2 -> 1210000 | L50: =E50 -> 199.25938
A51: Beton, bewehrt | B51: 1200 | C51: =E51/D51 -> 1573.7743 | D51: 0.1417 | E51: 223.00382 | G51: 2025 | J51: =B51 -> 1200 | K51: =J51^2 -> 1440000 | L51: =E51 -> 223.00382
A52: Beton, bewehrt | B52: 1300 | C52: =E52/D52 -> 1727.5267 | D52: 0.1417 | E52: 244.79053 | G52: 2025 | J52: =B52 -> 1300 | K52: =J52^2 -> 1690000 | L52: =E52 -> 244.79053
A53: Beton, bewehrt | B53: 1400 | C53: =E53/D53 -> 2077.7952 | D53: 0.1417 | E53: 294.42359 | G53: 2025 | J53: =B53 -> 1400 | K53: =J53^2 -> 1960000 | L53: =E53 -> 294.42359
A54: Beton, bewehrt | B54: 1500 | C54: =E54/D54 -> 2212.0736 | D54: 0.1417 | E54: 313.45083 | G54: 2025 | J54: =B54 -> 1500 | K54: =J54^2 -> 2250000 | L54: =E54 -> 313.45083
A55: Steinzeug | B55: 300 | C55: =E55/D55 -> 36.077171 | D55: 0.51529412 | E55: 18.590354 | G55: 2025 | J55: =B55 -> 300 | K55: =J55^2 -> 90000 | L55: =E55 -> 18.590354 | M55: {=LINEST(L55:L58,J55:K58,TRUE,TRUE)} -> -5.7394406e-05 | N55: 0.1811286 | O55: -29.766301 | P55: =ROUND(M55,4) -> -0.0001 | Q55: =ROUND(N55,4) -> 0.1811 | R55: =ROUND(O55,4) -> -29.7663
A56: Steinzeug | B56: 400 | C56: =E56/D56 -> 69.768529 | D56: 0.51529412 | E56: 35.951313 | G56: 2025 | J56: =B56 -> 400 | K56: =J56^2 -> 160000 | L56: =E56 -> 35.951313
A57: Steinzeug | B57: 500 | C57: =E57/D57 -> 85.388349 | D57: 0.51529412 | E57: 44.000114 | G57: 2025 | J57: =B57 -> 500 | K57: =J57^2 -> 250000 | L57: =E57 -> 44.000114
A58: Steinzeug | B58: 600 | C58: =E58/D58 -> 114.62443 | D58: 0.51529412 | E58: 59.065297 | G58: 2025 | J58: =B58 -> 600 | K58: =J58^2 -> 360000 | L58: =E58 -> 59.065297
A59: Duktiles Gusseisen | B59: 300 | C59: =E59/D59 -> 35.874272 | D59: 1.635 | E59: 58.654434 | G59: 2025 | J59: =B59 -> 300 | K59: =J59^2 -> 90000 | L59: =E59 -> 58.654434 | M59: {=LINEST(L59:L66,J59:K66,TRUE,TRUE)} -> 0.00025436872 | N59: 0.10922892 | O59: 2.9925732 | P59: =ROUND(M59,4) -> 0.0003 | Q59: =ROUND(N59,4) -> 0.1092 | R59: =ROUND(O59,4) -> 2.9926
A60: Duktiles Gusseisen | B60: 400 | C60: =E60/D60 -> 53.811408 | D60: 1.635 | E60: 87.981651 | G60: 2025 | J60: =B60 -> 400 | K60: =J60^2 -> 160000 | L60: =E60 -> 87.981651
A61: Duktiles Gusseisen | B61: 500 | C61: =E61/D61 -> 74.310991 | D61: 1.635 | E61: 121.49847 | G61: 2025 | J61: =B61 -> 500 | K61: =J61^2 -> 250000 | L61: =E61 -> 121.49847
A62: Duktiles Gusseisen | B62: 600 | C62: =E62/D62 -> 97.373023 | D62: 1.635 | E62: 159.20489 | G62: 2025 | J62: =B62 -> 600 | K62: =J62^2 -> 360000 | L62: =E62 -> 159.20489
A63: Duktiles Gusseisen | B63: 700 | C63: =E63/D63 -> 122.9975 | D63: 1.635 | E63: 201.10092 | G63: 2025 | J63: =B63 -> 700 | K63: =J63^2 -> 490000 | L63: =E63 -> 201.10092
A64: Duktiles Gusseisen | B64: 800 | C64: =E64/D64 -> 156.30933 | D64: 1.635 | E64: 255.56575 | G64: 2025 | J64: =B64 -> 800 | K64: =J64^2 -> 640000 | L64: =E64 -> 255.56575
A65: Duktiles Gusseisen | B65: 900 | C65: =E65/D65 -> 189.62115 | D65: 1.635 | E65: 310.03058 | G65: 2025 | J65: =B65 -> 900 | K65: =J65^2 -> 810000 | L65: =E65 -> 310.03058
A66: Duktiles Gusseisen | B66: 1000 | C66: =E66/D66 -> 222.93297 | D66: 1.635 | E66: 364.49541 | G66: 2025 | J66: =B66 -> 1000 | K66: =J66^2 -> 1000000 | L66: =E66 -> 364.49541
A67: PVC-U | B67: 300 | C67: =E67/D67 -> 20.418184 | D67: 2.841 | E67: 58.008061 | G67: 2025 | J67: =B67 -> 300 | K67: =J67^2 -> 90000 | L67: =E67 -> 58.008061 | M67: {=LINEST(L67:L72,J67:K72,TRUE,TRUE)} -> 0.00051786467 | N67: 0.055977585 | O67: -11.608185 | P67: =ROUND(M67,4) -> 0.0005 | Q67: =ROUND(N67,4) -> 0.056 | R67: =ROUND(O67,4) -> -11.6082
A68: PVC-U | B68: 400 | C68: =E68/D68 -> 30.627276 | D68: 2.841 | E68: 87.012091 | G68: 2025 | J68: =B68 -> 400 | K68: =J68^2 -> 160000 | L68: =E68 -> 87.012091
A69: PVC-U | B69: 500 | C69: =E69/D69 -> 47.641371 | D69: 2.841 | E69: 135.34913 | G69: 2025 | J69: =B69 -> 500 | K69: =J69^2 -> 250000 | L69: =E69 -> 135.34913
A70: PVC-U | B70: 600 | C70: =E70/D70 -> 76.566602 | D70: 2.841 | E70: 217.52572 | G70: 2025 | J70: =B70 -> 600 | K70: =J70^2 -> 360000 | L70: =E70 -> 217.52572
A71: PVC-U | B71: 700 | C71: =E71/D71 -> 102.08774 | D71: 2.841 | E71: 290.03128 | G71: 2025 | J71: =B71 -> 700 | K71: =J71^2 -> 490000 | L71: =E71 -> 290.03128
A72: PVC-U | B72: 800 | C72: =E72/D72 -> 125.90684 | D72: 2.841 | E72: 357.70134 | G72: 2025 | J72: =B72 -> 800 | K72: =J72^2 -> 640000 | L72: =E72 -> 357.70134
A73: PP | B73: 300 | C73: =E73/D73 -> 7.4815352 | D73: 2.62 | E73: 19.601622 | F73: https://www.rehau.com/downloads/87168/preisliste-abwassertechnik.pdf | G73: 2025 | J73: =B73 -> 300 | K73: =J73^2 -> 90000 | L73: =E73 -> 19.601622 | M73: {=LINEST(L73:L78,J73:K78,TRUE,TRUE)} -> 0.00030741821 | N73: -0.077310687 | O73: 15.525294 | P73: =ROUND(M73,4) -> 0.0003 | Q73: =ROUND(N73,4) -> -0.0773 | R73: =ROUND(O73,4) -> 15.5253
A74: PP | B74: 400 | C74: =E74/D74 -> 13.463158 | D74: =D73 -> 2.62 | E74: 35.273473 | G74: 2025 | J74: =B74 -> 400 | K74: =J74^2 -> 160000 | L74: =E74 -> 35.273473
A75: PP | B75: 500 | C75: =E75/D75 -> 20.612981 | D75: =D74 -> 2.62 | E75: 54.006011 | G75: 2025 | J75: =B75 -> 500 | K75: =J75^2 -> 250000 | L75: =E75 -> 54.006011
A76: PP | B76: 600 | C76: =E76/D76 -> 28.256767 | D76: =D75 -> 2.62 | E76: 74.032729 | G76: 2025 | J76: =B76 -> 600 | K76: =J76^2 -> 360000 | L76: =E76 -> 74.032729
A77: PP | B77: 700 | C77: =E77/D77 -> 45.343511 | D77: =D76 -> 2.62 | E77: 118.8 | G77: 2025 | J77: =B77 -> 700 | K77: =J77^2 -> 490000 | L77: =E77 -> 118.8
A78: PP | B78: 800 | C78: =E78/D78 -> 56.517139 | D78: =D77 -> 2.62 | E78: 148.0749 | G78: 2025 | J78: =B78 -> 800 | K78: =J78^2 -> 640000 | L78: =E78 -> 148.0749
A79: GFK | B79: 300 | C79: =E79/D79 -> 9.9297049 | D79: 2.4 | E79: 23.831292 | F79: SN 10000; https://www.amiblu.com/wp-content/uploads/Hobas-Technische-Produktdaten-PN1.pdf | G79: 2025 | J79: =B79 -> 300 | K79: =J79^2 -> 90000 | L79: =E79 -> 23.831292 | M79: {=LINEST(L79:L91,J79:K91,TRUE,TRUE)} -> 0.00021335636 | N79: 0.0077303417 | O79: 3.4907078 | P79: =ROUND(M79,4) -> 0.0002 | Q79: =ROUND(N79,4) -> 0.0077 | R79: =ROUND(O79,4) -> 3.4907
A80: GFK | B80: 400 | C80: =E80/D80 -> 17.48533 | D80: =D79 -> 2.4 | E80: 41.964792 | G80: 2025 | J80: =B80 -> 400 | K80: =J80^2 -> 160000 | L80: =E80 -> 41.964792
A81: GFK | B81: 500 | C81: =E81/D81 -> 26.55099 | D81: =D80 -> 2.4 | E81: 63.722375 | G81: 2025 | J81: =B81 -> 500 | K81: =J81^2 -> 250000 | L81: =E81 -> 63.722375
A82: GFK | B82: 600 | C82: =E82/D82 -> 34.321944 | D82: =D81 -> 2.4 | E82: 82.372667 | G82: 2025 | J82: =B82 -> 600 | K82: =J82^2 -> 360000 | L82: =E82 -> 82.372667
A83: GFK | B83: 700 | C83: =E83/D83 -> 46.625729 | D83: =D82 -> 2.4 | E83: 111.90175 | G83: 2025 | J83: =B83 -> 700 | K83: =J83^2 -> 490000 | L83: =E83 -> 111.90175
A84: GFK | B84: 800 | C84: =E84/D84 -> 60.872934 | D84: =D83 -> 2.4 | E84: 146.09504 | G84: 2025 | J84: =B84 -> 800 | K84: =J84^2 -> 640000 | L84: =E84 -> 146.09504
A85: GFK | B85: 900 | C85: =E85/D85 -> 76.414844 | D85: =D84 -> 2.4 | E85: 183.39563 | G85: 2025 | J85: =B85 -> 900 | K85: =J85^2 -> 810000 | L85: =E85 -> 183.39563
A86: GFK | B86: 1000 | C86: =E86/D86 -> 93.900174 | D86: =D85 -> 2.4 | E86: 225.36042 | G86: 2025 | J86: =B86 -> 1000 | K86: =J86^2 -> 1000000 | L86: =E86 -> 225.36042
A87: GFK | B87: 1100 | C87: =E87/D87 -> 112.68021 | D87: =D86 -> 2.4 | E87: 270.4325 | G87: 2025 | J87: =B87 -> 1100 | K87: =J87^2 -> 1210000 | L87: =E87 -> 270.4325
A88: GFK | B88: 1200 | C88: =E88/D88 -> 133.40366 | D88: =D87 -> 2.4 | E88: 320.16879 | G88: 2025 | J88: =B88 -> 1200 | K88: =J88^2 -> 1440000 | L88: =E88 -> 320.16879
A89: GFK | B89: 1300 | C89: =E89/D89 -> 155.69167 | D89: =D88 -> 2.4 | E89: 373.66 | G89: 2025 | J89: =B89 -> 1300 | K89: =J89^2 -> 1690000 | L89: =E89 -> 373.66
A90: GFK | B90: 1400 | C90: =E90/D90 -> 180.67811 | D90: =D89 -> 2.4 | E90: 433.62746 | G90: 2025 | J90: =B90 -> 1400 | K90: =J90^2 -> 1960000 | L90: =E90 -> 433.62746
A91: GFK | B91: 1500 | C91: =E91/D91 -> 205.93439 | D91: =D83 -> 2.4 | E91: 494.24254 | G91: 2025 | J91: =B91 -> 1500 | K91: =J91^2 -> 2250000 | L91: =E91 -> 494.24254
A92: PE | B92: 300 | C92: 29.248092 | D92: 2.325 | E92: =C92*D92 -> 68.001813 | G92: 2025 | J92: =B92 -> 300 | K92: =J92^2 -> 90000 | L92: =E92 -> 68.001813 | M92: {=LINEST(L92:L108,J92:K108,TRUE,TRUE)} -> 0.00019552272 | N92: -0.26546564 | O92: 195.48752 | P92: =ROUND(M92,4) -> 0.0002 | Q92: =ROUND(N92,4) -> -0.2655 | R92: =ROUND(O92,4) -> 195.4875
A93: PE | B93: 400 | C93: 46.89313 | D93: 2.325 | E93: =C93*D93 -> 109.02653 | G93: 2025 | J93: =B93 -> 400 | K93: =J93^2 -> 160000 | L93: =E93 -> 109.02653
A94: PE | B94: 500 | C94: 74.717557 | D94: 2.325 | E94: =C94*D94 -> 173.71832 | G94: 2025 | J94: =B94 -> 500 | K94: =J94^2 -> 250000 | L94: =E94 -> 173.71832
A95: PE | B95: 600 | C95: 124.82443 | D95: 2.325 | E95: =C95*D95 -> 290.21679 | G95: 2025 | J95: =B95 -> 600 | K95: =J95^2 -> 360000 | L95: =E95 -> 290.21679
A96: PE | B96: 600 | C96: 19.66 | D96: 2.325 | E96: =C96*D96 -> 45.7095 | G96: 2025 | J96: =B96 -> 600 | K96: =J96^2 -> 360000 | L96: =E96 -> 45.7095
A97: PE | B97: 700 | C97: 27.5 | D97: 2.325 | E97: =C97*D97 -> 63.9375 | G97: 2025 | J97: =B97 -> 700 | K97: =J97^2 -> 490000 | L97: =E97 -> 63.9375
A98: PE | B98: 800 | C98: 34.83 | D98: 2.325 | E98: =C98*D98 -> 80.97975 | G98: 2025 | J98: =B98 -> 800 | K98: =J98^2 -> 640000 | L98: =E98 -> 80.97975
A99: PE | B99: 900 | C99: 38.83 | D99: 2.325 | E99: =C99*D99 -> 90.27975 | G99: 2025 | J99: =B99 -> 900 | K99: =J99^2 -> 810000 | L99: =E99 -> 90.27975
A100: PE | B100: 1000 | C100: 43 | D100: 2.325 | E100: =C100*D100 -> 99.975 | G100: 2025 | J100: =B100 -> 1000 | K100: =J100^2 -> 1000000 | L100: =E100 -> 99.975
A101: PE | B101: 1100 | C101: 57.66 | D101: 2.325 | E101: =C101*D101 -> 134.0595 | G101: 2025 | J101: =B101 -> 1100 | K101: =J101^2 -> 1210000 | L101: =E101 -> 134.0595
A102: PE | B102: 1200 | C102: 62.83 | D102: 2.325 | E102: =C102*D102 -> 146.07975 | G102: 2025 | J102: =B102 -> 1200 | K102: =J102^2 -> 1440000 | L102: =E102 -> 146.07975
A103: PE | B103: 1300 | C103: 88.5 | D103: 2.325 | E103: =C103*D103 -> 205.7625 | G103: 2025 | J103: =B103 -> 1300 | K103: =J103^2 -> 1690000 | L103: =E103 -> 205.7625
A104: PE | B104: 1400 | C104: 95 | D104: 2.325 | E104: =C104*D104 -> 220.875 | G104: 2025 | J104: =B104 -> 1400 | K104: =J104^2 -> 1960000 | L104: =E104 -> 220.875
... A108: PE | B108: 2000 | C108: 202.75 | D108: 2.325 | E108: =C108*D108 -> 471.39375 | G108: 2025 | J108: =B108 -> 2000 | K108: =J108^2 -> 4000000 | L108: =E108 -> 471.39375
...

Sheet Hilfsrechnungen&Baustelleninfo
A2: Nebenrechnungen
A3: Diese Nebenrechnungen können genutzt werden, wenn die Masse der zu entsorgenden Rohre und Schächte nicht bekannt ist.
A4: Achtung: DN und Länge der zu entsorgenden Rohre und Schächte entsprechen nicht zwingend denen der neu hergestellten. -> Projektdaten prüfen.
A6: Zu 6.4: Entsorgung
A7: Gewicht von zu entsorgenden Rohren:
A8: Spezifisches Gewicht | C8: kg/m | E8: Je nach Rohrmaterial und DN aus "Faktoren Abwasser ablesen"
A9: Länge | C9: m
A10: Gewicht | B10: =B8*B9 -> 0 | C10: kg/m | E10: in Eingaben Hauptkanal eingeben
A12: Gewicht von zu entsorgenden Schächten:
A13: Anzahl der Schächte
A14: Schachttyp
A15: Mittlere Tiefenlage | C15: m
A16: Gewünschte Datenquelle
A17: Gesamtgewicht | B17: =B13*'Hilfsrechnungen&Baustelleninfo'!G49 -> 0 | E17: in Eingaben Hauptkanal eingeben
A20: Zu 6.5: Verfüllung
A21: Bestandsrohr/-schacht verbleibt im Boden: Innendurchmesser di verwenden
A22: Bestandsrohr/-schacht wird ausgebaut: Außendurchmesser da verwenden
A24: Außendurchmesser = Innendurchmesser + 2 * Wandstärke
A25: Ggf. schätzen. Typische Wandstärken z.B. für Betonrohre: 100-120 mm für DN800, 120-150 mm für DN1000, 135-150 mm für DN1200
A27: Zu verfüllende Länge (Rohr) bzw. Höhe (Schacht): | C27: m
A28: di bzw. da | C28: mm
A29: Hohlraumvolumen | B29: =3.1415*(B28/2000)^2*B27 -> 0 | C29: m3
A30: Dichte Dämmer | B30: ='Faktoren Abwasser'!B148/'Faktoren Abwasser'!B149 -> 2278.5714 | C30: kg/m3 | D30: falls das genaue Material bekannt ist, hier Dichte eingeben
A31: Gewicht Dämmer | B31: =B29*B30 -> 0 | C31: kg | D31: in Eingaben Hauptkanal eingeben
A34: Zu 6.2 und 6.4: Gewicht von Schächten
A35: Zwischenrechnung Gewicht pro Schacht | H35: zieht Gewicht der Einzelteile aus 'Faktoren Abwasser'
B36: Abschnitt/ Maßnahme 1 | C36: Abschnitt/ Maßnahme 2 | D36: Abschnitt/ Maßnahme 3 | E36: Abschnitt/ Maßnahme 4 | F36: Abschnitt/ Maßnahme 5 | G36: Abbruch Bestand
A37: Schachtringe
A38: Erforderliche Höhe | B38: {=_xlfn.LET( _xlpm.DN,'Eingaben Hauptkanal'!F$241, _xlpm.Tiefe,'Eingaben Hauptkanal'!F$242, _xlpm.Quelle,'Eingaben Hauptkanal'!F$243, _xlpm.Basis,_xlfn.IFS( _xlpm.DN="DN 1000",230, _xlpm.DN="DN 1200",255, _xlpm.DN="DN 1500",280, TRUE,0 ), _xlpm.Spalte,_xlfn.IFS( _xlpm.Quelle="Tilia",2, _xlpm.Quelle="Berding Beton",3, _xlpm.Quelle="Eigene Eingabe",4, TRUE,0 ), IF( OR(_xlpm.DN="",_xlpm.Tiefe="",_xlpm.Quelle="",_xlpm.Basis=0,_xlpm.Spalte=0), 0, _xlfn.LET( _xlpm.HoeheUnterteil,INDEX('Faktoren Abwasser'!$A:$D,_xlpm.Basis+3,_xlpm.Spalte), _xlpm.HoeheHals,INDEX('Faktoren Abwasser'!$A:$D,_xlpm.Basis+8,_xlpm.Spalte), IF( AND(ISNUMBER(_xlpm.HoeheUnterteil),ISNUMBER(_xlpm.HoeheHals)), MAX(0,_xlpm.Tiefe-_xlpm.HoeheUnterteil-_xlpm.HoeheHals), NA() ) ) ) )} -> 0 | C38: {=_xlfn.LET( _xlpm.DN,'Eingaben Hauptkanal'!G$241, _xlpm.Tiefe,'Eingaben Hauptkanal'!G$242, _xlpm.Quelle,'Eingaben Hauptkanal'!G$243, _xlpm.Basis,_xlfn.IFS( _xlpm.DN="DN 1000",230, _xlpm.DN="DN 1200",255, _xlpm.DN="DN 1500",280, TRUE,0 ), _xlpm.Spalte,_xlfn.IFS( _xlpm.Quelle="Tilia",2, _xlpm.Quelle="Berding Beton",3, _xlpm.Quelle="Eigene Eingabe",4, TRUE,0 ), IF( OR(_xlpm.DN="",_xlpm.Tiefe="",_xlpm.Quelle="",_xlpm.Basis=0,_xlpm.Spalte=0), 0, _xlfn.LET( _xlpm.HoeheUnterteil,INDEX('Faktoren Abwasser'!$A:$D,_xlpm.Basis+3,_xlpm.Spalte), _xlpm.HoeheHals,INDEX('Faktoren Abwasser'!$A:$D,_xlpm.Basis+8,_xlpm.Spalte), IF( AND(ISNUMBER(_xlpm.HoeheUnterteil),ISNUMBER(_xlpm.HoeheHals)), MAX(0,_xlpm.Tiefe-_xlpm.HoeheUnterteil-_xlpm.HoeheHals), NA() ) ) ) )} -> 0 | D38: {=_xlfn.LET( _xlpm.DN,'Eingaben Hauptkanal'!H$241, _xlpm.Tiefe,'Eingaben Hauptkanal'!H$242, _xlpm.Quelle,'Eingaben Hauptkanal'!H$243, _xlpm.Basis,_xlfn.IFS( _xlpm.DN="DN 1000",230, _xlpm.DN="DN 1200",255, _xlpm.DN="DN 1500",280, TRUE,0 ), _xlpm.Spalte,_xlfn.IFS( _xlpm.Quelle="Tilia",2, _xlpm.Quelle="Berding Beton",3, _xlpm.Quelle="Eigene Eingabe",4, TRUE,0 ), IF( OR(_xlpm.DN="",_xlpm.Tiefe="",_xlpm.Quelle="",_xlpm.Basis=0,_xlpm.Spalte=0), 0, _xlfn.LET( _xlpm.HoeheUnterteil,INDEX('Faktoren Abwasser'!$A:$D,_xlpm.Basis+3,_xlpm.Spalte), _xlpm.HoeheHals,INDEX('Faktoren Abwasser'!$A:$D,_xlpm.Basis+8,_xlpm.Spalte), IF( AND(ISNUMBER(_xlpm.HoeheUnterteil),ISNUMBER(_xlpm.HoeheHals)), MAX(0,_xlpm.Tiefe-_xlpm.HoeheUnterteil-_xlpm.HoeheHals), NA() ) ) ) )} -> 0 | E38: {=_xlfn.LET( _xlpm.DN,'Eingaben Hauptkanal'!I$241, _xlpm.Tiefe,'Eingaben Hauptkanal'!I$242, _xlpm.Quelle,'Eingaben Hauptkanal'!I$243, _xlpm.Basis,_xlfn.IFS( _xlpm.DN="DN 1000",230, _xlpm.DN="DN 1200",255, _xlpm.DN="DN 1500",280, TRUE,0 ), _xlpm.Spalte,_xlfn.IFS( _xlpm.Quelle="Tilia",2, _xlpm.Quelle="Berding Beton",3, _xlpm.Quelle="Eigene Eingabe",4, TRUE,0 ), IF( OR(_xlpm.DN="",_xlpm.Tiefe="",_xlpm.Quelle="",_xlpm.Basis=0,_xlpm.Spalte=0), 0, _xlfn.LET( _xlpm.HoeheUnterteil,INDEX('Faktoren Abwasser'!$A:$D,_xlpm.Basis+3,_xlpm.Spalte), _xlpm.HoeheHals,INDEX('Faktoren Abwasser'!$A:$D,_xlpm.Basis+8,_xlpm.Spalte), IF( AND(ISNUMBER(_xlpm.HoeheUnterteil),ISNUMBER(_xlpm.HoeheHals)), MAX(0,_xlpm.Tiefe-_xlpm.HoeheUnterteil-_xlpm.HoeheHals), NA() ) ) ) )} -> 0 | F38: {=_xlfn.LET( _xlpm.DN,'Eingaben Hauptkanal'!J$241, _xlpm.Tiefe,'Eingaben Hauptkanal'!J$242, _xlpm.Quelle,'Eingaben Hauptkanal'!J$243, _xlpm.Basis,_xlfn.IFS( _xlpm.DN="DN 1000",230, _xlpm.DN="DN 1200",255, _xlpm.DN="DN 1500",280, TRUE,0 ), _xlpm.Spalte,_xlfn.IFS( _xlpm.Quelle="Tilia",2, _xlpm.Quelle="Berding Beton",3, _xlpm.Quelle="Eigene Eingabe",4, TRUE,0 ), IF( OR(_xlpm.DN="",_xlpm.Tiefe="",_xlpm.Quelle="",_xlpm.Basis=0,_xlpm.Spalte=0), 0, _xlfn.LET( _xlpm.HoeheUnterteil,INDEX('Faktoren Abwasser'!$A:$D,_xlpm.Basis+3,_xlpm.Spalte), _xlpm.HoeheHals,INDEX('Faktoren Abwasser'!$A:$D,_xlpm.Basis+8,_xlpm.Spalte), IF( AND(ISNUMBER(_xlpm.HoeheUnterteil),ISNUMBER(_xlpm.HoeheHals)), MAX(0,_xlpm.Tiefe-_xlpm.HoeheUnterteil-_xlpm.HoeheHals), NA() ) ) ) )} -> 0 | G38: {=_xlfn.LET( _xlpm.DN,'Hilfsrechnungen&Baustelleninfo'!B14, _xlpm.Tiefe,'Hilfsrechnungen&Baustelleninfo'!B15, _xlpm.Quelle,'Hilfsrechnungen&Baustelleninfo'!B16, _xlpm.Basis,_xlfn.IFS( _xlpm.DN="DN 1000",230, _xlpm.DN="DN 1200",255, _xlpm.DN="DN 1500",280, TRUE,0 ), _xlpm.Spalte,_xlfn.IFS( _xlpm.Quelle="Tilia",2, _xlpm.Quelle="Berding Beton",3, _xlpm.Quelle="Eigene Eingabe",4, TRUE,0 ), IF( OR(_xlpm.DN="",_xlpm.Tiefe="",_xlpm.Quelle="",_xlpm.Basis=0,_xlpm.Spalte=0), 0, _xlfn.LET( _xlpm.HoeheUnterteil,INDEX('Faktoren Abwasser'!$A:$D,_xlpm.Basis+3,_xlpm.Spalte), _xlpm.HoeheHals,INDEX('Faktoren Abwasser'!$A:$D,_xlpm.Basis+8,_xlpm.Spalte), IF( AND(ISNUMBER(_xlpm.HoeheUnterteil),ISNUMBER(_xlpm.HoeheHals)), MAX(0,_xlpm.Tiefe-_xlpm.HoeheUnterteil-_xlpm.HoeheHals), NA() ) ) ) )} -> 0
A39: Anzahl benötigter SR 1,0 m | B39: {=_xlfn.LET( _xlpm.DN,'Eingaben Hauptkanal'!F$241, _xlpm.Quelle,'Eingaben Hauptkanal'!F$243, _xlpm.Basis,_xlfn.IFS( _xlpm.DN="DN 1000",230, _xlpm.DN="DN 1200",255, _xlpm.DN="DN 1500",280, TRUE,0 ), _xlpm.Spalte,_xlfn.IFS( _xlpm.Quelle="Tilia",2, _xlpm.Quelle="Berding Beton",3, _xlpm.Quelle="Eigene Eingabe",4, TRUE,0 ), IF( OR(_xlpm.Basis=0,_xlpm.Spalte=0,B38<=0), 0, ROUNDDOWN( B38/INDEX('Faktoren Abwasser'!$A:$D,_xlpm.Basis+21,_xlpm.Spalte), 0 ) ) )} -> 0 | C39: {=_xlfn.LET( _xlpm.DN,'Eingaben Hauptkanal'!G$241, _xlpm.Quelle,'Eingaben Hauptkanal'!G$243, _xlpm.Basis,_xlfn.IFS( _xlpm.DN="DN 1000",230, _xlpm.DN="DN 1200",255, _xlpm.DN="DN 1500",280, TRUE,0 ), _xlpm.Spalte,_xlfn.IFS( _xlpm.Quelle="Tilia",2, _xlpm.Quelle="Berding Beton",3, _xlpm.Quelle="Eigene Eingabe",4, TRUE,0 ), IF( OR(_xlpm.Basis=0,_xlpm.Spalte=0,C38<=0), 0, ROUNDDOWN( C38/INDEX('Faktoren Abwasser'!$A:$D,_xlpm.Basis+21,_xlpm.Spalte), 0 ) ) )} -> 0 | D39: {=_xlfn.LET( _xlpm.DN,'Eingaben Hauptkanal'!H$241, _xlpm.Quelle,'Eingaben Hauptkanal'!H$243, _xlpm.Basis,_xlfn.IFS( _xlpm.DN="DN 1000",230, _xlpm.DN="DN 1200",255, _xlpm.DN="DN 1500",280, TRUE,0 ), _xlpm.Spalte,_xlfn.IFS( _xlpm.Quelle="Tilia",2, _xlpm.Quelle="Berding Beton",3, _xlpm.Quelle="Eigene Eingabe",4, TRUE,0 ), IF( OR(_xlpm.Basis=0,_xlpm.Spalte=0,D38<=0), 0, ROUNDDOWN( D38/INDEX('Faktoren Abwasser'!$A:$D,_xlpm.Basis+21,_xlpm.Spalte), 0 ) ) )} -> 0 | E39: {=_xlfn.LET( _xlpm.DN,'Eingaben Hauptkanal'!I$241, _xlpm.Quelle,'Eingaben Hauptkanal'!I$243, _xlpm.Basis,_xlfn.IFS( _xlpm.DN="DN 1000",230, _xlpm.DN="DN 1200",255, _xlpm.DN="DN 1500",280, TRUE,0 ), _xlpm.Spalte,_xlfn.IFS( _xlpm.Quelle="Tilia",2, _xlpm.Quelle="Berding Beton",3, _xlpm.Quelle="Eigene Eingabe",4, TRUE,0 ), IF( OR(_xlpm.Basis=0,_xlpm.Spalte=0,E38<=0), 0, ROUNDDOWN( E38/INDEX('Faktoren Abwasser'!$A:$D,_xlpm.Basis+21,_xlpm.Spalte), 0 ) ) )} -> 0 | F39: {=_xlfn.LET( _xlpm.DN,'Eingaben Hauptkanal'!J$241, _xlpm.Quelle,'Eingaben Hauptkanal'!J$243, _xlpm.Basis,_xlfn.IFS( _xlpm.DN="DN 1000",230, _xlpm.DN="DN 1200",255, _xlpm.DN="DN 1500",280, TRUE,0 ), _xlpm.Spalte,_xlfn.IFS( _xlpm.Quelle="Tilia",2, _xlpm.Quelle="Berding Beton",3, _xlpm.Quelle="Eigene Eingabe",4, TRUE,0 ), IF( OR(_xlpm.Basis=0,_xlpm.Spalte=0,F38<=0), 0, ROUNDDOWN( F38/INDEX('Faktoren Abwasser'!$A:$D,_xlpm.Basis+21,_xlpm.Spalte), 0 ) ) )} -> 0 | G39: {=_xlfn.LET( _xlpm.DN,'Hilfsrechnungen&Baustelleninfo'!B14, _xlpm.Quelle,'Hilfsrechnungen&Baustelleninfo'!B16, _xlpm.Basis,_xlfn.IFS( _xlpm.DN="DN 1000",230, _xlpm.DN="DN 1200",255, _xlpm.DN="DN 1500",280, TRUE,0 ), _xlpm.Spalte,_xlfn.IFS( _xlpm.Quelle="Tilia",2, _xlpm.Quelle="Berding Beton",3, _xlpm.Quelle="Eigene Eingabe",4, TRUE,0 ), IF( OR(_xlpm.Basis=0,_xlpm.Spalte=0,G38<=0), 0, ROUNDDOWN( G38/INDEX('Faktoren Abwasser'!$A:$D,_xlpm.Basis+21,_xlpm.Spalte), 0 ) ) )} -> 0
A40: Anzahl benötigter SR 0,5 m | B40: {=_xlfn.LET( _xlpm.DN,'Eingaben Hauptkanal'!F$241, _xlpm.Quelle,'Eingaben Hauptkanal'!F$243, _xlpm.Basis,_xlfn.IFS( _xlpm.DN="DN 1000",230, _xlpm.DN="DN 1200",255, _xlpm.DN="DN 1500",280, TRUE,0 ), _xlpm.Spalte,_xlfn.IFS( _xlpm.Quelle="Tilia",2, _xlpm.Quelle="Berding Beton",3, _xlpm.Quelle="Eigene Eingabe",4, TRUE,0 ), _xlpm.Hoehe1,INDEX('Faktoren Abwasser'!$A:$D,_xlpm.Basis+21,_xlpm.Spalte), _xlpm.Hoehe05,INDEX('Faktoren Abwasser'!$A:$D,_xlpm.Basis+18,_xlpm.Spalte), _xlpm.Resthoehe,B38-B39*_xlpm.Hoehe1, IF( OR(_xlpm.Basis=0,_xlpm.Spalte=0,B38<=0,NOT(ISNUMBER(_xlpm.Hoehe05)),_xlpm.Hoehe05<=0), 0, ROUNDDOWN(_xlpm.Resthoehe/_xlpm.Hoehe05,0) ) )} -> 0 | C40: {=_xlfn.LET( _xlpm.DN,'Eingaben Hauptkanal'!G$241, _xlpm.Quelle,'Eingaben Hauptkanal'!G$243, _xlpm.Basis,_xlfn.IFS( _xlpm.DN="DN 1000",230, _xlpm.DN="DN 1200",255, _xlpm.DN="DN 1500",280, TRUE,0 ), _xlpm.Spalte,_xlfn.IFS( _xlpm.Quelle="Tilia",2, _xlpm.Quelle="Berding Beton",3, _xlpm.Quelle="Eigene Eingabe",4, TRUE,0 ), _xlpm.Hoehe1,INDEX('Faktoren Abwasser'!$A:$D,_xlpm.Basis+21,_xlpm.Spalte), _xlpm.Hoehe05,INDEX('Faktoren Abwasser'!$A:$D,_xlpm.Basis+18,_xlpm.Spalte), _xlpm.Resthoehe,C38-C39*_xlpm.Hoehe1, IF( OR(_xlpm.Basis=0,_xlpm.Spalte=0,C38<=0,NOT(ISNUMBER(_xlpm.Hoehe05)),_xlpm.Hoehe05<=0), 0, ROUNDDOWN(_xlpm.Resthoehe/_xlpm.Hoehe05,0) ) )} -> 0 | D40: {=_xlfn.LET( _xlpm.DN,'Eingaben Hauptkanal'!H$241, _xlpm.Quelle,'Eingaben Hauptkanal'!H$243, _xlpm.Basis,_xlfn.IFS( _xlpm.DN="DN 1000",230, _xlpm.DN="DN 1200",255, _xlpm.DN="DN 1500",280, TRUE,0 ), _xlpm.Spalte,_xlfn.IFS( _xlpm.Quelle="Tilia",2, _xlpm.Quelle="Berding Beton",3, _xlpm.Quelle="Eigene Eingabe",4, TRUE,0 ), _xlpm.Hoehe1,INDEX('Faktoren Abwasser'!$A:$D,_xlpm.Basis+21,_xlpm.Spalte), _xlpm.Hoehe05,INDEX('Faktoren Abwasser'!$A:$D,_xlpm.Basis+18,_xlpm.Spalte), _xlpm.Resthoehe,D38-D39*_xlpm.Hoehe1, IF( OR(_xlpm.Basis=0,_xlpm.Spalte=0,D38<=0,NOT(ISNUMBER(_xlpm.Hoehe05)),_xlpm.Hoehe05<=0), 0, ROUNDDOWN(_xlpm.Resthoehe/_xlpm.Hoehe05,0) ) )} -> 0 | E40: {=_xlfn.LET( _xlpm.DN,'Eingaben Hauptkanal'!I$241, _xlpm.Quelle,'Eingaben Hauptkanal'!I$243, _xlpm.Basis,_xlfn.IFS( _xlpm.DN="DN 1000",230, _xlpm.DN="DN 1200",255, _xlpm.DN="DN 1500",280, TRUE,0 ), _xlpm.Spalte,_xlfn.IFS( _xlpm.Quelle="Tilia",2, _xlpm.Quelle="Berding Beton",3, _xlpm.Quelle="Eigene Eingabe",4, TRUE,0 ), _xlpm.Hoehe1,INDEX('Faktoren Abwasser'!$A:$D,_xlpm.Basis+21,_xlpm.Spalte), _xlpm.Hoehe05,INDEX('Faktoren Abwasser'!$A:$D,_xlpm.Basis+18,_xlpm.Spalte), _xlpm.Resthoehe,E38-E39*_xlpm.Hoehe1, IF( OR(_xlpm.Basis=0,_xlpm.Spalte=0,E38<=0,NOT(ISNUMBER(_xlpm.Hoehe05)),_xlpm.Hoehe05<=0), 0, ROUNDDOWN(_xlpm.Resthoehe/_xlpm.Hoehe05,0) ) )} -> 0 | F40: {=_xlfn.LET( _xlpm.DN,'Eingaben Hauptkanal'!J$241, _xlpm.Quelle,'Eingaben Hauptkanal'!J$243, _xlpm.Basis,_xlfn.IFS( _xlpm.DN="DN 1000",230, _xlpm.DN="DN 1200",255, _xlpm.DN="DN 1500",280, TRUE,0 ), _xlpm.Spalte,_xlfn.IFS( _xlpm.Quelle="Tilia",2, _xlpm.Quelle="Berding Beton",3, _xlpm.Quelle="Eigene Eingabe",4, TRUE,0 ), _xlpm.Hoehe1,INDEX('Faktoren Abwasser'!$A:$D,_xlpm.Basis+21,_xlpm.Spalte), _xlpm.Hoehe05,INDEX('Faktoren Abwasser'!$A:$D,_xlpm.Basis+18,_xlpm.Spalte), _xlpm.Resthoehe,F38-F39*_xlpm.Hoehe1, IF( OR(_xlpm.Basis=0,_xlpm.Spalte=0,F38<=0,NOT(ISNUMBER(_xlpm.Hoehe05)),_xlpm.Hoehe05<=0), 0, ROUNDDOWN(_xlpm.Resthoehe/_xlpm.Hoehe05,0) ) )} -> 0 | G40: {=_xlfn.LET( _xlpm.DN,'Hilfsrechnungen&Baustelleninfo'!B14, _xlpm.Quelle,'Hilfsrechnungen&Baustelleninfo'!B16, _xlpm.Basis,_xlfn.IFS( _xlpm.DN="DN 1000",230, _xlpm.DN="DN 1200",255, _xlpm.DN="DN 1500",280, TRUE,0 ), _xlpm.Spalte,_xlfn.IFS( _xlpm.Quelle="Tilia",2, _xlpm.Quelle="Berding Beton",3, _xlpm.Quelle="Eigene Eingabe",4, TRUE,0 ), _xlpm.Hoehe1,INDEX('Faktoren Abwasser'!$A:$D,_xlpm.Basis+21,_xlpm.Spalte), _xlpm.Hoehe05,INDEX('Faktoren Abwasser'!$A:$D,_xlpm.Basis+18,_xlpm.Spalte), _xlpm.Resthoehe,G38-G39*_xlpm.Hoehe1, IF( OR(_xlpm.Basis=0,_xlpm.Spalte=0,G38<=0,NOT(ISNUMBER(_xlpm.Hoehe05)),_xlpm.Hoehe05<=0), 0, ROUNDDOWN(_xlpm.Resthoehe/_xlpm.Hoehe05,0) ) )} -> 0
A41: Anzahl benötigter SR 0,25 m | B41: {=_xlfn.LET( _xlpm.DN,'Eingaben Hauptkanal'!F$241, _xlpm.Quelle,'Eingaben Hauptkanal'!F$243, _xlpm.Basis,_xlfn.IFS( _xlpm.DN="DN 1000",230, _xlpm.DN="DN 1200",255, _xlpm.DN="DN 1500",280, TRUE,0 ), _xlpm.Spalte,_xlfn.IFS( _xlpm.Quelle="Tilia",2, _xlpm.Quelle="Berding Beton",3, _xlpm.Quelle="Eigene Eingabe",4, TRUE,0 ), _xlpm.Hoehe1,INDEX('Faktoren Abwasser'!$A:$D,_xlpm.Basis+21,_xlpm.Spalte), _xlpm.Hoehe05,INDEX('Faktoren Abwasser'!$A:$D,_xlpm.Basis+18,_xlpm.Spalte), _xlpm.Hoehe025,INDEX('Faktoren Abwasser'!$A:$D,_xlpm.Basis+15,_xlpm.Spalte), _xlpm.Resthoehe,B38-B39*_xlpm.Hoehe1-B40*_xlpm.Hoehe05, IF( OR( _xlpm.Basis=0, _xlpm.Spalte=0, B38<=0, NOT(ISNUMBER(_xlpm.Hoehe025)), _xlpm.Hoehe025<=0 ), 0, ROUNDDOWN(_xlpm.Resthoehe/_xlpm.Hoehe025,0) ) )} -> 0 | C41: {=_xlfn.LET( _xlpm.DN,'Eingaben Hauptkanal'!G$241, _xlpm.Quelle,'Eingaben Hauptkanal'!G$243, _xlpm.Basis,_xlfn.IFS( _xlpm.DN="DN 1000",230, _xlpm.DN="DN 1200",255, _xlpm.DN="DN 1500",280, TRUE,0 ), _xlpm.Spalte,_xlfn.IFS( _xlpm.Quelle="Tilia",2, _xlpm.Quelle="Berding Beton",3, _xlpm.Quelle="Eigene Eingabe",4, TRUE,0 ), _xlpm.Hoehe1,INDEX('Faktoren Abwasser'!$A:$D,_xlpm.Basis+21,_xlpm.Spalte), _xlpm.Hoehe05,INDEX('Faktoren Abwasser'!$A:$D,_xlpm.Basis+18,_xlpm.Spalte), _xlpm.Hoehe025,INDEX('Faktoren Abwasser'!$A:$D,_xlpm.Basis+15,_xlpm.Spalte), _xlpm.Resthoehe,C38-C39*_xlpm.Hoehe1-C40*_xlpm.Hoehe05, IF( OR( _xlpm.Basis=0, _xlpm.Spalte=0, C38<=0, NOT(ISNUMBER(_xlpm.Hoehe025)), _xlpm.Hoehe025<=0 ), 0, ROUNDDOWN(_xlpm.Resthoehe/_xlpm.Hoehe025,0) ) )} -> 0 | D41: {=_xlfn.LET( _xlpm.DN,'Eingaben Hauptkanal'!H$241, _xlpm.Quelle,'Eingaben Hauptkanal'!H$243, _xlpm.Basis,_xlfn.IFS( _xlpm.DN="DN 1000",230, _xlpm.DN="DN 1200",255, _xlpm.DN="DN 1500",280, TRUE,0 ), _xlpm.Spalte,_xlfn.IFS( _xlpm.Quelle="Tilia",2, _xlpm.Quelle="Berding Beton",3, _xlpm.Quelle="Eigene Eingabe",4, TRUE,0 ), _xlpm.Hoehe1,INDEX('Faktoren Abwasser'!$A:$D,_xlpm.Basis+21,_xlpm.Spalte), _xlpm.Hoehe05,INDEX('Faktoren Abwasser'!$A:$D,_xlpm.Basis+18,_xlpm.Spalte), _xlpm.Hoehe025,INDEX('Faktoren Abwasser'!$A:$D,_xlpm.Basis+15,_xlpm.Spalte), _xlpm.Resthoehe,D38-D39*_xlpm.Hoehe1-D40*_xlpm.Hoehe05, IF( OR( _xlpm.Basis=0, _xlpm.Spalte=0, D38<=0, NOT(ISNUMBER(_xlpm.Hoehe025)), _xlpm.Hoehe025<=0 ), 0, ROUNDDOWN(_xlpm.Resthoehe/_xlpm.Hoehe025,0) ) )} -> 0 | E41: {=_xlfn.LET( _xlpm.DN,'Eingaben Hauptkanal'!I$241, _xlpm.Quelle,'Eingaben Hauptkanal'!I$243, _xlpm.Basis,_xlfn.IFS( _xlpm.DN="DN 1000",230, _xlpm.DN="DN 1200",255, _xlpm.DN="DN 1500",280, TRUE,0 ), _xlpm.Spalte,_xlfn.IFS( _xlpm.Quelle="Tilia",2, _xlpm.Quelle="Berding Beton",3, _xlpm.Quelle="Eigene Eingabe",4, TRUE,0 ), _xlpm.Hoehe1,INDEX('Faktoren Abwasser'!$A:$D,_xlpm.Basis+21,_xlpm.Spalte), _xlpm.Hoehe05,INDEX('Faktoren Abwasser'!$A:$D,_xlpm.Basis+18,_xlpm.Spalte), _xlpm.Hoehe025,INDEX('Faktoren Abwasser'!$A:$D,_xlpm.Basis+15,_xlpm.Spalte), _xlpm.Resthoehe,E38-E39*_xlpm.Hoehe1-E40*_xlpm.Hoehe05, IF( OR( _xlpm.Basis=0, _xlpm.Spalte=0, E38<=0, NOT(ISNUMBER(_xlpm.Hoehe025)), _xlpm.Hoehe025<=0 ), 0, ROUNDDOWN(_xlpm.Resthoehe/_xlpm.Hoehe025,0) ) )} -> 0 | F41: {=_xlfn.LET( _xlpm.DN,'Eingaben Hauptkanal'!J$241, _xlpm.Quelle,'Eingaben Hauptkanal'!J$243, _xlpm.Basis,_xlfn.IFS( _xlpm.DN="DN 1000",230, _xlpm.DN="DN 1200",255, _xlpm.DN="DN 1500",280, TRUE,0 ), _xlpm.Spalte,_xlfn.IFS( _xlpm.Quelle="Tilia",2, _xlpm.Quelle="Berding Beton",3, _xlpm.Quelle="Eigene Eingabe",4, TRUE,0 ), _xlpm.Hoehe1,INDEX('Faktoren Abwasser'!$A:$D,_xlpm.Basis+21,_xlpm.Spalte), _xlpm.Hoehe05,INDEX('Faktoren Abwasser'!$A:$D,_xlpm.Basis+18,_xlpm.Spalte), _xlpm.Hoehe025,INDEX('Faktoren Abwasser'!$A:$D,_xlpm.Basis+15,_xlpm.Spalte), _xlpm.Resthoehe,F38-F39*_xlpm.Hoehe1-F40*_xlpm.Hoehe05, IF( OR( _xlpm.Basis=0, _xlpm.Spalte=0, F38<=0, NOT(ISNUMBER(_xlpm.Hoehe025)), _xlpm.Hoehe025<=0 ), 0, ROUNDDOWN(_xlpm.Resthoehe/_xlpm.Hoehe025,0) ) )} -> 0 | G41: {=_xlfn.LET( _xlpm.DN,'Hilfsrechnungen&Baustelleninfo'!B14, _xlpm.Quelle,'Hilfsrechnungen&Baustelleninfo'!B16, _xlpm.Basis,_xlfn.IFS( _xlpm.DN="DN 1000",230, _xlpm.DN="DN 1200",255, _xlpm.DN="DN 1500",280, TRUE,0 ), _xlpm.Spalte,_xlfn.IFS( _xlpm.Quelle="Tilia",2, _xlpm.Quelle="Berding Beton",3, _xlpm.Quelle="Eigene Eingabe",4, TRUE,0 ), _xlpm.Hoehe1,INDEX('Faktoren Abwasser'!$A:$D,_xlpm.Basis+21,_xlpm.Spalte), _xlpm.Hoehe05,INDEX('Faktoren Abwasser'!$A:$D,_xlpm.Basis+18,_xlpm.Spalte), _xlpm.Hoehe025,INDEX('Faktoren Abwasser'!$A:$D,_xlpm.Basis+15,_xlpm.Spalte), _xlpm.Resthoehe,G38-G39*_xlpm.Hoehe1-G40*_xlpm.Hoehe05, IF( OR( _xlpm.Basis=0, _xlpm.Spalte=0, G38<=0, NOT(ISNUMBER(_xlpm.Hoehe025)), _xlpm.Hoehe025<=0 ), 0, ROUNDDOWN(_xlpm.Resthoehe/_xlpm.Hoehe025,0) ) )} -> 0
A42: Gewicht SR je Schacht | B42: {=_xlfn.LET( _xlpm.DN,'Eingaben Hauptkanal'!F$241, _xlpm.Quelle,'Eingaben Hauptkanal'!F$243, _xlpm.Basis,_xlfn.IFS( _xlpm.DN="DN 1000",230, _xlpm.DN="DN 1200",255, _xlpm.DN="DN 1500",280, TRUE,0 ), _xlpm.Spalte,_xlfn.IFS( _xlpm.Quelle="Tilia",2, _xlpm.Quelle="Berding Beton",3, _xlpm.Quelle="Eigene Eingabe",4, TRUE,0 ), _xlpm.Gewicht1,INDEX('Faktoren Abwasser'!$A:$D,_xlpm.Basis+20,_xlpm.Spalte), _xlpm.Gewicht05,INDEX('Faktoren Abwasser'!$A:$D,_xlpm.Basis+17,_xlpm.Spalte), _xlpm.Gewicht025,INDEX('Faktoren Abwasser'!$A:$D,_xlpm.Basis+14,_xlpm.Spalte), IF( OR(_xlpm.Basis=0,_xlpm.Spalte=0), 0, B39*_xlpm.Gewicht1+B40*_xlpm.Gewicht05+B41*_xlpm.Gewicht025 ) )} -> 0 | C42: {=_xlfn.LET( _xlpm.DN,'Eingaben Hauptkanal'!G$241, _xlpm.Quelle,'Eingaben Hauptkanal'!G$243, _xlpm.Basis,_xlfn.IFS( _xlpm.DN="DN 1000",230, _xlpm.DN="DN 1200",255, _xlpm.DN="DN 1500",280, TRUE,0 ), _xlpm.Spalte,_xlfn.IFS( _xlpm.Quelle="Tilia",2, _xlpm.Quelle="Berding Beton",3, _xlpm.Quelle="Eigene Eingabe",4, TRUE,0 ), _xlpm.Gewicht1,INDEX('Faktoren Abwasser'!$A:$D,_xlpm.Basis+20,_xlpm.Spalte), _xlpm.Gewicht05,INDEX('Faktoren Abwasser'!$A:$D,_xlpm.Basis+17,_xlpm.Spalte), _xlpm.Gewicht025,INDEX('Faktoren Abwasser'!$A:$D,_xlpm.Basis+14,_xlpm.Spalte), IF( OR(_xlpm.Basis=0,_xlpm.Spalte=0), 0, C39*_xlpm.Gewicht1+C40*_xlpm.Gewicht05+C41*_xlpm.Gewicht025 ) )} -> 0 | D42: {=_xlfn.LET( _xlpm.DN,'Eingaben Hauptkanal'!H$241, _xlpm.Quelle,'Eingaben Hauptkanal'!H$243, _xlpm.Basis,_xlfn.IFS( _xlpm.DN="DN 1000",230, _xlpm.DN="DN 1200",255, _xlpm.DN="DN 1500",280, TRUE,0 ), _xlpm.Spalte,_xlfn.IFS( _xlpm.Quelle="Tilia",2, _xlpm.Quelle="Berding Beton",3, _xlpm.Quelle="Eigene Eingabe",4, TRUE,0 ), _xlpm.Gewicht1,INDEX('Faktoren Abwasser'!$A:$D,_xlpm.Basis+20,_xlpm.Spalte), _xlpm.Gewicht05,INDEX('Faktoren Abwasser'!$A:$D,_xlpm.Basis+17,_xlpm.Spalte), _xlpm.Gewicht025,INDEX('Faktoren Abwasser'!$A:$D,_xlpm.Basis+14,_xlpm.Spalte), IF( OR(_xlpm.Basis=0,_xlpm.Spalte=0), 0, D39*_xlpm.Gewicht1+D40*_xlpm.Gewicht05+D41*_xlpm.Gewicht025 ) )} -> 0 | E42: {=_xlfn.LET( _xlpm.DN,'Eingaben Hauptkanal'!I$241, _xlpm.Quelle,'Eingaben Hauptkanal'!I$243, _xlpm.Basis,_xlfn.IFS( _xlpm.DN="DN 1000",230, _xlpm.DN="DN 1200",255, _xlpm.DN="DN 1500",280, TRUE,0 ), _xlpm.Spalte,_xlfn.IFS( _xlpm.Quelle="Tilia",2, _xlpm.Quelle="Berding Beton",3, _xlpm.Quelle="Eigene Eingabe",4, TRUE,0 ), _xlpm.Gewicht1,INDEX('Faktoren Abwasser'!$A:$D,_xlpm.Basis+20,_xlpm.Spalte), _xlpm.Gewicht05,INDEX('Faktoren Abwasser'!$A:$D,_xlpm.Basis+17,_xlpm.Spalte), _xlpm.Gewicht025,INDEX('Faktoren Abwasser'!$A:$D,_xlpm.Basis+14,_xlpm.Spalte), IF( OR(_xlpm.Basis=0,_xlpm.Spalte=0), 0, E39*_xlpm.Gewicht1+E40*_xlpm.Gewicht05+E41*_xlpm.Gewicht025 ) )} -> 0 | F42: {=_xlfn.LET( _xlpm.DN,'Eingaben Hauptkanal'!J$241, _xlpm.Quelle,'Eingaben Hauptkanal'!J$243, _xlpm.Basis,_xlfn.IFS( _xlpm.DN="DN 1000",230, _xlpm.DN="DN 1200",255, _xlpm.DN="DN 1500",280, TRUE,0 ), _xlpm.Spalte,_xlfn.IFS( _xlpm.Quelle="Tilia",2, _xlpm.Quelle="Berding Beton",3, _xlpm.Quelle="Eigene Eingabe",4, TRUE,0 ), _xlpm.Gewicht1,INDEX('Faktoren Abwasser'!$A:$D,_xlpm.Basis+20,_xlpm.Spalte), _xlpm.Gewicht05,INDEX('Faktoren Abwasser'!$A:$D,_xlpm.Basis+17,_xlpm.Spalte), _xlpm.Gewicht025,INDEX('Faktoren Abwasser'!$A:$D,_xlpm.Basis+14,_xlpm.Spalte), IF( OR(_xlpm.Basis=0,_xlpm.Spalte=0), 0, F39*_xlpm.Gewicht1+F40*_xlpm.Gewicht05+F41*_xlpm.Gewicht025 ) )} -> 0 | G42: {=_xlfn.LET( _xlpm.DN,'Hilfsrechnungen&Baustelleninfo'!B14, _xlpm.Quelle,'Hilfsrechnungen&Baustelleninfo'!B16, _xlpm.Basis,_xlfn.IFS( _xlpm.DN="DN 1000",230, _xlpm.DN="DN 1200",255, _xlpm.DN="DN 1500",280, TRUE,0 ), _xlpm.Spalte,_xlfn.IFS( _xlpm.Quelle="Tilia",2, _xlpm.Quelle="Berding Beton",3, _xlpm.Quelle="Eigene Eingabe",4, TRUE,0 ), _xlpm.Gewicht1,INDEX('Faktoren Abwasser'!$A:$D,_xlpm.Basis+20,_xlpm.Spalte), _xlpm.Gewicht05,INDEX('Faktoren Abwasser'!$A:$D,_xlpm.Basis+17,_xlpm.Spalte), _xlpm.Gewicht025,INDEX('Faktoren Abwasser'!$A:$D,_xlpm.Basis+14,_xlpm.Spalte), IF( OR(_xlpm.Basis=0,_xlpm.Spalte=0), 0, G39*_xlpm.Gewicht1+G40*_xlpm.Gewicht05+G41*_xlpm.Gewicht025 ) )} -> 0
A44: Steighilfen
A45: Erforderliche Länge | B45: ='Eingaben Hauptkanal'!F242 -> 0 | C45: ='Eingaben Hauptkanal'!G242 -> 0 | D45: ='Eingaben Hauptkanal'!H242 -> 0 | E45: ='Eingaben Hauptkanal'!I242 -> 0 | F45: ='Eingaben Hauptkanal'!J242 -> 0 | G45: ='Hilfsrechnungen&Baustelleninfo'!B15 -> 0
A46: Erforderliche Anzahl | B46: =ROUNDUP(B45*4,0) -> 0 | C46: =ROUNDUP(C45*4,0) -> 0 | D46: =ROUNDUP(D45*4,0) -> 0 | E46: =ROUNDUP(E45*4,0) -> 0 | F46: =ROUNDUP(F45*4,0) -> 0 | G46: =ROUNDUP(G45*4,0) -> 0
A47: Gewicht der Steighilfen | B47: {=_xlfn.LET( _xlpm.Quelle,'Eingaben Hauptkanal'!F$243, _xlpm.Spalte,_xlfn.IFS( _xlpm.Quelle="Tilia",2, _xlpm.Quelle="Berding Beton",3, _xlpm.Quelle="Eigene Eingabe",4, TRUE,0 ), IF( OR(_xlpm.Spalte=0,B46=0), 0, B46*INDEX('Faktoren Abwasser'!$A:$D,311,_xlpm.Spalte) ) )} -> 0 | C47: {=_xlfn.LET( _xlpm.Quelle,'Eingaben Hauptkanal'!G$243, _xlpm.Spalte,_xlfn.IFS( _xlpm.Quelle="Tilia",2, _xlpm.Quelle="Berding Beton",3, _xlpm.Quelle="Eigene Eingabe",4, TRUE,0 ), IF( OR(_xlpm.Spalte=0,C46=0), 0, C46*INDEX('Faktoren Abwasser'!$A:$D,311,_xlpm.Spalte) ) )} -> 0 | D47: {=_xlfn.LET( _xlpm.Quelle,'Eingaben Hauptkanal'!H$243, _xlpm.Spalte,_xlfn.IFS( _xlpm.Quelle="Tilia",2, _xlpm.Quelle="Berding Beton",3, _xlpm.Quelle="Eigene Eingabe",4, TRUE,0 ), IF( OR(_xlpm.Spalte=0,D46=0), 0, D46*INDEX('Faktoren Abwasser'!$A:$D,311,_xlpm.Spalte) ) )} -> 0 | E47: {=_xlfn.LET( _xlpm.Quelle,'Eingaben Hauptkanal'!I$243, _xlpm.Spalte,_xlfn.IFS( _xlpm.Quelle="Tilia",2, _xlpm.Quelle="Berding Beton",3, _xlpm.Quelle="Eigene Eingabe",4, TRUE,0 ), IF( OR(_xlpm.Spalte=0,E46=0), 0, E46*INDEX('Faktoren Abwasser'!$A:$D,311,_xlpm.Spalte) ) )} -> 0 | F47: {=_xlfn.LET( _xlpm.Quelle,'Eingaben Hauptkanal'!J$243, _xlpm.Spalte,_xlfn.IFS( _xlpm.Quelle="Tilia",2, _xlpm.Quelle="Berding Beton",3, _xlpm.Quelle="Eigene Eingabe",4, TRUE,0 ), IF( OR(_xlpm.Spalte=0,F46=0), 0, F46*INDEX('Faktoren Abwasser'!$A:$D,311,_xlpm.Spalte) ) )} -> 0 | G47: {=_xlfn.LET( _xlpm.Quelle,'Hilfsrechnungen&Baustelleninfo'!B16, _xlpm.Spalte,_xlfn.IFS( _xlpm.Quelle="Tilia",2, _xlpm.Quelle="Berding Beton",3, _xlpm.Quelle="Eigene Eingabe",4, TRUE,0 ), IF( OR(_xlpm.Spalte=0,G46=0), 0, G46*INDEX('Faktoren Abwasser'!$A:$D,311,_xlpm.Spalte) ) )} -> 0
A49: Gesamtgewicht 1 Schacht | B49: {=_xlfn.LET( _xlpm.DN,'Eingaben Hauptkanal'!F$241, _xlpm.Quelle,'Eingaben Hauptkanal'!F$243, _xlpm.Basis,_xlfn.IFS( _xlpm.DN="DN 1000",230, _xlpm.DN="DN 1200",255, _xlpm.DN="DN 1500",280, TRUE,0 ), _xlpm.Spalte,_xlfn.IFS( _xlpm.Quelle="Tilia",2, _xlpm.Quelle="Berding Beton",3, _xlpm.Quelle="Eigene Eingabe",4, TRUE,0 ), IF( OR(_xlpm.Basis=0,_xlpm.Spalte=0), 0, INDEX('Faktoren Abwasser'!$A:$D,307,_xlpm.Spalte) +B47 +INDEX('Faktoren Abwasser'!$A:$D,_xlpm.Basis+7,_xlpm.Spalte) +B42 +INDEX('Faktoren Abwasser'!$A:$D,_xlpm.Basis+2,_xlpm.Spalte) ) )} -> 0 | C49: {=_xlfn.LET( _xlpm.DN,'Eingaben Hauptkanal'!G$241, _xlpm.Quelle,'Eingaben Hauptkanal'!G$243, _xlpm.Basis,_xlfn.IFS( _xlpm.DN="DN 1000",230, _xlpm.DN="DN 1200",255, _xlpm.DN="DN 1500",280, TRUE,0 ), _xlpm.Spalte,_xlfn.IFS( _xlpm.Quelle="Tilia",2, _xlpm.Quelle="Berding Beton",3, _xlpm.Quelle="Eigene Eingabe",4, TRUE,0 ), IF( OR(_xlpm.Basis=0,_xlpm.Spalte=0), 0, INDEX('Faktoren Abwasser'!$A:$D,307,_xlpm.Spalte) +C47 +INDEX('Faktoren Abwasser'!$A:$D,_xlpm.Basis+7,_xlpm.Spalte) +C42 +INDEX('Faktoren Abwasser'!$A:$D,_xlpm.Basis+2,_xlpm.Spalte) ) )} -> 0 | D49: {=_xlfn.LET( _xlpm.DN,'Eingaben Hauptkanal'!H$241, _xlpm.Quelle,'Eingaben Hauptkanal'!H$243, _xlpm.Basis,_xlfn.IFS( _xlpm.DN="DN 1000",230, _xlpm.DN="DN 1200",255, _xlpm.DN="DN 1500",280, TRUE,0 ), _xlpm.Spalte,_xlfn.IFS( _xlpm.Quelle="Tilia",2, _xlpm.Quelle="Berding Beton",3, _xlpm.Quelle="Eigene Eingabe",4, TRUE,0 ), IF( OR(_xlpm.Basis=0,_xlpm.Spalte=0), 0, INDEX('Faktoren Abwasser'!$A:$D,307,_xlpm.Spalte) +D47 +INDEX('Faktoren Abwasser'!$A:$D,_xlpm.Basis+7,_xlpm.Spalte) +D42 +INDEX('Faktoren Abwasser'!$A:$D,_xlpm.Basis+2,_xlpm.Spalte) ) )} -> 0 | E49: {=_xlfn.LET( _xlpm.DN,'Eingaben Hauptkanal'!I$241, _xlpm.Quelle,'Eingaben Hauptkanal'!I$243, _xlpm.Basis,_xlfn.IFS( _xlpm.DN="DN 1000",230, _xlpm.DN="DN 1200",255, _xlpm.DN="DN 1500",280, TRUE,0 ), _xlpm.Spalte,_xlfn.IFS( _xlpm.Quelle="Tilia",2, _xlpm.Quelle="Berding Beton",3, _xlpm.Quelle="Eigene Eingabe",4, TRUE,0 ), IF( OR(_xlpm.Basis=0,_xlpm.Spalte=0), 0, INDEX('Faktoren Abwasser'!$A:$D,307,_xlpm.Spalte) +E47 +INDEX('Faktoren Abwasser'!$A:$D,_xlpm.Basis+7,_xlpm.Spalte) +E42 +INDEX('Faktoren Abwasser'!$A:$D,_xlpm.Basis+2,_xlpm.Spalte) ) )} -> 0 | F49: {=_xlfn.LET( _xlpm.DN,'Eingaben Hauptkanal'!J$241, _xlpm.Quelle,'Eingaben Hauptkanal'!J$243, _xlpm.Basis,_xlfn.IFS( _xlpm.DN="DN 1000",230, _xlpm.DN="DN 1200",255, _xlpm.DN="DN 1500",280, TRUE,0 ), _xlpm.Spalte,_xlfn.IFS( _xlpm.Quelle="Tilia",2, _xlpm.Quelle="Berding Beton",3, _xlpm.Quelle="Eigene Eingabe",4, TRUE,0 ), IF( OR(_xlpm.Basis=0,_xlpm.Spalte=0), 0, INDEX('Faktoren Abwasser'!$A:$D,307,_xlpm.Spalte) +F47 +INDEX('Faktoren Abwasser'!$A:$D,_xlpm.Basis+7,_xlpm.Spalte) +F42 +INDEX('Faktoren Abwasser'!$A:$D,_xlpm.Basis+2,_xlpm.Spalte) ) )} -> 0 | G49: {=_xlfn.LET( _xlpm.DN,'Hilfsrechnungen&Baustelleninfo'!B14, _xlpm.Quelle,'Hilfsrechnungen&Baustelleninfo'!B16, _xlpm.Basis,_xlfn.IFS( _xlpm.DN="DN 1000",230, _xlpm.DN="DN 1200",255, _xlpm.DN="DN 1500",280, TRUE,0 ), _xlpm.Spalte,_xlfn.IFS( _xlpm.Quelle="Tilia",2, _xlpm.Quelle="Berding Beton",3, _xlpm.Quelle="Eigene Eingabe",4, TRUE,0 ), IF( OR(_xlpm.Basis=0,_xlpm.Spalte=0), 0, INDEX('Faktoren Abwasser'!$A:$D,307,_xlpm.Spalte) +G47 +INDEX('Faktoren Abwasser'!$A:$D,_xlpm.Basis+7,_xlpm.Spalte) +G42 +INDEX('Faktoren Abwasser'!$A:$D,_xlpm.Basis+2,_xlpm.Spalte) ) )} -> 0
A85: Nebenrechnung CO2e geschl. Bauweisen
A87: Bauweise | B87: ='Eingaben Hauptkanal'!F17 -> 0 | C87: ='Eingaben Hauptkanal'!G17 -> 0 | D87: ='Eingaben Hauptkanal'!H17 -> 0 | E87: ='Eingaben Hauptkanal'!I17 -> 0 | F87: ='Eingaben Hauptkanal'!J17 -> 0
A88: Art d. geschl. Bauweise | B88: ='Eingaben Hauptkanal'!F18 -> 0 | C88: ='Eingaben Hauptkanal'!G18 -> 0 | D88: ='Eingaben Hauptkanal'!H18 -> 0 | E88: ='Eingaben Hauptkanal'!I18 -> 0 | F88: ='Eingaben Hauptkanal'!J18 -> 0
A89: Durchmesser Rohr (DN) | B89: ='Eingaben Hauptkanal'!F19 -> 0 | C89: ='Eingaben Hauptkanal'!G19 -> 0 | D89: ='Eingaben Hauptkanal'!H19 -> 0 | E89: ='Eingaben Hauptkanal'!I19 -> 0 | F89: ='Eingaben Hauptkanal'!J19 -> 0
A91: Pionierstollen | B91: =IF(B89=0,0,IF(B88="Pionierstollen",0.9814*B89+350.55,0)) -> 0 | C91: =IF(C89=0,0,IF(C88="Pionierstollen",0.9814*C89+350.55,0)) -> 0 | D91: =IF(D89=0,0,IF(D88="Pionierstollen",0.9814*D89+350.55,0)) -> 0 | E91: =IF(E89=0,0,IF(E88="Pionierstollen",0.9814*E89+350.55,0)) -> 0 | F91: =IF(F89=0,0,IF(F88="Pionierstollen",0.9814*F89+350.55,0)) -> 0
A92: Spritzbetonstollen | B92: =IF(B89=0,0,IF(B88="Spritzbetonstollen",0.5724*B89+322.48,0)) -> 0 | C92: =IF(C89=0,0,IF(C88="Spritzbetonstollen",0.5724*C89+322.48,0)) -> 0 | D92: =IF(D89=0,0,IF(D88="Spritzbetonstollen",0.5724*D89+322.48,0)) -> 0 | E92: =IF(E89=0,0,IF(E88="Spritzbetonstollen",0.5724*E89+322.48,0)) -> 0 | F92: =IF(F89=0,0,IF(F88="Spritzbetonstollen",0.5724*F89+322.48,0)) -> 0
A93: Kölner Stollen im Stahlverzug | B93: =IF(B89=0,0,IF(B88="Kölner Stollen im Stahlverzug",-0.5543*B89+2576,0)) -> 0 | C93: =IF(C89=0,0,IF(C88="Kölner Stollen im Stahlverzug",-0.5543*C89+2576,0)) -> 0 | D93: =IF(D89=0,0,IF(D88="Kölner Stollen im Stahlverzug",-0.5543*D89+2576,0)) -> 0 | E93: =IF(E89=0,0,IF(E88="Kölner Stollen im Stahlverzug",-0.5543*E89+2576,0)) -> 0 | F93: =IF(F89=0,0,IF(F88="Kölner Stollen im Stahlverzug",-0.5543*F89+2576,0)) -> 0
A94: CO2e/m | B94: =SUM(B91:B93) -> 0 | C94: =SUM(C91:C93) -> 0 | D94: =SUM(D91:D93) -> 0 | E94: =SUM(E91:E93) -> 0 | F94: =SUM(F91:F93) -> 0

Sheet Auswertung
B1: Berechnung der THG-Emissionen in t CO2e
C2: ='Eingaben Hauptkanal'!F10 -> Abschnitt/Maßnahme 1: Hauptkanal DN300 | D2: ='Eingaben Hauptkanal'!G10 -> Abschnitt/Maßnahme 2: Anschlussleitungen | E2: ='Eingaben Hauptkanal'!H10 -> Abschnitt/Maßnahme 3 | F2: ='Eingaben Hauptkanal'!I10 -> Abschnitt/Maßnahme 4 | G2: ='Eingaben Hauptkanal'!J10 -> Abschnitt/Maßnahme 5 | H2: Gesamt | I2: Relativ
B3: ='Eingaben Hauptkanal'!B24 -> Baustelleneinrichtung | C3: ='Eingaben Hauptkanal'!F24 -> 0 | D3: ='Eingaben Hauptkanal'!G24 -> 0 | E3: ='Eingaben Hauptkanal'!H24 -> 0 | F3: ='Eingaben Hauptkanal'!I24 -> 0 | G3: ='Eingaben Hauptkanal'!J24 -> 0 | H3: {=SUM(IF(ISNUMBER(C3:G3),C3:G3))} -> 0 | I3: =H3/$H$8 -> #DIV/0!
B4: ='Eingaben Hauptkanal'!B27 -> Pumpen Abwasser/Grundwasser | C4: ='Eingaben Hauptkanal'!F27 -> 0 | D4: ='Eingaben Hauptkanal'!G27 -> 0 | E4: ='Eingaben Hauptkanal'!H27 -> 0 | F4: ='Eingaben Hauptkanal'!I27 -> 0 | G4: ='Eingaben Hauptkanal'!J27 -> 0 | H4: {=SUM(IF(ISNUMBER(C4:G4),C4:G4))} -> 0 | I4: =H4/$H$8 -> #DIV/0!
B5: ='Eingaben Hauptkanal'!B42 -> Straßenarbeiten | C5: ='Eingaben Hauptkanal'!F42 -> #N/A | D5: ='Eingaben Hauptkanal'!G42 -> #N/A | E5: ='Eingaben Hauptkanal'!H42 -> #N/A | F5: ='Eingaben Hauptkanal'!I42 -> #N/A | G5: ='Eingaben Hauptkanal'!J42 -> #N/A | H5: {=SUM(IF(ISNUMBER(C5:G5),C5:G5))} -> 0 | I5: =H5/$H$8 -> #DIV/0!
B6: ='Eingaben Hauptkanal'!B123 -> Verbau + Bodenaushub | C6: ='Eingaben Hauptkanal'!F123 -> 0 | D6: ='Eingaben Hauptkanal'!G123 -> 0 | E6: ='Eingaben Hauptkanal'!H123 -> 0 | F6: ='Eingaben Hauptkanal'!I123 -> 0 | G6: ='Eingaben Hauptkanal'!J123 -> 0 | H6: {=SUM(IF(ISNUMBER(C6:G6),C6:G6))} -> 0 | I6: =H6/$H$8 -> #DIV/0!
B7: ='Eingaben Hauptkanal'!B222 -> Rohre + Schächte | C7: ='Eingaben Hauptkanal'!F222 -> 0 | D7: ='Eingaben Hauptkanal'!G222 -> 0 | E7: ='Eingaben Hauptkanal'!H222 -> 0 | F7: ='Eingaben Hauptkanal'!I222 -> 0 | G7: ='Eingaben Hauptkanal'!J222 -> 0 | H7: {=SUM(IF(ISNUMBER(C7:G7),C7:G7))} -> 0 | I7: =H7/$H$8 -> #DIV/0!
B8: Summe | C8: =SUM(C3:C7) -> #N/A | D8: =SUM(D3:D7) -> #N/A | E8: =SUM(E3:E7) -> #N/A | F8: =SUM(F3:F7) -> #N/A | G8: =SUM(G3:G7) -> #N/A | H8: {=SUM(IF(ISNUMBER(C8:G8),C8:G8))} -> 0 | I8: =H8/$H$8 -> #DIV/0!
B11: Länge der Leitungen | C11: ='Eingaben Hauptkanal'!F21 -> 0 | D11: ='Eingaben Hauptkanal'!G21 -> 0 | E11: ='Eingaben Hauptkanal'!H21 -> 0 | F11: ='Eingaben Hauptkanal'!I21 -> 0 | G11: ='Eingaben Hauptkanal'!J21 -> 0 | H11: =SUM(C11:G11) -> 0
B13: Berechung der THG-Emissionen in kg CO2e/m
C14: ='Eingaben Hauptkanal'!F10 -> Abschnitt/Maßnahme 1: Hauptkanal DN300 | D14: ='Eingaben Hauptkanal'!G10 -> Abschnitt/Maßnahme 2: Anschlussleitungen | E14: ='Eingaben Hauptkanal'!H10 -> Abschnitt/Maßnahme 3 | F14: ='Eingaben Hauptkanal'!I10 -> Abschnitt/Maßnahme 4 | G14: ='Eingaben Hauptkanal'!J10 -> Abschnitt/Maßnahme 5 | H14: Gesamt | I14: Relativ
B15: ='Eingaben Hauptkanal'!B24 -> Baustelleneinrichtung | C15: =C3/C$11 -> #DIV/0! | D15: =D3/D$11 -> #DIV/0! | E15: =E3/E$11 -> #DIV/0! | F15: =F3/F$11 -> #DIV/0! | G15: =G3/G$11 -> #DIV/0! | H15: =H3/H$11 -> #DIV/0! | I15: =I3 -> #DIV/0!
B16: ='Eingaben Hauptkanal'!B27 -> Pumpen Abwasser/Grundwasser | C16: =C4/C$11 -> #DIV/0! | D16: =D4/D$11 -> #DIV/0! | E16: =E4/E$11 -> #DIV/0! | F16: =F4/F$11 -> #DIV/0! | G16: =G4/G$11 -> #DIV/0! | H16: =H4/H$11 -> #DIV/0! | I16: =I4 -> #DIV/0!
B17: ='Eingaben Hauptkanal'!B42 -> Straßenarbeiten | C17: =C5/C$11 -> #N/A | D17: =D5/D$11 -> #N/A | E17: =E5/E$11 -> #N/A | F17: =F5/F$11 -> #N/A | G17: =G5/G$11 -> #N/A | H17: =H5/H$11 -> #DIV/0! | I17: =I5 -> #DIV/0!
B18: ='Eingaben Hauptkanal'!B123 -> Verbau + Bodenaushub | C18: =C6/C$11 -> #DIV/0! | D18: =D6/D$11 -> #DIV/0! | E18: =E6/E$11 -> #DIV/0! | F18: =F6/F$11 -> #DIV/0! | G18: =G6/G$11 -> #DIV/0! | H18: =H6/H$11 -> #DIV/0! | I18: =I6 -> #DIV/0!
B19: ='Eingaben Hauptkanal'!B222 -> Rohre + Schächte | C19: =C7/C$11 -> #DIV/0! | D19: =D7/D$11 -> #DIV/0! | E19: =E7/E$11 -> #DIV/0! | F19: =F7/F$11 -> #DIV/0! | G19: =G7/G$11 -> #DIV/0! | H19: =H7/H$11 -> #DIV/0! | I19: =I7 -> #DIV/0!
B20: Summe | C20: =SUM(C15:C19) -> #DIV/0! | D20: =SUM(D15:D19) -> #DIV/0! | E20: =SUM(E15:E19) -> #DIV/0! | F20: =SUM(F15:F19) -> #DIV/0! | G20: =SUM(G15:G19) -> #DIV/0! | H20: =SUM(H15:H19) -> #DIV/0! | I20: =I8 -> #DIV/0!
