Workbook

Sheet Emissionsfaktoren
A2: Güter oder Dienstleistung | B2: Einheit | C2: EF | D2: Quelle | E2: Datensatz | F2: Datum | G2: Kommentare KWB
A3: Einkauf
A4: Flockungshilfsmittel | B4: kg CO2e/t (Wirksubstanz) | C4: 3944 | D4: ecoinvent v3.10 | E4: polyacrylamide production - GLO | F4: 45406 | G4: als Polyacrylamid 100%
A5: FeSO4 (Grünsalz, 100%) | B5: kg CO2e/t (100%) | C5: 127 | D5: ecoinvent v3.10 | E5: iron sulfate production - RER | F5: 45406
A6: Fe2(SO4)3 (45%) | B6: kg CO2e/t (45%) | C6: =0.313*1000*0.45 -> 140.85 | D6: ecoinvent v3.10 | E6: iron(III) sulfate production, without water, in 12.5% iron solution state - RoW | F6: 45406
A7: FeCl3 (40%) | B7: kg CO2e/t (40%) | C7: =0.849*0.4*1000 -> 339.6 | D7: ecoinvent v3.10 | E7: iron(III) chloride production, product in 40% solution state - RoW | F7: 45406
A8: FeCl2 (30%) | B8: kg CO2e/t (30%) | C8: =0.223*1000*0.3 -> 66.9 | D8: ecoinvent v3.10 | E8: iron(II) chloride production - GLO | F8: 45406
A9: Polyaluminiumchlorid (17% Al2O3) | B9: kg CO2e/t (17% Al2O3) | C9: =1.76*1000*0.33 -> 580.8 | D9: ecoinvent v3.10 | E9: polyaluminium chloride production - GLO | F9: 45406
A10: Aktivkohle (virgin, Steinkohlebasis) | B10: kg CO2e/t (trocken) | C10: 14000 | D10: DWA 2016 | E10: Mittelwert aus drei Herstellern | F10: 45406 | G10: Eigene Berechnungen KWB
A11: Aktivkohle (regeneriert, Steinkohlebasis) | B11: kg CO2e/t (trocken) | C11: 2400 | D11: DWA 2016 | E11: Mittelwert aus drei Herstellern | F11: 45406 | G11: Eigene Berechnungen KWB
A12: Dienstwagen/Kfz | B12: kg CO2e/Stück | C12: 6639 | D12: ecoinvent v3.10 | E12: light commercial vehicle production - RER | F12: 45406 | G12: pro Stück (Golf-Klasse, ca. 1,5t)
A13: E-Fahrzeug (vollelektrisch) | B13: kg CO2e/Stück | C13: 12800 | D13: UBA 2024 | F13: 45420 | G13: Akkukapazität: 55 kWh
A14: Spülfahrzeug (28t) | B14: kg CO2e/Stück | C14: 33758 | D14: ecoinvent v3.10 | E14: lorry production, 28 metric ton - RER | F14: 45406 | G14: pro Stück
A16: Bau | B16: Einheit | C16: EF | D16: Quelle | E16: Datensatz | F16: Datum | G16: Kommentare KWB
A17: Kraftstoffe
A18: Diesel | B18: kg CO2e/L | C18: 3.478 | D18: ecoinvent v3.10 | E18: diesel, burned in building machine - GLO | F18: 45406 | G18: Lieferkette + Dieselmotor
A19: Diesel | B19: kg CO2e/L | C19: =1.0408*0.83 -> 0.863864 | D19: ecoinvent v3.10 | E19: market for diesel, low-sulfur - Europe without Switzerland | F19: 45420 | G19: Nur Lieferkette, Dichte: 0,83 kg/L
A20: Benzin | B20: kg CO2e/L | C20: 2.8 | D20: ecoinvent v3.10 | E20: petrol, unleaded, burned in machinery - GLO | F20: 45406 | G20: Lieferkette + Benzinmotor
A21: Benzin | B21: kg CO2e/L | C21: =1.0704*0.75 -> 0.8028 | D21: ecoinvent v3.10 | E21: market for petrol, unleaded - RER | F21: 45420 | G21: Nur Lieferkette, Dichte: 0,75 kg/L
A23: Straßenbau
A24: Asphalt (Gussaspahlt) | B24: kg CO2e/t | C24: 101.8 | D24: ökobaudat 2023-I | E24: Gussasphalt | F24: 45407 | G24: Dichte: 2400 kg/m³
A25: Beton (C30/37) / Betonasphalt | B25: kg CO2e/m³ | C25: 258.4 | D25: ökobaudat 2023-I | E25: Transportbeton C30/37 | F25: 45407 | G25: Dichte: 2306 kg/m³
A26: Splittmastixasphalt (Walzasphalt) | B26: kg CO2e/t | C26: 77 | D26: ökobaudat 2023-I | E26: Splittmastixasphalt (SMA) | F26: 45407
A27: Pflaster (Beton) | B27: kg CO2e/t | C27: 108.5 | D27: ökobaudat 2023-I | E27: A2-Betonpflaster- Standardstein grau mit Vorsatz | F27: 45407
A28: Pflasterbettung | B28: kg CO2e/t | C28: =(C31+2.612)/2 -> 10.046 | D28: ökobaudat 2023-I | E28: Sand 0/2 (Schottertragschicht siehe unten) | F28: 45407 | G28: Mittelwert Schottertragschicht/Sand
A29: Asphaltbinder | B29: kg CO2e/t | C29: 80.76 | D29: ökobaudat 2023-I | E29: Asphaltbinder | F29: 45407
A30: Asphalttragschicht | B30: kg CO2e/t | C30: 72.96 | D30: ökobaudat 2023-I | E30: Asphalttragschicht | F30: 45407
A31: Schottertragschicht | B31: kg CO2e/t | C31: =(7.76+27.2)/2 -> 17.48 | D31: ökobaudat 2023-I | E31: Schotter 16/32, Schotter 16/32 (getrocknet) | F31: 45407 | G31: Mittelwert Schotter/Schotter trocken
A32: Frostschutzschicht | B32: kg CO2e/t | C32: =(2.612+32.77)/2 -> 17.691 | D32: ökobaudat 2023-I | E32: Kies 2/32, Kies 2/32 (getrocknet) | F32: 45407 | G32: Mittelwert Kies/Kies trocken
A33: Baumaterial
A34: Emissionsfaktor Bewehrungsstahl | B34: kg CO2e/t | C34: 609.4 | D34: ökobaudat 2023-I | E34: Bewehrungsstahl | F34: 45407 | G34: Bewehrungsstahl
A35: Emissionsfaktor Magerbeton C8/10 | B35: kg CO2e/m³ | C35: 109 | D35: Ökobilanz Zürich | E35: Magerbeton (unspezifisch) | F35: 45407 | G35: Dichte: 2150 kg/m³
A36: Emissionsfaktor Beton C30/37 | B36: kg CO2e/m³ | C36: 258.4 | D36: ökobaudat 2023-I | E36: Transportbeton C30/37 | F36: 45407 | G36: Dichte: 2306 kg/m³
A37: Emissionsfaktor Beton C50/60 | B37: kg CO2e/m³ | C37: 326.4 | D37: ökobaudat 2023-I | E37: Transportbeton C50/60 | F37: 45407 | G37: Dichte: 2317 kg/m³
A38: Emissionsfaktor Ortbeton C30/37 | B38: kg CO2e/m³ | C38: 258.4 | D38: ökobaudat 2023-I | E38: Transportbeton C30/37 | F38: 45407 | G38: Dichte: 2306 kg/m³
A39: Kanalklinker | B39: kg CO2e/m³ | C39: 531.1 | D39: ökobaudat 2023-I | E39: Fassadenklinker | F39: 45407 | G39: Dichte: 2100 kg/m³
A40: Dämmer (Verfüllen von Hohlräumen) | B40: kg CO2e/m³ | C40: 318.6 | D40: ökobaudat 2023-I | E40: Zementmörtel | F40: 45407 | G40: Dichte: 2000 kg/m³
A42: Rohrleitungen | G42: Spez. Gewicht (kg/m)
A43: Beton, unbewehrt (DN300) | B43: kg CO2e/m | C43: =0.124*G43 -> 30.727988 | D43: ökobaudat 2023-I | E43: Betonrohr, unbewehrt | F43: 45406 | G43: 247.80635
A44: Beton, unbewehrt (DN400) | B44: kg CO2e/m | C44: =0.124*G44 -> 38.034796 | D44: ökobaudat 2023-I | E44: Betonrohr, unbewehrt | F44: 45406 | G44: 306.73222
A45: Beton, unbewehrt (DN500) | B45: kg CO2e/m | C45: =0.124*G45 -> 54.42118 | D45: ökobaudat 2023-I | E45: Betonrohr, unbewehrt | F45: 45406 | G45: 438.88048
A46: Beton, unbewehrt (DN600) | B46: kg CO2e/m | C46: =0.124*G46 -> 73.959153 | D46: ökobaudat 2023-I | E46: Betonrohr, unbewehrt | F46: 45406 | G46: 596.44478
A47: Beton, unbewehrt (DN700) | B47: kg CO2e/m | C47: =0.124*G47 -> 106.1879 | D47: ökobaudat 2023-I | E47: Betonrohr, unbewehrt | F47: 45406 | G47: 856.35401
A48: Beton, unbewehrt (DN800) | B48: kg CO2e/m | C48: =0.124*G48 -> 137.65688 | D48: ökobaudat 2023-I | E48: Betonrohr, unbewehrt | F48: 45406 | G48: 1110.1362
A49: Beton, unbewehrt (DN900) | B49: kg CO2e/m | C49: =0.124*G49 -> 165.32708 | D49: ökobaudat 2023-I | E49: Betonrohr, unbewehrt | F49: 45406 | G49: 1333.2829
A50: Beton, unbewehrt (DN1000) | B50: kg CO2e/m | C50: =0.124*G50 -> 208.28623 | D50: ökobaudat 2023-I | E50: Betonrohr, unbewehrt | F50: 45406 | G50: 1679.7277
A51: Beton, unbewehrt (DN1100) | B51: kg CO2e/m | C51: =0.124*G51 -> 257.77368 | D51: ökobaudat 2023-I | E51: Betonrohr, unbewehrt | F51: 45406 | G51: 2078.82
A52: Beton, unbewehrt (DN1200) | B52: kg CO2e/m | C52: =0.124*G52 -> 282.11407 | D52: ökobaudat 2023-I | E52: Betonrohr, unbewehrt | F52: 45406 | G52: 2275.1135
A53: Beton, unbewehrt (DN1300) | B53: kg CO2e/m | C53: =0.124*G53 -> 372.52526 | D53: ökobaudat 2023-I | E53: Betonrohr, unbewehrt | F53: 45406 | G53: 3004.236
A54: Beton, unbewehrt (DN1400) | B54: kg CO2e/m | C54: =0.124*G54 -> 425.00484 | D54: ökobaudat 2023-I | E54: Betonrohr, unbewehrt | F54: 45406 | G54: 3427.4584
A55: Beton, unbewehrt (DN1500) | B55: kg CO2e/m | C55: =0.124*G55 -> 469.05204 | D55: ökobaudat 2023-I | E55: Betonrohr, unbewehrt | F55: 45406 | G55: 3782.6778
A56: Beton, unbewehrt (DN1800) | B56: kg CO2e/m | C56: =0.124*G56 -> #VALUE! | D56: ökobaudat 2023-I | E56: Betonrohr, unbewehrt | G56: Kein Rohrgewicht zu finden
A57: Beton, unbewehrt (DN2000) | B57: kg CO2e/m | C57: =0.124*G57 -> #VALUE! | D57: ökobaudat 2023-I | E57: Betonrohr, unbewehrt | G57: Kein Rohrgewicht zu finden
A58: Beton, unbewehrt (DN2500) | B58: kg CO2e/m | C58: =0.124*G58 -> #VALUE! | D58: ökobaudat 2023-I | E58: Betonrohr, unbewehrt | G58: Kein Rohrgewicht zu finden
A59: Beton, bewehrt (DN300) | B59: kg CO2e/m | C59: =0.1321*G59 -> 31.118546 | D59: ökobaudat 2023-I | E59: Betonrohr, bewehrt | F59: 45406 | G59: 235.5681
A60: Beton, bewehrt (DN400) | B60: kg CO2e/m | C60: =0.1321*G60 -> 42.650494 | D60: ökobaudat 2023-I | E60: Betonrohr, bewehrt | F60: 45406 | G60: 322.86521
A61: Beton, bewehrt (DN500) | B61: kg CO2e/m | C61: =0.1321*G61 -> 55.217241 | D61: ökobaudat 2023-I | E61: Betonrohr, bewehrt | F61: 45406 | G61: 417.99577
A62: Beton, bewehrt (DN600) | B62: kg CO2e/m | C62: =0.1321*G62 -> 73.629203 | D62: ökobaudat 2023-I | E62: Betonrohr, bewehrt | F62: 45406 | G62: 557.37474
A63: Beton, bewehrt (DN700) | B63: kg CO2e/m | C63: =0.1321*G63 -> 90.91314 | D63: ökobaudat 2023-I | E63: Betonrohr, bewehrt | F63: 45406 | G63: 688.21454
A64: Beton, bewehrt (DN800) | B64: kg CO2e/m | C64: =0.1321*G64 -> 115.94409 | D64: ökobaudat 2023-I | E64: Betonrohr, bewehrt | F64: 45406 | G64: 877.69936
A65: Beton, bewehrt (DN900) | B65: kg CO2e/m | C65: =0.1321*G65 -> 140.58349 | D65: ökobaudat 2023-I | E65: Betonrohr, bewehrt | F65: 45406 | G65: 1064.2202
A66: Beton, bewehrt (DN1000) | B66: kg CO2e/m | C66: =0.1321*G66 -> 161.37269 | D66: ökobaudat 2023-I | E66: Betonrohr, bewehrt | F66: 45406 | G66: 1221.5949
A67: Beton, bewehrt (DN1100) | B67: kg CO2e/m | C67: =0.1321*G67 -> 199.25938 | D67: ökobaudat 2023-I | E67: Betonrohr, bewehrt | F67: 45406 | G67: 1508.398
A68: Beton, bewehrt (DN1200) | B68: kg CO2e/m | C68: =0.1321*G68 -> 223.00382 | D68: ökobaudat 2023-I | E68: Betonrohr, bewehrt | F68: 45406 | G68: 1688.144
A69: Beton, bewehrt (DN1300) | B69: kg CO2e/m | C69: =0.1321*G69 -> 244.79053 | D69: ökobaudat 2023-I | E69: Betonrohr, bewehrt | F69: 45406 | G69: 1853.0699
A70: Beton, bewehrt (DN1400) | B70: kg CO2e/m | C70: =0.1321*G70 -> 294.42359 | D70: ökobaudat 2023-I | E70: Betonrohr, bewehrt | F70: 45406 | G70: 2228.7932
A71: Beton, bewehrt (DN1500) | B71: kg CO2e/m | C71: =0.1321*G71 -> 313.45083 | D71: ökobaudat 2023-I | E71: Betonrohr, bewehrt | F71: 45406 | G71: 2372.8299
A72: Beton, bewehrt (DN1800) | B72: kg CO2e/m | C72: =0.1321*G72 -> 415.0582 | D72: ökobaudat 2023-I | E72: Betonrohr, bewehrt | F72: 45406 | G72: 3142 | H72: Gewichte von HOBAS
A73: Beton, bewehrt (DN2000) | B73: kg CO2e/m | C73: =0.1321*G73 -> 456.5376 | D73: ökobaudat 2023-I | E73: Betonrohr, bewehrt | F73: 45406 | G73: 3456 | H73: Gewichte von HOBAS
A74: Beton, bewehrt (DN2500) | B74: kg CO2e/m | C74: =0.1321*G74 -> 693.9213 | D74: ökobaudat 2023-I | E74: Betonrohr, bewehrt | F74: 45406 | G74: 5253 | H74: Gewichte von HOBAS
A75: Beton, bewehrt (DN2800) | B75: kg CO2e/m | C75: =0.1321*G75 -> 964.8584 | D75: ökobaudat 2023-I | E75: Betonrohr, bewehrt | F75: 45406 | G75: 7304 | H75: Gewichte von HOBAS
A76: Beton, bewehrt (DN3000) | B76: kg CO2e/m | C76: =0.1321*G76 -> 1027.0775 | D76: ökobaudat 2023-I | E76: Betonrohr, bewehrt | F76: 45406 | G76: 7775 | H76: Gewichte von HOBAS
A77: Steinzeug (DN300) | B77: kg CO2e/m | C77: =0.35*G77 -> 18.590354 | D77: ökobaudat 2023-I | E77: Steinzeugrohr | F77: 45406 | G77: 53.115297
A78: Steinzeug (DN400) | B78: kg CO2e/m | C78: =0.35*G78 -> 35.951313 | D78: ökobaudat 2023-I | E78: Steinzeugrohr | F78: 45406 | G78: 102.71804
A79: Steinzeug (DN500) | B79: kg CO2e/m | C79: =0.35*G79 -> 44.000114 | D79: ökobaudat 2023-I | E79: Steinzeugrohr | F79: 45406 | G79: 125.71461
A80: Steinzeug (DN600) | B80: kg CO2e/m | C80: =0.35*G80 -> 59.065297 | D80: ökobaudat 2023-I | E80: Steinzeugrohr | F80: 45406 | G80: 168.75799
A81: Duktiles Gusseisen (DN300) | B81: kg CO2e/m | C81: =1.37*G81 -> 58.654434 | D81: EPD | E81: Ductile iron pipes (vonRoll D) | F81: 45406 | G81: 42.813456
A82: Duktiles Gusseisen (DN400) | B82: kg CO2e/m | C82: =1.37*G82 -> 87.981651 | D82: EPD | E82: Ductile iron pipes (vonRoll D) | F82: 45406 | G82: 64.220183
A83: Duktiles Gusseisen (DN500) | B83: kg CO2e/m | C83: =1.37*G83 -> 121.49847 | D83: EPD | E83: Ductile iron pipes (vonRoll D) | F83: 45406 | G83: 88.685015
A84: Duktiles Gusseisen (DN600) | B84: kg CO2e/m | C84: =1.37*G84 -> 159.20489 | D84: EPD | E84: Ductile iron pipes (vonRoll D) | F84: 45406 | G84: 116.20795
A85: Duktiles Gusseisen (DN700) | B85: kg CO2e/m | C85: =1.37*G85 -> 201.10092 | D85: EPD | E85: Ductile iron pipes (vonRoll D) | F85: 45406 | G85: 146.78899
A86: Duktiles Gusseisen (DN800) | B86: kg CO2e/m | C86: =1.37*G86 -> 255.56575 | D86: EPD | E86: Ductile iron pipes (vonRoll D) | F86: 45406 | G86: 186.54434
A87: Duktiles Gusseisen (DN900) | B87: kg CO2e/m | C87: =1.37*G87 -> 310.03058 | D87: EPD | E87: Ductile iron pipes (vonRoll D) | F87: 45406 | G87: 226.29969
A88: Duktiles Gusseisen (DN1000) | B88: kg CO2e/m | C88: =1.37*G88 -> 364.49541 | D88: EPD | E88: Ductile iron pipes (vonRoll D) | F88: 45406 | G88: 266.05505
A89: PVC-U (DN300) | B89: kg CO2e/m | C89: =2.563*G89 -> 58.008061 | D89: ökobaudat 2023-I | E89: Abwasserrohr PVC | F89: 45406 | G89: 22.632876
A90: PVC-U (DN400) | B90: kg CO2e/m | C90: =2.563*G90 -> 87.012091 | D90: ökobaudat 2023-I | E90: Abwasserrohr PVC | F90: 45406 | G90: 33.949314
A91: PVC-U (DN500) | B91: kg CO2e/m | C91: =2.563*G91 -> 135.34913 | D91: ökobaudat 2023-I | E91: Abwasserrohr PVC | F91: 45406 | G91: 52.80887
A92: PVC-U (DN600) | B92: kg CO2e/m | C92: =2.563*G92 -> 217.52572 | D92: ökobaudat 2023-I | E92: Abwasserrohr PVC | F92: 45406 | G92: 84.871524
A93: PVC-U (DN700) | B93: kg CO2e/m | C93: =2.563*G93 -> 290.03128 | D93: ökobaudat 2023-I | E93: Abwasserrohr PVC | F93: 45406 | G93: 113.16086
A94: PVC-U (DN800) | B94: kg CO2e/m | C94: =2.563*G94 -> 357.70134 | D94: ökobaudat 2023-I | E94: Abwasserrohr PVC | F94: 45406 | G94: 139.56353
A95: PP (DN300) | B95: kg CO2e/m | C95: =2.475*G95 -> 19.601622 | D95: ökobaudat 2023-I | E95: Abwasserrohr PP | F95: 45406 | G95: 7.9198473
A96: PP (DN400) | B96: kg CO2e/m | C96: =2.475*G96 -> 35.273473 | D96: ökobaudat 2023-I | E96: Abwasserrohr PP | F96: 45406 | G96: 14.251908
A97: PP (DN500) | B97: kg CO2e/m | C97: =2.475*G97 -> 54.006011 | D97: ökobaudat 2023-I | E97: Abwasserrohr PP | F97: 45406 | G97: 21.820611
A98: PP (DN600) | B98: kg CO2e/m | C98: =2.475*G98 -> 74.032729 | D98: ökobaudat 2023-I | E98: Abwasserrohr PP | F98: 45406 | G98: 29.912214
A99: PP (DN700) | B99: kg CO2e/m | C99: =2.475*G99 -> 118.8 | D99: ökobaudat 2023-I | E99: Abwasserrohr PP | F99: 45406 | G99: 48
A100: PP (DN800) | B100: kg CO2e/m | C100: =2.475*G100 -> 148.0749 | D100: ökobaudat 2023-I | E100: Abwasserrohr PP | F100: 45406 | G100: 59.828244
A101: GFK (DN300) | B101: kg CO2e/m | C101: =1.57*G101 -> 23.831292 | D101: ökobaudat 2023-I | E101: Abwasserrohr GFK | F101: 45406 | G101: 15.179167
A102: GFK (DN400) | B102: kg CO2e/m | C102: =1.57*G102 -> 41.964792 | D102: ökobaudat 2023-I | E102: Abwasserrohr GFK | F102: 45406 | G102: 26.729167
A103: GFK (DN500) | B103: kg CO2e/m | C103: =1.57*G103 -> 63.722375 | D103: ökobaudat 2023-I | E103: Abwasserrohr GFK | F103: 45406 | G103: 40.5875
A104: GFK (DN600) | B104: kg CO2e/m | C104: =1.57*G104 -> 82.372667 | D104: ökobaudat 2023-I | E104: Abwasserrohr GFK | F104: 45406 | G104: 52.466667
...

Sheet Auswertung
A5: CO2e pro kg | D5: CO2e pro m
E6: 300 | F6: 400 | G6: 500 | H6: 600 | I6: 700 | J6: 800 | K6: 900 | L6: 1000 | M6: 1100 | N6: 1200 | O6: 1300 | P6: 1400 | Q6: 1500 | R6: 1800 | S6: 2000 | T6: 2500 | U6: 2800 | V6: 3000
A7: Beton unbewehrt | B7: 0.124 | D7: Beton unbewehrt | E7: =Emissionsfaktoren!$C$43 -> 30.727988 | F7: =Emissionsfaktoren!$C$44 -> 38.034796 | G7: =Emissionsfaktoren!$C$45 -> 54.42118 | H7: =Emissionsfaktoren!$C$46 -> 73.959153 | I7: =Emissionsfaktoren!$C$47 -> 106.1879 | J7: =Emissionsfaktoren!$C$48 -> 137.65688 | K7: =Emissionsfaktoren!$C$49 -> 165.32708 | L7: =Emissionsfaktoren!$C$50 -> 208.28623 | M7: =Emissionsfaktoren!$C$51 -> 257.77368 | N7: =Emissionsfaktoren!$C$52 -> 282.11407 | O7: =Emissionsfaktoren!$C$53 -> 372.52526 | P7: =Emissionsfaktoren!$C$54 -> 425.00484 | Q7: =Emissionsfaktoren!$C$55 -> 469.05204
A8: Beton bewehrt | B8: 0.132 | D8: Beton bewehrt | E8: =Emissionsfaktoren!$C$59 -> 31.118546 | F8: =Emissionsfaktoren!$C$60 -> 42.650494 | G8: =Emissionsfaktoren!$C$61 -> 55.217241 | H8: =Emissionsfaktoren!$C$62 -> 73.629203 | I8: =Emissionsfaktoren!$C$63 -> 90.91314 | J8: =Emissionsfaktoren!$C$64 -> 115.94409 | K8: =Emissionsfaktoren!$C$65 -> 140.58349 | L8: =Emissionsfaktoren!$C$66 -> 161.37269 | M8: =Emissionsfaktoren!$C$67 -> 199.25938 | N8: =Emissionsfaktoren!$C$68 -> 223.00382 | O8: =Emissionsfaktoren!$C$69 -> 244.79053 | P8: =Emissionsfaktoren!$C$70 -> 294.42359 | Q8: =Emissionsfaktoren!$C$71 -> 313.45083 | R8: =Emissionsfaktoren!$C$72 -> 415.0582 | S8: =Emissionsfaktoren!$C$73 -> 456.5376 | T8: =Emissionsfaktoren!$C$74 -> 693.9213 | U8: =Emissionsfaktoren!$C$75 -> 964.8584 | V8: =Emissionsfaktoren!$C$76 -> 1027.0775
A9: Steinzeug | B9: 0.35 | D9: Steinzeug | E9: =Emissionsfaktoren!$C$77 -> 18.590354 | F9: =Emissionsfaktoren!$C$78 -> 35.951313 | G9: =Emissionsfaktoren!$C$79 -> 44.000114 | H9: =Emissionsfaktoren!$C$80 -> 59.065297
A10: Duktiles Gusseisen | B10: 1.37 | D10: Duktiles Gusseisen | E10: =Emissionsfaktoren!$C$81 -> 58.654434 | F10: =Emissionsfaktoren!$C$82 -> 87.981651 | G10: =Emissionsfaktoren!$C$83 -> 121.49847 | H10: =Emissionsfaktoren!$C$84 -> 159.20489 | I10: =Emissionsfaktoren!$C$85 -> 201.10092 | J10: =Emissionsfaktoren!$C$86 -> 255.56575 | K10: =Emissionsfaktoren!$C$87 -> 310.03058 | L10: =Emissionsfaktoren!$C$88 -> 364.49541
A11: PVC-U | B11: 2.563 | D11: PVC-U | E11: =Emissionsfaktoren!$C$89 -> 58.008061 | F11: =Emissionsfaktoren!$C$90 -> 87.012091 | G11: =Emissionsfaktoren!$C$91 -> 135.34913 | H11: =Emissionsfaktoren!$C$92 -> 217.52572 | I11: =Emissionsfaktoren!$C$93 -> 290.03128 | J11: =Emissionsfaktoren!$C$94 -> 357.70134
A12: PP | B12: 2.475 | D12: PP | E12: =Emissionsfaktoren!$C$95 -> 19.601622 | F12: =Emissionsfaktoren!$C$96 -> 35.273473 | G12: =Emissionsfaktoren!$C$97 -> 54.006011 | H12: =Emissionsfaktoren!$C$98 -> 74.032729 | I12: =Emissionsfaktoren!$C$99 -> 118.8 | J12: =Emissionsfaktoren!$C$100 -> 148.0749
A13: GFK | B13: 1.57 | D13: GFK | E13: =Emissionsfaktoren!$C$101 -> 23.831292 | F13: =Emissionsfaktoren!$C$102 -> 41.964792 | G13: =Emissionsfaktoren!$C$103 -> 63.722375 | H13: =Emissionsfaktoren!$C$104 -> 82.372667 | I13: =Emissionsfaktoren!$C$105 -> 111.90175 | J13: =Emissionsfaktoren!$C$106 -> 146.09504 | K13: =Emissionsfaktoren!$C$107 -> 183.39563 | L13: =Emissionsfaktoren!$C$108 -> 225.36042 | M13: =Emissionsfaktoren!$C$109 -> 270.4325 | N13: =Emissionsfaktoren!$C$110 -> 320.16879 | O13: =Emissionsfaktoren!$C$111 -> 373.66 | P13: =Emissionsfaktoren!$C$112 -> 433.62746 | Q13: =Emissionsfaktoren!$C$113 -> 494.24254
A14: PP schwer | B14: 2.475 | D14: PP schwer | E14: =Emissionsfaktoren!$C$114 -> 72.389027 | F14: =Emissionsfaktoren!$C$115 -> 116.0605 | G14: =Emissionsfaktoren!$C$116 -> 184.92595 | H14: =Emissionsfaktoren!$C$117 -> 308.94046
C34: IFEU | D34: ecoinvent | E34: KWB
B35: Monoverbrennung | C35: =Emissionsfaktoren!I149 -> 810 | E35: =Emissionsfaktoren!K149 -> 200
B36: Co-Verbrennung Kraftwerk | C36: =Emissionsfaktoren!I150 -> 116 | D36: =Emissionsfaktoren!J150 -> 80 | E36: =Emissionsfaktoren!K150 -> 56
B37: Co-Verbrennung Zementwerk | C37: =Emissionsfaktoren!I151 -> 246 | E37: =Emissionsfaktoren!K151 -> 27
B38: Landwirtschaft | C38: =Emissionsfaktoren!I152 -> 0 | D38: =Emissionsfaktoren!J152 -> 285.33333 | E38: =Emissionsfaktoren!K152 -> 214
